From mboxrd@z Thu Jan 1 00:00:00 1970 Return-Path: Received: from mails.dpdk.org (mails.dpdk.org [217.70.189.124]) by inbox.dpdk.org (Postfix) with ESMTP id 3043F4889E for ; Fri, 3 Oct 2025 13:34:22 +0200 (CEST) Received: from mails.dpdk.org (localhost [127.0.0.1]) by mails.dpdk.org (Postfix) with ESMTP id 2AC9E4028B; Fri, 3 Oct 2025 13:34:22 +0200 (CEST) Received: from mail-pg1-f226.google.com (mail-pg1-f226.google.com [209.85.215.226]) by mails.dpdk.org (Postfix) with ESMTP id 71ED740262 for ; Fri, 3 Oct 2025 13:34:20 +0200 (CEST) Received: by mail-pg1-f226.google.com with SMTP id 41be03b00d2f7-b550eff972eso1440352a12.3 for ; Fri, 03 Oct 2025 04:34:20 -0700 (PDT) DKIM-Signature: v=1; a=rsa-sha256; c=relaxed/relaxed; d=iol.unh.edu; s=unh-iol; t=1759491259; x=1760096059; darn=dpdk.org; h=references:in-reply-to:cc:to:from:subject:message-id:date:from:to :cc:subject:date:message-id:reply-to; bh=8zMN2EgPHupemzVDx32Gcdf+jExSchVgCzpObB99MfQ=; b=My9oHNesj9Z1mcouKhCmehIY6DtEVus9CqAv7knHXyH2TjUpqV1u3c7xWrPMgbi299 T6NkWpfi10pypKPxXBmBUqPkTBikgiBkGYj/pxx01Lnz08DWHlBI423m2RLi5bDHolXi sODVM/obenwGQAnx5VQkpAx+R7GDC8Je+NGqI= X-Google-DKIM-Signature: v=1; a=rsa-sha256; c=relaxed/relaxed; d=1e100.net; s=20230601; t=1759491259; x=1760096059; h=references:in-reply-to:cc:to:from:subject:message-id:date :x-gm-message-state:from:to:cc:subject:date:message-id:reply-to; bh=8zMN2EgPHupemzVDx32Gcdf+jExSchVgCzpObB99MfQ=; b=NxymcJjlZXcTRkPLmxo/Ieq6j8b2cQH8xXCNNippCsy6Bli97+jItdz4g0kRD+Q7d3 mkpcnLdHxhZ8NjBgWxovI8X1cp1xHkM6vWrd7VXkxck+6Ii25/zdiI80IbfJPh5VMLfe 0om3aevTbzjhv6qEhtWwzEHPnAeM1ULqd7XnrE1E4fDTGgT+ms6Wvj7GSIlVyKb34MaI MaxT31NLdIRX8rcp+6TRVTfFvMkzjWEJHPoS6OxEKuFyP7u1H3D4y78VQ01Kx6Hs9S6l kpKveI5CVG4rqoYsm9GqAFUsycZuoUQeJLyB8a4B3kV2k3rq5Id7E10SgVj2oKOgOCte 0dbw== X-Gm-Message-State: AOJu0Yxr9/EEfaJhreh+MewBFuG1mbqKF4OkwponSZk2vPMNkdEBwPY0 p3J3DtaCboF1Rf6rTASSFjnRiXXpos+HKy7EhsPvm3LHIxI3nQMQoEEHQP8XYGcgwmb4m5pBwaI 6NajUAGvnPh5+TNU473ziHHgZntCGuIcPRbuZJLixj7y1 X-Gm-Gg: ASbGnctrJUq5Lym+WYrkwyXxDEcQIMRI1UyYgFaj2zLeIzol7531EWrISEiZpUwXJ5H 4OOX0rNO6pQVLSgka5WSuNfmINnHb2SijG3tO5xfU8JdSah2o2KIQPOyvRMFtdD0+jPjCMZBp6O su09ypLeMgRlVW/NLnn3HRg0bViowVCQImPt+UU0yphtdWXLe5kZfcn2KQ4KMBGj4pheb/q5Mlh fX9HT48EFJOIBTn2NqdvlknAyH0yefWhDyj/jGLw3c57sEaR9nuV8scFWXh7fLxaInjqHxokzFb Z5Z8PoVFrlK2/jp5EmQbyPv42dbyJYFg/PWpTJ1mNYod01pLYL1nzbEMVD9uLNf7RFzeQkJZ7Nl g1w== X-Google-Smtp-Source: AGHT+IEeLvRlUGYsTDyNuWh8ZZCwnYfIkQ1RnxzC9+4ZPvygJGD7SLCLnOSapO3ya1GTcYooyNhfBoEZyrik X-Received: by 2002:a17:903:2c06:b0:28e:7fce:667e with SMTP id d9443c01a7336-28e9a566771mr31848875ad.17.1759491259524; Fri, 03 Oct 2025 04:34:19 -0700 (PDT) Received: from postal.iol.unh.edu (postal.iol.unh.edu. [132.177.123.84]) by smtp-relay.gmail.com with ESMTPS id d9443c01a7336-28e8d180ad6sm3485865ad.48.2025.10.03.04.34.19 (version=TLS1_2 cipher=ECDHE-ECDSA-AES128-GCM-SHA256 bits=128/128); Fri, 03 Oct 2025 04:34:19 -0700 (PDT) X-Relaying-Domain: iol.unh.edu Date: Fri, 03 Oct 2025 04:34:19 -0700 (PDT) Message-ID: <68dfb4bb.170a0220.39e5c0.54d2SMTPIN_ADDED_MISSING@mx.google.com> Received: from [172.21.0.4] (unknown [172.18.0.240]) by postal.iol.unh.edu (Postfix) with ESMTP id 020006051830; Fri, 3 Oct 2025 07:34:19 -0400 (EDT) Subject: |SUCCESS| pw157008-157009 [PATCH] [v3,2/2] crypto/ipsec-mb: use cons From: dpdklab@iol.unh.edu To: Test Report Cc: dpdk-test-reports@iol.unh.edu In-Reply-To: <20250926160209.56496-2-kai.ji@intel.com> References: <20250926160209.56496-2-kai.ji@intel.com> Content-Type: text/plain X-BeenThere: test-report@dpdk.org X-Mailman-Version: 2.1.29 Precedence: list List-Id: automatic DPDK test reports List-Unsubscribe: , List-Archive: List-Post: List-Help: List-Subscribe: , Errors-To: test-report-bounces@dpdk.org Test-Label: iol-compile-arm64-testing Test-Status: SUCCESS http://dpdk.org/patch/157009 _Testing PASS_ Submitter: Kai Ji Date: Friday, September 26 2025 16:02:09 DPDK git baseline: Repo:dpdk Branch: master CommitID:1d627ea13aeec2bcccf27246e6be2508370d171e 157008-157009 --> testing pass Upstream job id: Generic-DPDK-Compile-Meson#430527 Test environment and result as below: +------------------------------+--------------------+ | Environment | dpdk_meson_compile | +==============================+====================+ | Ubuntu 20.04 | PASS | +------------------------------+--------------------+ | Debian GNU/Linux 12 | PASS | +------------------------------+--------------------+ | Fedora Linux 42 | PASS | +------------------------------+--------------------+ | Red Hat Enterprise Linux 9.5 | PASS | +------------------------------+--------------------+ | Ubuntu 22.04 | PASS | +------------------------------+--------------------+ | CentOS Stream 9 | PASS | +------------------------------+--------------------+ | Ubuntu 24.04 | PASS | +------------------------------+--------------------+ | CentOS Stream 10 | PASS | +------------------------------+--------------------+ Ubuntu 20.04 Kernel: 5.15 Compiler: aarch64-linux-gnu-gcc gcc (Ubuntu 9.4.0-1ubuntu1~20.04.2) 9.4.0 Debian GNU/Linux 12 Kernel: 5.4 Compiler: gcc gcc (Debian 12.2.0-14+deb12u1) 12.2.0 Fedora Linux 42 Kernel: 5.4 Compiler: clang gcc (GCC) 15.2.1 20250808 (Red Hat 15.2.1-1) Red Hat Enterprise Linux 9.5 Kernel: 5.4 Compiler: gcc gcc (GCC) 11.5.0 20240719 (Red Hat 11.5.0-2) Ubuntu 22.04 Kernel: 5.4 Compiler: gcc gcc (Ubuntu 11.4.0-1ubuntu1~22.04) 11.4.0 CentOS Stream 9 Kernel: 5.4 Compiler: gcc gcc (GCC) 11.5.0 20240719 (Red Hat 11.5.0-11) Ubuntu 24.04 Kernel: 5.4 Compiler: gcc gcc (Ubuntu 13.3.0-6ubuntu2~24.04) 13.3.0 CentOS Stream 10 Kernel: 5.4 Compiler: gcc gcc (GCC) 14.2.1 20250110 (Red Hat 14.2.1-8) To view detailed results, visit: https://lab.dpdk.org/results/dashboard/patchsets/34161/ UNH-IOL DPDK Community Lab To manage your email subscriptions, visit: https://lab.dpdk.org/results/dashboard/preferences/subscriptions/