From mboxrd@z Thu Jan 1 00:00:00 1970 Return-Path: Received: from mails.dpdk.org (mails.dpdk.org [217.70.189.124]) by inbox.dpdk.org (Postfix) with ESMTP id BD57F4889E for ; Fri, 3 Oct 2025 13:38:47 +0200 (CEST) Received: from mails.dpdk.org (localhost [127.0.0.1]) by mails.dpdk.org (Postfix) with ESMTP id B758840262; Fri, 3 Oct 2025 13:38:47 +0200 (CEST) Received: from mail-io1-f100.google.com (mail-io1-f100.google.com [209.85.166.100]) by mails.dpdk.org (Postfix) with ESMTP id BDAFD40262 for ; Fri, 3 Oct 2025 13:38:46 +0200 (CEST) Received: by mail-io1-f100.google.com with SMTP id ca18e2360f4ac-9379a062ca8so69866439f.2 for ; Fri, 03 Oct 2025 04:38:46 -0700 (PDT) DKIM-Signature: v=1; a=rsa-sha256; c=relaxed/relaxed; d=iol.unh.edu; s=unh-iol; t=1759491526; x=1760096326; darn=dpdk.org; h=references:in-reply-to:cc:to:from:subject:message-id:date:from:to :cc:subject:date:message-id:reply-to; bh=+6hE9fXgvvGkUVuD+j6gjwcc1RAzXumCvh0aYVgc5zE=; b=RONcW7cejHH+8l2520PzIawa1HJXKtu9JDPVAbyKLXBhL6+qs84hXlQOD/thx9iWc3 GA/AnZvehCJUubM55YOweMpfkYXLwaZaxqTu/76dZSc8BxC6NM7MmweCwg9tCI/FPpMs 8lZi9EujHK58If+NcqJt3aOIPzU3Qr5yCulbo= X-Google-DKIM-Signature: v=1; a=rsa-sha256; c=relaxed/relaxed; d=1e100.net; s=20230601; t=1759491526; x=1760096326; h=references:in-reply-to:cc:to:from:subject:message-id:date :x-gm-message-state:from:to:cc:subject:date:message-id:reply-to; bh=+6hE9fXgvvGkUVuD+j6gjwcc1RAzXumCvh0aYVgc5zE=; b=Hs6P9XJ25Tu8I8Ny+OKfl89vSX4NFfywfuXJR77guj9kEa42gXn7yqcfzEugqDzuDI Uf3D8r+BGsI5oBjmobWsGMnO84M4FIsxlc3TUNdgo2Xqk6+eKxzmD1TMEdttTrVaJ1Ju WskHvu0oCiAeRpxOu+ZznWQr2USpvHwMBMI/24l8W4XUXVkRKc+Pl6ngZYZXDnRdMMYh ivB4IQUXjS2JYAjneCZ2tB1G5/Da9wLEUcpCnohCv/OFpiFEcbsVF0OTeMJnUURiWVRj uDj0tOZRbIaq4rhTCk34PfJJJ7KFnRJ1lWpW0U+jhqQCusqMYYgSlB40r9FfinBJZnpy yZTg== X-Gm-Message-State: AOJu0YxAiMzn8lF6HGxm4x8lfyDobhIeai1gZwxI4V2bJigfsb8n1dJW seisvqkCsdFwUljQ/2SwdcZw//FL0rG+t7DZ3cnk3nRnTrRW4qrCtZLoGpWcnn4qz+j2+3NuRzP MqhIzqUX3INpcG8YUmg3BuJmFQWIF9V+SqmJ4qIB9cVQiem7y5xDxxDeDRlCM X-Gm-Gg: ASbGnctNincm+R/aB0ygO5v7wjXga5aWdOQfMyVABZM3lgJ27D53Jp+nBtW110Y+30C NJEh1iF2+qesDSODALfrF7CUu/vqo1B01f3tomT9xBNWk61ZV7otbdDaKY1bEvrAdaFekyp8lEK B3gyfVeslItwSAor3zmuYPzroY/hcns8md4qMyjWyD9SPCtkdy5ZzLs6nFwFCYx4YFvZ2KJXgah JYIf3jXAzCdQJQ5O4sC7Sdof4VtKtx8+e/2jAXg42tjShYaa2AQjkaxJ1Ivh/ekb7KrgTUlTQ4b 3OFR0IBPamhMkCNv7ylBhI/oa3DUvLZFnSLx66/9tDZapAAemTNpyTc= X-Google-Smtp-Source: AGHT+IH1qE/iQ3l6gbBkWB4RDpCPZqXmwbnoPJfYdfVdlCUFlatn3I7svuoG81Z3r70EZKhadUa6HmhANl09 X-Received: by 2002:a05:6602:640e:b0:921:2f68:fa0 with SMTP id ca18e2360f4ac-93b969e84f9mr284658339f.2.1759491526076; Fri, 03 Oct 2025 04:38:46 -0700 (PDT) Received: from postal.iol.unh.edu (postal.iol.unh.edu. [2606:4100:3880:1234::84]) by smtp-relay.gmail.com with ESMTPS id 8926c6da1cb9f-57b5eaa9ad1sm357024173.10.2025.10.03.04.38.46 (version=TLS1_2 cipher=ECDHE-ECDSA-AES128-GCM-SHA256 bits=128/128); Fri, 03 Oct 2025 04:38:46 -0700 (PDT) X-Relaying-Domain: iol.unh.edu Date: Fri, 03 Oct 2025 04:38:46 -0700 (PDT) Message-ID: <68dfb5c6.050a0220.7999c.5d6eSMTPIN_ADDED_MISSING@mx.google.com> Received: from [172.21.0.5] (unknown [172.18.0.240]) by postal.iol.unh.edu (Postfix) with ESMTP id A723F6051830; Fri, 3 Oct 2025 07:38:45 -0400 (EDT) Subject: |SUCCESS| pw157251-157252 [PATCH] [v2,2/2] net/iavf: add restore com From: dpdklab@iol.unh.edu To: Test Report Cc: dpdk-test-reports@iol.unh.edu, Bruce Richardson In-Reply-To: <20251003102359.823028-2-ciara.loftus@intel.com> References: <20251003102359.823028-2-ciara.loftus@intel.com> Content-Type: text/plain X-BeenThere: test-report@dpdk.org X-Mailman-Version: 2.1.29 Precedence: list List-Id: automatic DPDK test reports List-Unsubscribe: , List-Archive: List-Post: List-Help: List-Subscribe: , Errors-To: test-report-bounces@dpdk.org Test-Label: iol-compile-amd64-testing Test-Status: SUCCESS http://dpdk.org/patch/157252 _Testing PASS_ Submitter: Loftus, Ciara Date: Friday, October 03 2025 10:23:59 DPDK git baseline: Repo:dpdk-next-net-intel Branch: master CommitID:e7d8cc7ef4df3552575525697079d3c957cfcdaf 157251-157252 --> testing pass Upstream job id: Windows-Compile-DPDK-VS#7094 Test environment and result as below: +---------------------+--------------------+-------------------+ | Environment | dpdk_meson_compile | dpdk_msvc_compile | +=====================+====================+===================+ | Ubuntu 20.04 | PASS | SKIPPED | +---------------------+--------------------+-------------------+ | FreeBSD 14.2 | PASS | SKIPPED | +---------------------+--------------------+-------------------+ | Windows Server 2022 | SKIPPED | PASS | +---------------------+--------------------+-------------------+ Ubuntu 20.04 Kernel: 4.19 Compiler: gcc gcc (Ubuntu 9.4.0-1ubuntu1~20.04.2) 9.4.0 FreeBSD 14.2 Kernel: 14.2-RELEASE Compiler: clang 18.1.6 Windows Server 2022 Kernel: 10.0.20348.2031 Compiler: clang 15.0.7, gcc 14.1.0 (MinGW), and MSVC VS 19.39.33521 To view detailed results, visit: https://lab.dpdk.org/results/dashboard/patchsets/34207/ UNH-IOL DPDK Community Lab To manage your email subscriptions, visit: https://lab.dpdk.org/results/dashboard/preferences/subscriptions/