automatic DPDK test reports
 help / color / mirror / Atom feed
From: dpdklab@iol.unh.edu
To: Test Report <test-report@dpdk.org>
Cc: dpdk-test-reports@iol.unh.edu,
	Bruce Richardson <bruce.richardson@intel.com>
Subject: |SUCCESS| pw157249-157250 [PATCH] [v6,2/2] net/idpf: enable AVX2 for
Date: Fri, 03 Oct 2025 04:40:21 -0700 (PDT)	[thread overview]
Message-ID: <68dfb625.050a0220.aac9a.18daSMTPIN_ADDED_MISSING@mx.google.com> (raw)
In-Reply-To: <20251003094950.2818019-3-shaiq.wani@intel.com>

Test-Label: iol-compile-amd64-testing
Test-Status: SUCCESS
http://dpdk.org/patch/157250

_Testing PASS_

Submitter: Shaiq Wani <shaiq.wani@intel.com>
Date: Friday, October 03 2025 09:49:50 
DPDK git baseline: Repo:dpdk-next-net-intel
  Branch: master
  CommitID:e7d8cc7ef4df3552575525697079d3c957cfcdaf

157249-157250 --> testing pass

Upstream job id: Windows-Compile-DPDK-Native#31396

Test environment and result as below:

+---------------------+--------------------+-------------------------+-------------------+----------------------+
|     Environment     | dpdk_meson_compile | dpdk_llvm_clang_compile | dpdk_msvc_compile | dpdk_mingw64_compile |
+=====================+====================+=========================+===================+======================+
| Ubuntu 20.04        | PASS               | SKIPPED                 | SKIPPED           | SKIPPED              |
+---------------------+--------------------+-------------------------+-------------------+----------------------+
| FreeBSD 14.2        | PASS               | SKIPPED                 | SKIPPED           | SKIPPED              |
+---------------------+--------------------+-------------------------+-------------------+----------------------+
| Windows Server 2022 | SKIPPED            | PASS                    | PASS              | PASS                 |
+---------------------+--------------------+-------------------------+-------------------+----------------------+


Ubuntu 20.04
	Kernel: 4.19
	Compiler: gcc gcc (Ubuntu 9.4.0-1ubuntu1~20.04.2) 9.4.0

FreeBSD 14.2
	Kernel: 14.2-RELEASE
	Compiler: clang 18.1.6

Windows Server 2022
	Kernel: 10.0.20348.2031
	Compiler: clang 15.0.7, gcc 14.1.0 (MinGW), and MSVC VS 19.39.33521

To view detailed results, visit:
https://lab.dpdk.org/results/dashboard/patchsets/34206/

UNH-IOL DPDK Community Lab

To manage your email subscriptions, visit: 
https://lab.dpdk.org/results/dashboard/preferences/subscriptions/

      parent reply	other threads:[~2025-10-03 11:40 UTC|newest]

Thread overview: 21+ messages / expand[flat|nested]  mbox.gz  Atom feed  top
     [not found] <20251003094950.2818019-3-shaiq.wani@intel.com>
2025-10-03  9:15 ` |SUCCESS| pw157249-157250 [PATCH v6 2/2] net/idpf: enable AVX2 for split queue Tx qemudev
2025-10-03  9:20 ` qemudev
2025-10-03  9:51 ` |SUCCESS| pw157250 " checkpatch
2025-10-03 10:19 ` |PENDING| pw157249-157250 [PATCH] [v6,2/2] net/idpf: enable AVX2 for dpdklab
2025-10-03 10:21 ` dpdklab
2025-10-03 10:23 ` |SUCCESS| " dpdklab
2025-10-03 10:27 ` |PENDING| " dpdklab
2025-10-03 10:28 ` |SUCCESS| " dpdklab
2025-10-03 10:31 ` |PENDING| " dpdklab
2025-10-03 10:41 ` |SUCCESS| " dpdklab
2025-10-03 10:42 ` dpdklab
2025-10-03 10:45 ` dpdklab
2025-10-03 10:56 ` dpdklab
2025-10-03 10:57 ` dpdklab
2025-10-03 11:03 ` dpdklab
2025-10-03 11:08 ` dpdklab
2025-10-03 11:14 ` |SUCCESS| pw157250 [PATCH v6 2/2] net/idpf: enable AVX2 for split queue Tx 0-day Robot
2025-10-03 11:14 ` 0-day Robot
2025-10-03 11:25 ` |SUCCESS| pw157249-157250 [PATCH] [v6,2/2] net/idpf: enable AVX2 for dpdklab
2025-10-03 11:26 ` dpdklab
2025-10-03 11:40 ` dpdklab [this message]

Reply instructions:

You may reply publicly to this message via plain-text email
using any one of the following methods:

* Save the following mbox file, import it into your mail client,
  and reply-to-all from there: mbox

  Avoid top-posting and favor interleaved quoting:
  https://en.wikipedia.org/wiki/Posting_style#Interleaved_style

* Reply using the --to, --cc, and --in-reply-to
  switches of git-send-email(1):

  git send-email \
    --in-reply-to=68dfb625.050a0220.aac9a.18daSMTPIN_ADDED_MISSING@mx.google.com \
    --to=dpdklab@iol.unh.edu \
    --cc=bruce.richardson@intel.com \
    --cc=dpdk-test-reports@iol.unh.edu \
    --cc=test-report@dpdk.org \
    /path/to/YOUR_REPLY

  https://kernel.org/pub/software/scm/git/docs/git-send-email.html

* If your mail client supports setting the In-Reply-To header
  via mailto: links, try the mailto: link
Be sure your reply has a Subject: header at the top and a blank line before the message body.
This is a public inbox, see mirroring instructions
for how to clone and mirror all data and code used for this inbox;
as well as URLs for NNTP newsgroup(s).