From mboxrd@z Thu Jan 1 00:00:00 1970 Return-Path: Received: from mails.dpdk.org (mails.dpdk.org [217.70.189.124]) by inbox.dpdk.org (Postfix) with ESMTP id 2D0E14889E for ; Fri, 3 Oct 2025 13:40:23 +0200 (CEST) Received: from mails.dpdk.org (localhost [127.0.0.1]) by mails.dpdk.org (Postfix) with ESMTP id 2854D40262; Fri, 3 Oct 2025 13:40:23 +0200 (CEST) Received: from mail-yx1-f99.google.com (mail-yx1-f99.google.com [74.125.224.99]) by mails.dpdk.org (Postfix) with ESMTP id A113040262 for ; Fri, 3 Oct 2025 13:40:22 +0200 (CEST) Received: by mail-yx1-f99.google.com with SMTP id 956f58d0204a3-633bca5451cso2275082d50.1 for ; Fri, 03 Oct 2025 04:40:22 -0700 (PDT) DKIM-Signature: v=1; a=rsa-sha256; c=relaxed/relaxed; d=iol.unh.edu; s=unh-iol; t=1759491622; x=1760096422; darn=dpdk.org; h=references:in-reply-to:cc:to:from:subject:message-id:date:from:to :cc:subject:date:message-id:reply-to; bh=2my+1v9nUUeFC3xoH2T4dA/lHnWGY/2cTIqg65g2124=; b=Kjd8Uw288EQtGuffHQGtOMLLv9M5sP+3sl0hC7DsK8g6lWzYsgnhV8pS39W+9Z0WMB Vi2rZMtDEzn9SfL8DotlPjObgY2MLGORnHtmIgACHuF/q8p+6zogyFPS0jb421s7LtXq 9DhtIaKxu16+N3sEFcKdrPKy7B8Bz3NLEjYiU= X-Google-DKIM-Signature: v=1; a=rsa-sha256; c=relaxed/relaxed; d=1e100.net; s=20230601; t=1759491622; x=1760096422; h=references:in-reply-to:cc:to:from:subject:message-id:date :x-gm-message-state:from:to:cc:subject:date:message-id:reply-to; bh=2my+1v9nUUeFC3xoH2T4dA/lHnWGY/2cTIqg65g2124=; b=vY8QISmwfWVubkAK86UdQZq+UHxEAqFhRwNnbxWN8bJHNR6RlPheoL1GNHDlGnV/Tu xjnOi5zEehG3ir3spmh7pF2MokbuA5EKdyLy6W01rvCxPDWDyk4YvHYzlo6D0VfOKO4u BG+fZEHzrm0qIk6bNXD3sqWqx1M8kKl/jVxZWDDcUNKqnhuaW1qmszBIVnY8UpROqNaA wK241xydSYf/eCBvZ704HAmIvB6Ihv+aGqpeJ6pxrkNvEgA3xWg7dT/NeUXS5sY0/Igy HzFzp9pTS5hDDPYr0SR227ghtiCcH0lWND47oAvFvq0BaIz2Ht1moy6r83+v7pcojUOe rtQg== X-Gm-Message-State: AOJu0YyajvWUlID5VkBO0F1SsiImF2OLebfriL7UNKLHm3bfS1FR7D8C n21dFYC6gjEEaojPZc4HdHvgtPHpai127f8gOQSgL8u/Tou9UjLv6dV6HZIcCWtFTBx2l66HTkn JdsHEwEfvTsZ2YIDb5iKNdxTihj4+DvmxuO53WCm0sZHf X-Gm-Gg: ASbGncvWqYZldQYlv6qYQoY99lDeWnIf0A63XItX26fiPxVw5UYGGs0HFkUZflLCSgu aGX4ekfqxOtlQeL091YJFi9oZRwojWjzUYIUYQFkf4G5lkJC5DuJVxks2uXq1hAha7i2cAK0a0M u1G/iQ0w0rsaDR57r5sjifxq+/zPAGaddQ7M4WY4xsU9r5QMB/xiPtSYLUTbBDo1MRUZ7tW0G4Y NcW8tSNCIaTPjV+XDS/gv5pipRTvCZPKusxoOfMFCmkHiUZwKaAcXm0T12YllHLUeoRQISZS3vF JTqEM7vUQAuST8ulCe3PeQFmNUxX0flHT/RFdZD9Owf7NZlkIHHZrXRK/LQah3koR/9kp8K6U46 BsA== X-Google-Smtp-Source: AGHT+IFDmFV620klQFpDZf10nmYgt66WigNzVa4Iiv0F3ElfVXiXwQV7YNvOSpznfpbBDIlrt2SQiKW0O8ao X-Received: by 2002:a53:c711:0:b0:627:ca96:be6b with SMTP id 956f58d0204a3-63b9a0f22d9mr1819045d50.37.1759491621737; Fri, 03 Oct 2025 04:40:21 -0700 (PDT) Received: from postal.iol.unh.edu (postal.iol.unh.edu. [132.177.123.84]) by smtp-relay.gmail.com with ESMTPS id 00721157ae682-77fa13b6047sm279117b3.31.2025.10.03.04.40.21 (version=TLS1_2 cipher=ECDHE-ECDSA-AES128-GCM-SHA256 bits=128/128); Fri, 03 Oct 2025 04:40:21 -0700 (PDT) X-Relaying-Domain: iol.unh.edu Date: Fri, 03 Oct 2025 04:40:21 -0700 (PDT) Message-ID: <68dfb625.050a0220.aac9a.18daSMTPIN_ADDED_MISSING@mx.google.com> Received: from [172.21.0.3] (unknown [172.18.0.240]) by postal.iol.unh.edu (Postfix) with ESMTP id 6D4D26051830; Fri, 3 Oct 2025 07:40:21 -0400 (EDT) Subject: |SUCCESS| pw157249-157250 [PATCH] [v6,2/2] net/idpf: enable AVX2 for From: dpdklab@iol.unh.edu To: Test Report Cc: dpdk-test-reports@iol.unh.edu, Bruce Richardson In-Reply-To: <20251003094950.2818019-3-shaiq.wani@intel.com> References: <20251003094950.2818019-3-shaiq.wani@intel.com> Content-Type: text/plain X-BeenThere: test-report@dpdk.org X-Mailman-Version: 2.1.29 Precedence: list List-Id: automatic DPDK test reports List-Unsubscribe: , List-Archive: List-Post: List-Help: List-Subscribe: , Errors-To: test-report-bounces@dpdk.org Test-Label: iol-compile-amd64-testing Test-Status: SUCCESS http://dpdk.org/patch/157250 _Testing PASS_ Submitter: Shaiq Wani Date: Friday, October 03 2025 09:49:50 DPDK git baseline: Repo:dpdk-next-net-intel Branch: master CommitID:e7d8cc7ef4df3552575525697079d3c957cfcdaf 157249-157250 --> testing pass Upstream job id: Windows-Compile-DPDK-Native#31396 Test environment and result as below: +---------------------+--------------------+-------------------------+-------------------+----------------------+ | Environment | dpdk_meson_compile | dpdk_llvm_clang_compile | dpdk_msvc_compile | dpdk_mingw64_compile | +=====================+====================+=========================+===================+======================+ | Ubuntu 20.04 | PASS | SKIPPED | SKIPPED | SKIPPED | +---------------------+--------------------+-------------------------+-------------------+----------------------+ | FreeBSD 14.2 | PASS | SKIPPED | SKIPPED | SKIPPED | +---------------------+--------------------+-------------------------+-------------------+----------------------+ | Windows Server 2022 | SKIPPED | PASS | PASS | PASS | +---------------------+--------------------+-------------------------+-------------------+----------------------+ Ubuntu 20.04 Kernel: 4.19 Compiler: gcc gcc (Ubuntu 9.4.0-1ubuntu1~20.04.2) 9.4.0 FreeBSD 14.2 Kernel: 14.2-RELEASE Compiler: clang 18.1.6 Windows Server 2022 Kernel: 10.0.20348.2031 Compiler: clang 15.0.7, gcc 14.1.0 (MinGW), and MSVC VS 19.39.33521 To view detailed results, visit: https://lab.dpdk.org/results/dashboard/patchsets/34206/ UNH-IOL DPDK Community Lab To manage your email subscriptions, visit: https://lab.dpdk.org/results/dashboard/preferences/subscriptions/