From mboxrd@z Thu Jan 1 00:00:00 1970 Return-Path: Received: from mails.dpdk.org (mails.dpdk.org [217.70.189.124]) by inbox.dpdk.org (Postfix) with ESMTP id 05BC54889E for ; Fri, 3 Oct 2025 13:51:27 +0200 (CEST) Received: from mails.dpdk.org (localhost [127.0.0.1]) by mails.dpdk.org (Postfix) with ESMTP id 0062640262; Fri, 3 Oct 2025 13:51:27 +0200 (CEST) Received: from mail-il1-f227.google.com (mail-il1-f227.google.com [209.85.166.227]) by mails.dpdk.org (Postfix) with ESMTP id E40BE40262 for ; Fri, 3 Oct 2025 13:51:24 +0200 (CEST) Received: by mail-il1-f227.google.com with SMTP id e9e14a558f8ab-42f05cbc3d1so2057875ab.0 for ; Fri, 03 Oct 2025 04:51:24 -0700 (PDT) DKIM-Signature: v=1; a=rsa-sha256; c=relaxed/relaxed; d=iol.unh.edu; s=unh-iol; t=1759492284; x=1760097084; darn=dpdk.org; h=references:in-reply-to:cc:to:from:subject:message-id:date:from:to :cc:subject:date:message-id:reply-to; bh=43i066PDX/JeNLMsaadv/+VvIrs9KPclr8tLa3CsUds=; b=WJ2YgKrfD3kEPyGTzjQdm/hd+SYbcpQeqpfE3eivQlSBTfwcvAUFDQXF1k2qfkB92P VxOcUPWLoABKB8u6m0KSY3ZFGPa8vFoKSDIVbTVF/JN7hHOqpORBQ+eNKcaLxT9lz3m8 b6icy6cNxkOvfJGTDllDI/diy2Fir28fG9KKo= X-Google-DKIM-Signature: v=1; a=rsa-sha256; c=relaxed/relaxed; d=1e100.net; s=20230601; t=1759492284; x=1760097084; h=references:in-reply-to:cc:to:from:subject:message-id:date :x-gm-message-state:from:to:cc:subject:date:message-id:reply-to; bh=43i066PDX/JeNLMsaadv/+VvIrs9KPclr8tLa3CsUds=; b=LO0A6jttX2kArtK4nrsI2oJrFbUIrrMMv0QUVFolkVLgOFvGAWosZ7Q0EYwCbwqoHR P+/fIJG2yHEtcsDZ3kULFHj7Pskx8Mk/Nlz5arPZ/1Xy84pQ82qtypOoIDQsOq4Dpnyx nZUEhMUkhDTIAKkqRUNCBjeEKKddjYqS0Nfz3pioieMNbfHx4u33RBaKDAZ6wAKUSQy3 79UXm2vMQbY5RH6wbI5WKQQXoCcI6etAbvAAmMkJbmhzLu29pn3ZhryzOSejsFC7f9Zz iCkAhXGQkhyOP8aYeRVr37J+qQMT0Da3EU9iG/gK3C4A8VyCn1GZxzebbb4c1IbhHrGK 7fgQ== X-Gm-Message-State: AOJu0Yy1bCKsb0ZYf4HBd0ee6sYkykSYnq9kxLr+BdIATav+6pogByqa epKRKve0v4v7SD5PhNKIMr5m9KitRAcq2CeM674M3lwaMtXXi1JbbKIHCFF98qv+jjioWQsiWGb sfAd+AZ37pWgPiFP88PB48vng2dKsLaw5IhoOr88gRr79 X-Gm-Gg: ASbGnctHBYgh/4qcZfzB+hWBHHWDrESlbiVyIpaMigAKlHhyiddly5P8HqTPmsn/GoZ X6pKatj2sNFgpsVZvcD49XesQI66ZlAAfeYzQ777QaHKezAEQtVFUeBJjLiCz+VCdxT8wVPa6It 3sGE52WbnTJjm9s/chHYXYtmXh0v0+V5ipnNDukg/VPD//RwJV5dm8PWaV9fMFscfptdKsKPr9a XvQCOyAREhhnheSjlPcC6TZVITX4GJlB6/t9l72vc22uGxcjv1U8brIuw++Y4YDrffqUX6kdXOZ LiB+8/RKc++H1K1qZFSCp4C4OHGaiysmMmd+SQbAMS8FHbH4/mboEz2YLoeMnoVgddi4l9qrunw baw== X-Google-Smtp-Source: AGHT+IF1S2Rw24vsIBUZY1eX7eTIkm1Ifv7fO0BbBOQhDMwB2TJxVi+QhoZ5Rcqv3E9i9BZavWgCdX1dTmbZ X-Received: by 2002:a05:6e02:1c2f:b0:423:f113:749d with SMTP id e9e14a558f8ab-42e7b1af4afmr32080555ab.4.1759492284275; Fri, 03 Oct 2025 04:51:24 -0700 (PDT) Received: from postal.iol.unh.edu (postal.iol.unh.edu. [132.177.123.84]) by smtp-relay.gmail.com with ESMTPS id e9e14a558f8ab-42d8b29c125sm3610715ab.38.2025.10.03.04.51.24 (version=TLS1_2 cipher=ECDHE-ECDSA-AES128-GCM-SHA256 bits=128/128); Fri, 03 Oct 2025 04:51:24 -0700 (PDT) X-Relaying-Domain: iol.unh.edu Date: Fri, 03 Oct 2025 04:51:24 -0700 (PDT) Message-ID: <68dfb8bc.050a0220.88385.6138SMTPIN_ADDED_MISSING@mx.google.com> Received: from [172.21.0.3] (unknown [172.18.0.240]) by postal.iol.unh.edu (Postfix) with ESMTP id CCA3C6051830; Fri, 3 Oct 2025 07:51:23 -0400 (EDT) Subject: |SUCCESS| pw157251-157252 [PATCH] [v2,2/2] net/iavf: add restore com From: dpdklab@iol.unh.edu To: Test Report Cc: dpdk-test-reports@iol.unh.edu, Bruce Richardson In-Reply-To: <20251003102359.823028-2-ciara.loftus@intel.com> References: <20251003102359.823028-2-ciara.loftus@intel.com> Content-Type: text/plain X-BeenThere: test-report@dpdk.org X-Mailman-Version: 2.1.29 Precedence: list List-Id: automatic DPDK test reports List-Unsubscribe: , List-Archive: List-Post: List-Help: List-Subscribe: , Errors-To: test-report-bounces@dpdk.org Test-Label: iol-unit-amd64-testing Test-Status: SUCCESS http://dpdk.org/patch/157252 _Testing PASS_ Submitter: Loftus, Ciara Date: Friday, October 03 2025 10:23:59 DPDK git baseline: Repo:dpdk-next-net-intel Branch: master CommitID:e7d8cc7ef4df3552575525697079d3c957cfcdaf 157251-157252 --> testing pass Upstream job id: Generic-VM-Unit-Test-DPDK#31566 Test environment and result as below: +-------------------------------+----------------+ | Environment | dpdk_unit_test | +===============================+================+ | CentOS Stream 10 | PASS | +-------------------------------+----------------+ | CentOS Stream 9 | PASS | +-------------------------------+----------------+ | Debian GNU/Linux 12 | PASS | +-------------------------------+----------------+ | Fedora Linux 40 | PASS | +-------------------------------+----------------+ | Fedora Linux 41 | PASS | +-------------------------------+----------------+ | Fedora Linux 42 | PASS | +-------------------------------+----------------+ | Ubuntu 22.04 | PASS | +-------------------------------+----------------+ | Ubuntu 20.04 | PASS | +-------------------------------+----------------+ | Red Hat Enterprise Linux 9.5 | PASS | +-------------------------------+----------------+ | Red Hat Enterprise Linux 8.10 | PASS | +-------------------------------+----------------+ | Ubuntu 24.04 | PASS | +-------------------------------+----------------+ | Windows Server 2022 | PASS | +-------------------------------+----------------+ CentOS Stream 10 Kernel: 5.15 Compiler: gcc gcc (GCC) 14.2.1 20250110 (Red Hat 14.2.1-8) CentOS Stream 9 Kernel: 5.15 Compiler: gcc gcc (GCC) 11.5.0 20240719 (Red Hat 11.5.0-11) Debian GNU/Linux 12 Kernel: 5.15 Compiler: gcc gcc (Debian 12.2.0-14+deb12u1) 12.2.0 Fedora Linux 40 Kernel: 5.15 Compiler: clang gcc (GCC) 14.2.1 20240912 (Red Hat 14.2.1-3) Fedora Linux 41 Kernel: 5.15 Compiler: gcc gcc (GCC) 14.3.1 20250523 (Red Hat 14.3.1-1) Fedora Linux 42 Kernel: 5.15 Compiler: clang gcc (GCC) 15.2.1 20250808 (Red Hat 15.2.1-1) Ubuntu 22.04 Kernel: 5.15 Compiler: gcc gcc (Ubuntu 11.4.0-1ubuntu1~22.04) 11.4.0 Ubuntu 20.04 Kernel: 5.15 Compiler: gcc gcc (Ubuntu 9.4.0-1ubuntu1~20.04.2) 9.4.0 Red Hat Enterprise Linux 9.5 Kernel: 5.15 Compiler: gcc gcc (GCC) 11.5.0 20240719 (Red Hat 11.5.0-2) Red Hat Enterprise Linux 8.10 Kernel: 5.15 Compiler: gcc gcc (GCC) 8.5.0 20210514 (Red Hat 8.5.0-22) Ubuntu 24.04 Kernel: 5.15 Compiler: gcc gcc (Ubuntu 13.3.0-6ubuntu2~24.04) 13.3.0 Windows Server 2022 Kernel: 10.0.20348.2031 Compiler: clang 15.0.7, gcc 14.1.0 (MinGW), and MSVC VS 19.39.33521 To view detailed results, visit: https://lab.dpdk.org/results/dashboard/patchsets/34207/ UNH-IOL DPDK Community Lab To manage your email subscriptions, visit: https://lab.dpdk.org/results/dashboard/preferences/subscriptions/