From mboxrd@z Thu Jan 1 00:00:00 1970 Return-Path: Received: from mails.dpdk.org (mails.dpdk.org [217.70.189.124]) by inbox.dpdk.org (Postfix) with ESMTP id B3FC74889F for ; Fri, 3 Oct 2025 14:06:54 +0200 (CEST) Received: from mails.dpdk.org (localhost [127.0.0.1]) by mails.dpdk.org (Postfix) with ESMTP id 91F7440262; Fri, 3 Oct 2025 14:06:54 +0200 (CEST) Received: from mail-pg1-f226.google.com (mail-pg1-f226.google.com [209.85.215.226]) by mails.dpdk.org (Postfix) with ESMTP id D99B940262 for ; Fri, 3 Oct 2025 14:06:53 +0200 (CEST) Received: by mail-pg1-f226.google.com with SMTP id 41be03b00d2f7-b5f2c1a7e48so1620501a12.0 for ; Fri, 03 Oct 2025 05:06:53 -0700 (PDT) DKIM-Signature: v=1; a=rsa-sha256; c=relaxed/relaxed; d=iol.unh.edu; s=unh-iol; t=1759493213; x=1760098013; darn=dpdk.org; h=references:in-reply-to:cc:to:from:subject:message-id:date:from:to :cc:subject:date:message-id:reply-to; bh=1HBvpgMR505vkVcx2eRXTHS1iEOieElGoh6Yw8MH+cw=; b=CINSKQYX+iAzARFCygXQGXMO7fvk6X0Bg7NIGXIrcJlBM6iY6Y3gK3ePwVNPQOcA5m e9at9M0aeGlCXi6ZNoSm9YEaUpgu4M8WyBEQFFSK4dWBJdxg6ARkw0fcc44+dUQOwX67 wvgVSBgUlsqPvM/WtsVeHHs7t/nMIhDMMzPwg= X-Google-DKIM-Signature: v=1; a=rsa-sha256; c=relaxed/relaxed; d=1e100.net; s=20230601; t=1759493213; x=1760098013; h=references:in-reply-to:cc:to:from:subject:message-id:date :x-gm-message-state:from:to:cc:subject:date:message-id:reply-to; bh=1HBvpgMR505vkVcx2eRXTHS1iEOieElGoh6Yw8MH+cw=; b=R2+IuGXb+MCd3oRx5+vDk7NwkBWSLIIeIOAJOJ7Q+lAqmKyQliJPbVoK/BgXxrNN5F QAr/SWGFen+w/NFwv0WR+4lC2JbfodRrSwQRwXgiqPEOaXlnnpPd3oZZHezNOOLR4dI/ bTckX8+uKwGxLxwg+0cu5ligvG3c6mbgxqbobARpYGn3x1+SoAPDq/mHNXdcP+/JLBHr Ts/Zk4wP+3Dyejm5CE/no9rI7AJ/3yaHFpVVgvPMTtLvbkQxI99GkKb2L0fb81QinCIb ayQaaeHv57JDC00KUoPu2P/186ZT95yKgQgi4g6Ymxbu4uQ0AVCnOxjwN+saHO3DSUyA KEQg== X-Gm-Message-State: AOJu0YzyHUNOuLr8o01LCDmXji3to4RuhjJMSoaugtk3rmBk+pplYBa8 YnHg08iWvFu1RFdRXiaewrF1gtUizt3EBF6BL4GBVE3zQzCBDR7VhnGduqUvZmfLh1Wx6Pjw5cr rNWFN4RIwSbuaQnYpySpPt1j5BvNrZEXSNR5EMy2h04UD X-Gm-Gg: ASbGnctCLFFD7stQBt5UMxnb6kkUOfyb/lfDAweZMAAk07h/ikATNZMA6QRFM/4pjcX gAFQBFEqFX7bpUDt07mZhFL5LGL/UE2d1TTB5xyjch4FjG/r4OPLbHiAaB/Vj1rWuDXEFUVQcTK 3wM5FFXYiXlTdoajj2o0n1LSXmSfNLOfoA9BRt/gqd43XoVqFJHUlZTOFvEsGifVbiajAqDVcM2 tNV8xJ6Qb9ShZotQ3mBP4cO+bxdxa3/GVAU7DCM0cJudZa2bGyNgm+6dLGBteqxFNpMCUMpFSAm X7dx9uEr9KZyPT4HUsXX5/CGCgZA7ety4NydcFaIdPfHtjkiQQAsnn0pZm1gcAI4/brk0g7LAw9 Fvg== X-Google-Smtp-Source: AGHT+IGTtSBY+QP2PuSDK4I3NWNAYJBZ7UdYh5xia1/lx+/l0hWE0HXVY3qunoloiasmObTdLDRbCeEOE1XK X-Received: by 2002:a17:903:2a8c:b0:26d:58d6:3fb2 with SMTP id d9443c01a7336-28e9a5cc495mr38740025ad.12.1759493212931; Fri, 03 Oct 2025 05:06:52 -0700 (PDT) Received: from postal.iol.unh.edu (postal.iol.unh.edu. [132.177.123.84]) by smtp-relay.gmail.com with ESMTPS id 41be03b00d2f7-b60999c5f4asm239297a12.6.2025.10.03.05.06.52 (version=TLS1_2 cipher=ECDHE-ECDSA-AES128-GCM-SHA256 bits=128/128); Fri, 03 Oct 2025 05:06:52 -0700 (PDT) X-Relaying-Domain: iol.unh.edu Date: Fri, 03 Oct 2025 05:06:52 -0700 (PDT) Message-ID: <68dfbc5c.630a0220.f8289.edceSMTPIN_ADDED_MISSING@mx.google.com> Received: from [172.21.0.2] (unknown [172.18.0.240]) by postal.iol.unh.edu (Postfix) with ESMTP id 354866051830; Fri, 3 Oct 2025 08:06:52 -0400 (EDT) Subject: |SUCCESS| pw157251-157252 [PATCH] [v2,2/2] net/iavf: add restore com From: dpdklab@iol.unh.edu To: Test Report Cc: dpdk-test-reports@iol.unh.edu, Bruce Richardson In-Reply-To: <20251003102359.823028-2-ciara.loftus@intel.com> References: <20251003102359.823028-2-ciara.loftus@intel.com> Content-Type: text/plain X-BeenThere: test-report@dpdk.org X-Mailman-Version: 2.1.29 Precedence: list List-Id: automatic DPDK test reports List-Unsubscribe: , List-Archive: List-Post: List-Help: List-Subscribe: , Errors-To: test-report-bounces@dpdk.org Test-Label: iol-unit-amd64-testing Test-Status: SUCCESS http://dpdk.org/patch/157252 _Testing PASS_ Submitter: Loftus, Ciara Date: Friday, October 03 2025 10:23:59 DPDK git baseline: Repo:dpdk-next-net-intel Branch: master CommitID:e7d8cc7ef4df3552575525697079d3c957cfcdaf 157251-157252 --> testing pass Upstream job id: Generic-VM-Unit-Test-DPDK#31567 Test environment and result as below: +-------------------------------+----------------+ | Environment | dpdk_unit_test | +===============================+================+ | CentOS Stream 10 | PASS | +-------------------------------+----------------+ | CentOS Stream 9 | PASS | +-------------------------------+----------------+ | Debian GNU/Linux 12 | PASS | +-------------------------------+----------------+ | Fedora Linux 40 | PASS | +-------------------------------+----------------+ | Fedora Linux 41 | PASS | +-------------------------------+----------------+ | Fedora Linux 42 | PASS | +-------------------------------+----------------+ | Ubuntu 22.04 | PASS | +-------------------------------+----------------+ | Ubuntu 20.04 | PASS | +-------------------------------+----------------+ | Red Hat Enterprise Linux 9.5 | PASS | +-------------------------------+----------------+ | Red Hat Enterprise Linux 8.10 | PASS | +-------------------------------+----------------+ | Ubuntu 24.04 | PASS | +-------------------------------+----------------+ | Windows Server 2022 | PASS | +-------------------------------+----------------+ CentOS Stream 10 Kernel: 5.15 Compiler: gcc gcc (GCC) 14.2.1 20250110 (Red Hat 14.2.1-8) CentOS Stream 9 Kernel: 5.15 Compiler: gcc gcc (GCC) 11.5.0 20240719 (Red Hat 11.5.0-11) Debian GNU/Linux 12 Kernel: 5.15 Compiler: gcc gcc (Debian 12.2.0-14+deb12u1) 12.2.0 Fedora Linux 40 Kernel: 5.15 Compiler: clang gcc (GCC) 14.2.1 20240912 (Red Hat 14.2.1-3) Fedora Linux 41 Kernel: 5.15 Compiler: gcc gcc (GCC) 14.3.1 20250523 (Red Hat 14.3.1-1) Fedora Linux 42 Kernel: 5.15 Compiler: clang gcc (GCC) 15.2.1 20250808 (Red Hat 15.2.1-1) Ubuntu 22.04 Kernel: 5.15 Compiler: gcc gcc (Ubuntu 11.4.0-1ubuntu1~22.04) 11.4.0 Ubuntu 20.04 Kernel: 5.15 Compiler: gcc gcc (Ubuntu 9.4.0-1ubuntu1~20.04.2) 9.4.0 Red Hat Enterprise Linux 9.5 Kernel: 5.15 Compiler: gcc gcc (GCC) 11.5.0 20240719 (Red Hat 11.5.0-2) Red Hat Enterprise Linux 8.10 Kernel: 5.15 Compiler: gcc gcc (GCC) 8.5.0 20210514 (Red Hat 8.5.0-22) Ubuntu 24.04 Kernel: 5.15 Compiler: gcc gcc (Ubuntu 13.3.0-6ubuntu2~24.04) 13.3.0 Windows Server 2022 Kernel: 10.0.20348.2031 Compiler: clang 15.0.7, gcc 14.1.0 (MinGW), and MSVC VS 19.39.33521 To view detailed results, visit: https://lab.dpdk.org/results/dashboard/patchsets/34207/ UNH-IOL DPDK Community Lab To manage your email subscriptions, visit: https://lab.dpdk.org/results/dashboard/preferences/subscriptions/