From mboxrd@z Thu Jan 1 00:00:00 1970 Return-Path: Received: from mails.dpdk.org (mails.dpdk.org [217.70.189.124]) by inbox.dpdk.org (Postfix) with ESMTP id B81544889F for ; Fri, 3 Oct 2025 14:18:42 +0200 (CEST) Received: from mails.dpdk.org (localhost [127.0.0.1]) by mails.dpdk.org (Postfix) with ESMTP id 8BDEE4025D; Fri, 3 Oct 2025 14:18:42 +0200 (CEST) Received: from mail-qv1-f100.google.com (mail-qv1-f100.google.com [209.85.219.100]) by mails.dpdk.org (Postfix) with ESMTP id A83984025D for ; Fri, 3 Oct 2025 14:18:41 +0200 (CEST) Received: by mail-qv1-f100.google.com with SMTP id 6a1803df08f44-7ea50f94045so34574246d6.1 for ; Fri, 03 Oct 2025 05:18:41 -0700 (PDT) DKIM-Signature: v=1; a=rsa-sha256; c=relaxed/relaxed; d=iol.unh.edu; s=unh-iol; t=1759493921; x=1760098721; darn=dpdk.org; h=references:in-reply-to:cc:to:from:subject:message-id:date:from:to :cc:subject:date:message-id:reply-to; bh=q/Q1NLu2pMdM7j7NYPkKYBshsKb2NSSv553zRV+7G+c=; b=Srt7FY2XjxcsBRTwSYqEf+3/BLUxbLLAfMteazC3s+s4GISn9abj5ZiXJR5/NmjeEi D4onu7eKJLZZJhXc64lPcit3Qkxpb7xrf5WP41ls5EBce+5oj50V56ivvota0mpSffsJ sOYAYCtOZyHL4Hj+wLe5krRqZ1uezb0iWpzJs= X-Google-DKIM-Signature: v=1; a=rsa-sha256; c=relaxed/relaxed; d=1e100.net; s=20230601; t=1759493921; x=1760098721; h=references:in-reply-to:cc:to:from:subject:message-id:date :x-gm-message-state:from:to:cc:subject:date:message-id:reply-to; bh=q/Q1NLu2pMdM7j7NYPkKYBshsKb2NSSv553zRV+7G+c=; b=PTrysZ8dH1oBjnWoAqwWBl+B5ArvjMtwX7iuFjrG5cCCSzClQlzogvXp/i/fIbRlz1 z5RrWO0btqMByyIejeEPfpaVz22yb8+sl8QKjkzH/tw8mtvcpONFBbKorHMEmksz2fhc pepG2n0IY1GfMlTpM9bchxKCIyjAM7ZEqTAMF6g7nhpdhocuUFgDallUFZd48q1hr+iV KWDgXrcGMZXkXozTowTkHN45qoMHKO95YXcSeuUVYkPM/YgtjFsdmLTX5RBvHkxHQSnD M4HqatCc87SMDAUFTm3BUtYDDowDlp2PVVHVaS5GX3Zb47QVrm5lAPPi0FXI4KM9ZCqK JtsA== X-Gm-Message-State: AOJu0YzYqzDUER8TMETQLeg6GLZeXQIi1wATKU5S2UfOY6970mou6tSA EtcA+PRRqe7bn75wJeVexGfxURxWk0bARL9zyQ+cN+S+x5JQ341Tc7Ezv3AdeNLtEOLG88ySX1R lfuzqk60+bQG4C+uT3T1Fmmg2CO/i8iLXlMxh0tLO3OjV X-Gm-Gg: ASbGnctgJAStUIaQwuO1NBXSSjCEFKwnMry6jY+47A7Axq8gTTuP84l3neI0SP1L/OG 4TBGmEQcxGtjACFoxYR48as0g6sjAvp5OdOY7sDLOCJJxznAx8NXf6YnPeYk0jsZLOL2+6GVxIO NDYGmoEvdqRuFeBfvKTbQXwM/dN6RfxUtyPxB/q0YsWfs2iaBfX5kqZZmi+W4fSXFh7H8TOOi0e PnEtqR0PG3waPECfXmnTCQt2clnRBXM2lsgGgFYPDsVmiYYtGbUVRORT9Y0VNepUuVH+O9OhDwu iiTb8rzvQLQurM0qnPU0rHw5ksKyHl8U0ZbHQr5D3gcTwpQXL0s81XfXYUJt+j3BzUP/JTm+B8n 3Og== X-Google-Smtp-Source: AGHT+IECMOlmQYUlJv+FtIDsv6Rz7gyyvyFu7q/hkoh6A82/Lzfh7bHB0pjsBTtm7kA62szD5mw9prlgjBky X-Received: by 2002:a05:6214:f0c:b0:79b:53f9:412b with SMTP id 6a1803df08f44-878bbf0ea08mr98070396d6.23.1759493920961; Fri, 03 Oct 2025 05:18:40 -0700 (PDT) Received: from postal.iol.unh.edu (postal.iol.unh.edu. [132.177.123.84]) by smtp-relay.gmail.com with ESMTPS id 6a1803df08f44-878bda734c1sm3574526d6.24.2025.10.03.05.18.40 (version=TLS1_2 cipher=ECDHE-ECDSA-AES128-GCM-SHA256 bits=128/128); Fri, 03 Oct 2025 05:18:40 -0700 (PDT) X-Relaying-Domain: iol.unh.edu Date: Fri, 03 Oct 2025 05:18:40 -0700 (PDT) Message-ID: <68dfbf20.050a0220.76fa0.6c52SMTPIN_ADDED_MISSING@mx.google.com> Received: from [172.21.0.3] (unknown [172.18.0.240]) by postal.iol.unh.edu (Postfix) with ESMTP id 8F9A66051830; Fri, 3 Oct 2025 08:18:40 -0400 (EDT) Subject: |SUCCESS| pw157006-157007 [PATCH] [2/2] net/netvsc: rename get_vmbus From: dpdklab@iol.unh.edu To: Test Report Cc: dpdk-test-reports@iol.unh.edu, Stephen Hemminger In-Reply-To: <20250926155802.398869-2-stephen@networkplumber.org> References: <20250926155802.398869-2-stephen@networkplumber.org> Content-Type: text/plain X-BeenThere: test-report@dpdk.org X-Mailman-Version: 2.1.29 Precedence: list List-Id: automatic DPDK test reports List-Unsubscribe: , List-Archive: List-Post: List-Help: List-Subscribe: , Errors-To: test-report-bounces@dpdk.org Test-Label: iol-compile-arm64-testing Test-Status: SUCCESS http://dpdk.org/patch/157007 _Testing PASS_ Submitter: Stephen Hemminger Date: Friday, September 26 2025 15:58:01 DPDK git baseline: Repo:dpdk-next-net Branch: master CommitID:0b58c147385ecd20ebb4e678934536a597902c28 157006-157007 --> testing pass Upstream job id: Generic-DPDK-Compile-Meson#430538 Test environment and result as below: +------------------------------+--------------------+ | Environment | dpdk_meson_compile | +==============================+====================+ | Ubuntu 20.04 | PASS | +------------------------------+--------------------+ | Red Hat Enterprise Linux 9.5 | PASS | +------------------------------+--------------------+ | CentOS Stream 10 | PASS | +------------------------------+--------------------+ | Fedora Linux 42 | PASS | +------------------------------+--------------------+ | Debian GNU/Linux 12 | PASS | +------------------------------+--------------------+ | Ubuntu 22.04 | PASS | +------------------------------+--------------------+ | Ubuntu 24.04 | PASS | +------------------------------+--------------------+ | CentOS Stream 9 | PASS | +------------------------------+--------------------+ Ubuntu 20.04 Kernel: 5.15 Compiler: aarch64-linux-gnu-gcc gcc (Ubuntu 9.4.0-1ubuntu1~20.04.2) 9.4.0 Red Hat Enterprise Linux 9.5 Kernel: 5.4 Compiler: gcc gcc (GCC) 11.5.0 20240719 (Red Hat 11.5.0-2) CentOS Stream 10 Kernel: 5.4 Compiler: gcc gcc (GCC) 14.2.1 20250110 (Red Hat 14.2.1-8) Fedora Linux 42 Kernel: 5.4 Compiler: gcc gcc (GCC) 15.2.1 20250808 (Red Hat 15.2.1-1) Debian GNU/Linux 12 Kernel: 5.4 Compiler: gcc gcc (Debian 12.2.0-14+deb12u1) 12.2.0 Ubuntu 22.04 Kernel: 5.4 Compiler: gcc gcc (Ubuntu 11.4.0-1ubuntu1~22.04) 11.4.0 Ubuntu 24.04 Kernel: 5.4 Compiler: gcc gcc (Ubuntu 13.3.0-6ubuntu2~24.04) 13.3.0 CentOS Stream 9 Kernel: 5.4 Compiler: gcc gcc (GCC) 11.5.0 20240719 (Red Hat 11.5.0-11) To view detailed results, visit: https://lab.dpdk.org/results/dashboard/patchsets/34160/ UNH-IOL DPDK Community Lab To manage your email subscriptions, visit: https://lab.dpdk.org/results/dashboard/preferences/subscriptions/