From mboxrd@z Thu Jan 1 00:00:00 1970 Return-Path: Received: from mails.dpdk.org (mails.dpdk.org [217.70.189.124]) by inbox.dpdk.org (Postfix) with ESMTP id BD72B4889F for ; Fri, 3 Oct 2025 14:19:11 +0200 (CEST) Received: from mails.dpdk.org (localhost [127.0.0.1]) by mails.dpdk.org (Postfix) with ESMTP id B80984025D; Fri, 3 Oct 2025 14:19:11 +0200 (CEST) Received: from mail-pf1-f225.google.com (mail-pf1-f225.google.com [209.85.210.225]) by mails.dpdk.org (Postfix) with ESMTP id 8E5C44025D for ; Fri, 3 Oct 2025 14:19:10 +0200 (CEST) Received: by mail-pf1-f225.google.com with SMTP id d2e1a72fcca58-76e6cbb991aso1884368b3a.1 for ; Fri, 03 Oct 2025 05:19:10 -0700 (PDT) DKIM-Signature: v=1; a=rsa-sha256; c=relaxed/relaxed; d=iol.unh.edu; s=unh-iol; t=1759493950; x=1760098750; darn=dpdk.org; h=references:in-reply-to:cc:to:from:subject:message-id:date:from:to :cc:subject:date:message-id:reply-to; bh=DFVT4/9ZiZ5jFZa5zLhbbsnD1EgpPcVlcJQRCLtY5xs=; b=begt/0dudmci+3TVuSV4XLaaOvOSlCS3h86lQb3hIwsoK0onunOazU6Kxcx9j6IQKs Dx8A0RTci6EelO0rVO3HAAYbphCGGIeR24OPX4KAVBdayJYnEPUdyxaNCD+UH8GtKx4I KzelpU8STksE6z49oigEIkjYoqQCh9fnrHIb0= X-Google-DKIM-Signature: v=1; a=rsa-sha256; c=relaxed/relaxed; d=1e100.net; s=20230601; t=1759493950; x=1760098750; h=references:in-reply-to:cc:to:from:subject:message-id:date :x-gm-message-state:from:to:cc:subject:date:message-id:reply-to; bh=DFVT4/9ZiZ5jFZa5zLhbbsnD1EgpPcVlcJQRCLtY5xs=; b=U7vVLNqTuC5L3z77UwDV0f9BdauQJJVdtFxjfh6d6TnO/xP1N2nnhDlREjpg+Q9EIh IEBBZrCHhD7sDg5u1fAgJP2217xFtCHCzSNPqMhEmde8/9zs9kDzQBL9ncosADX82/Wx LYNjA8HJARhTud/Pa2MMXtyassyonm3vbN1ME7byIuLMC3DTsWoJZVoTRSuxN/Siql4o PCWt81SuJ6DY9Zpz7aKIRCPG+TBAnJA881FX8yqqxRGPTgW/Uyujo99WbGOC7L4PVxzJ t+qT9FwmZ9HSA2Y8vHktMqlWPSh5h+nFk0BMV8Ui6N19COxfCYOy7PpyGu9p+IhdiwIs zsEA== X-Gm-Message-State: AOJu0Yw62yfLacZ9SID6Z1LKbk/LI1FcaubaDy15Qa+hpcva3EmEe3sY pd5laV5a1YI+HbGog6K4wqBZXIVtBcpzEpWasQOCetDyIQ2VCpsrXJ0DkWemQMxENA4q7LdBpJ7 cwpHpDf+FqL9NrHdd/qkXB5VpG2n1dNmOOp6nSg+d92S+ X-Gm-Gg: ASbGnctcyP7zBSiz2tvlD8OQkhaYF+n3ZZ2csESkyCHpbTIm7zjDh3O6RiHRYI5DbGQ 7WqJvXMFObfkKt7ga3OS/2laLY5SPSHR+qwXCz6rL/wAo9gbVqMCyDHrcTmhNDXaN5nQIAPGBYK eaopp536NCEjE7NmAAqgrciBzEOHdSXDcra+fEZRlDQhGMXhZ3RqgsQKhm8LFdauTrLanbbbmUY Eu27E+sGl849RKHsYvJ2kqxAfcUUMrFtGZjcEwJQgK6pUdIk0OFCPfrpNtRrImlaKIgWIYg6Bif msYuE6caOCXNt8Y+CMg3cSM7wx2/io7Va/VRIhrKfdZAThiXWHDAPG1Gv1FOxTQCjnVwFX46jnk OiA== X-Google-Smtp-Source: AGHT+IF8peStaJo/vs4DyXsvVXVTSyLaOAdmVXiEVjLWrkm00sXzv7NHPP3eUfSqktSrLPKfSK99YkzmgE7K X-Received: by 2002:a05:6a21:999f:b0:262:a640:68a0 with SMTP id adf61e73a8af0-32b620b17eemr3505625637.30.1759493949662; Fri, 03 Oct 2025 05:19:09 -0700 (PDT) Received: from postal.iol.unh.edu (postal.iol.unh.edu. [132.177.123.84]) by smtp-relay.gmail.com with ESMTPS id 41be03b00d2f7-b6099b701a1sm245103a12.11.2025.10.03.05.19.09 (version=TLS1_2 cipher=ECDHE-ECDSA-AES128-GCM-SHA256 bits=128/128); Fri, 03 Oct 2025 05:19:09 -0700 (PDT) X-Relaying-Domain: iol.unh.edu Date: Fri, 03 Oct 2025 05:19:09 -0700 (PDT) Message-ID: <68dfbf3d.630a0220.17e35.ea0eSMTPIN_ADDED_MISSING@mx.google.com> Received: from [172.21.0.2] (unknown [172.18.0.240]) by postal.iol.unh.edu (Postfix) with ESMTP id E7E8E6051830; Fri, 3 Oct 2025 08:19:08 -0400 (EDT) Subject: |SUCCESS| pw157260 [PATCH] ethdev: fix copy-paste error in fn parame From: dpdklab@iol.unh.edu To: Test Report Cc: dpdk-test-reports@iol.unh.edu, Stephen Hemminger In-Reply-To: <20251003110944.1594659-1-bruce.richardson@intel.com> References: <20251003110944.1594659-1-bruce.richardson@intel.com> Content-Type: text/plain X-BeenThere: test-report@dpdk.org X-Mailman-Version: 2.1.29 Precedence: list List-Id: automatic DPDK test reports List-Unsubscribe: , List-Archive: List-Post: List-Help: List-Subscribe: , Errors-To: test-report-bounces@dpdk.org Test-Label: iol-compile-amd64-testing Test-Status: SUCCESS http://dpdk.org/patch/157260 _Testing PASS_ Submitter: Bruce Richardson Date: Friday, October 03 2025 11:09:44 DPDK git baseline: Repo:dpdk-next-net Branch: master CommitID:c04bbd131b2c14b3049bf86d3ef367b34e6fdf1e 157260 --> testing pass Upstream job id: Windows-Compile-DPDK-VS#7095 Test environment and result as below: +---------------------+--------------------+-------------------+ | Environment | dpdk_meson_compile | dpdk_msvc_compile | +=====================+====================+===================+ | Ubuntu 20.04 | PASS | SKIPPED | +---------------------+--------------------+-------------------+ | FreeBSD 14.2 | PASS | SKIPPED | +---------------------+--------------------+-------------------+ | Windows Server 2022 | SKIPPED | PASS | +---------------------+--------------------+-------------------+ Ubuntu 20.04 Kernel: 4.19 Compiler: gcc gcc (Ubuntu 9.4.0-1ubuntu1~20.04.2) 9.4.0 FreeBSD 14.2 Kernel: 14.2-RELEASE Compiler: clang 18.1.6 Windows Server 2022 Kernel: 10.0.20348.2031 Compiler: clang 15.0.7, gcc 14.1.0 (MinGW), and MSVC VS 19.39.33521 To view detailed results, visit: https://lab.dpdk.org/results/dashboard/patchsets/34208/ UNH-IOL DPDK Community Lab To manage your email subscriptions, visit: https://lab.dpdk.org/results/dashboard/preferences/subscriptions/