From mboxrd@z Thu Jan 1 00:00:00 1970 Return-Path: Received: from mails.dpdk.org (mails.dpdk.org [217.70.189.124]) by inbox.dpdk.org (Postfix) with ESMTP id CC0B54889F for ; Fri, 3 Oct 2025 14:19:28 +0200 (CEST) Received: from mails.dpdk.org (localhost [127.0.0.1]) by mails.dpdk.org (Postfix) with ESMTP id C53EB4025D; Fri, 3 Oct 2025 14:19:28 +0200 (CEST) Received: from mail-pg1-f225.google.com (mail-pg1-f225.google.com [209.85.215.225]) by mails.dpdk.org (Postfix) with ESMTP id 69C0B4025D for ; Fri, 3 Oct 2025 14:19:27 +0200 (CEST) Received: by mail-pg1-f225.google.com with SMTP id 41be03b00d2f7-b57d93ae3b0so1497764a12.1 for ; Fri, 03 Oct 2025 05:19:27 -0700 (PDT) DKIM-Signature: v=1; a=rsa-sha256; c=relaxed/relaxed; d=iol.unh.edu; s=unh-iol; t=1759493966; x=1760098766; darn=dpdk.org; h=references:in-reply-to:cc:to:from:subject:message-id:date:from:to :cc:subject:date:message-id:reply-to; bh=BCd0Rfyn74XJA9AXJdjJ2aCxVn5ZHGgyrEcyaxxOwAs=; b=faEoq9yjJkC71LxMPt8Xcmm/SgZpt4MzQ+0ydF39ilVAgjsyV/4N3Tk3eRfCZ8KlTF 55Oie9zM/sgputnfLhPumtHHCappL7zRb03TnvY6h4OJpTZiJavm1hRPWgA4mM17fT62 xVT2DJBBX3bFeIbR6s1UNyhDuN17FnMiG46hU= X-Google-DKIM-Signature: v=1; a=rsa-sha256; c=relaxed/relaxed; d=1e100.net; s=20230601; t=1759493966; x=1760098766; h=references:in-reply-to:cc:to:from:subject:message-id:date :x-gm-message-state:from:to:cc:subject:date:message-id:reply-to; bh=BCd0Rfyn74XJA9AXJdjJ2aCxVn5ZHGgyrEcyaxxOwAs=; b=P01EtqIIU5DUJvsrlRr9Z9dYVVP4CMBqvesVHczMGgw9TD2fvpAzYvacQmtYWpZxsy 17+ZL4N0m5kK/LN4B3II9tg/usV6KmCP1XwofZLtRfUdfG+iGfAwj96p50GTQ4uLzkLL yTZjIs5ALoJ/TDZ3pPygJsKnIPJ6LpwHWF/Q6EdtSbhHOpaMR+kZqimAtMck8S2AAWVX GlTbpAspXv/NT/n8ONJLOB0dwlzhibd35zxi3Ij3icCMp0nzrNudbmpVY5t5zF9WzO3x hkCaoI1XnGCq7PZKN7shgFxXLlUcfzwdxL1WkPYXD7pDkjNK5ZFzFDvUuNkR5RWbDLD6 od5A== X-Gm-Message-State: AOJu0YwcgSaHKhbl29l/Kzx0UoDWzL7by591XXQLrvTctYn+92ztU82V nfK2NMYS+WubBcWao8gXXB/gv++wZAmPKAREgZpmf1zzns+8Jh3enHv7NAtgE2sD1w+aBg2foUi LBnRz3xTr7yo2tBAm2kYYcvxVxx4WqsUYTgsyCRET/H/QhImlQ2tdIChhvnge X-Gm-Gg: ASbGncsiqQbgdc3EnoMAK6mFoDTZ7IloFEb01TfmVM9/HYBAJjU0j4OFTeoQ1NXWM8u P3XlLiKtaVWzmTBa0t8dy6mBcYAtCvR3cW6xjNjTsFYGawj7i3ePX9I+DpMAyd20tIZiXbuZBj1 WbxKuPtBlbalAYRegiEeh0/K7nU0wFkWXzQkleIDbmdnM5iK/+n3EXEdujJJmLNPHUU43JceQoM 7ezUk+1L6uPWpP8qqqhwOm4K0+aMmTaLQ4HUizy4jMSHQqr9BiY/hFwkmuFotfG4xvVzPz6NRQo 4yOy7/abYoktlRfMLJKAjkYa1nG5LI2ENEhH+1pQx9BtLXdI+ExLCdM= X-Google-Smtp-Source: AGHT+IGmZ1qr+MSQaOYI97zkKxMdvvVxBeql4mrjZoBwllbhC2bTk/y47K7BqwnxyO+0qDdviAS8UKqQzAv/ X-Received: by 2002:a17:903:124c:b0:288:5d07:8a8f with SMTP id d9443c01a7336-28e9a58a334mr34715465ad.24.1759493966563; Fri, 03 Oct 2025 05:19:26 -0700 (PDT) Received: from postal.iol.unh.edu (postal.iol.unh.edu. [2606:4100:3880:1234::84]) by smtp-relay.gmail.com with ESMTPS id d9443c01a7336-28e8d119f5esm3635665ad.29.2025.10.03.05.19.26 (version=TLS1_2 cipher=ECDHE-ECDSA-AES128-GCM-SHA256 bits=128/128); Fri, 03 Oct 2025 05:19:26 -0700 (PDT) X-Relaying-Domain: iol.unh.edu Date: Fri, 03 Oct 2025 05:19:26 -0700 (PDT) Message-ID: <68dfbf4e.170a0220.ccb69.6233SMTPIN_ADDED_MISSING@mx.google.com> Received: from [172.21.0.5] (unknown [172.18.0.240]) by postal.iol.unh.edu (Postfix) with ESMTP id 9BF106051830; Fri, 3 Oct 2025 08:19:25 -0400 (EDT) Subject: |SUCCESS| pw157006-157007 [PATCH] [2/2] net/netvsc: rename get_vmbus From: dpdklab@iol.unh.edu To: Test Report Cc: dpdk-test-reports@iol.unh.edu, Stephen Hemminger In-Reply-To: <20250926155802.398869-2-stephen@networkplumber.org> References: <20250926155802.398869-2-stephen@networkplumber.org> Content-Type: text/plain X-BeenThere: test-report@dpdk.org X-Mailman-Version: 2.1.29 Precedence: list List-Id: automatic DPDK test reports List-Unsubscribe: , List-Archive: List-Post: List-Help: List-Subscribe: , Errors-To: test-report-bounces@dpdk.org Test-Label: iol-compile-arm64-testing Test-Status: SUCCESS http://dpdk.org/patch/157007 _Testing PASS_ Submitter: Stephen Hemminger Date: Friday, September 26 2025 15:58:01 DPDK git baseline: Repo:dpdk-next-net Branch: master CommitID:0b58c147385ecd20ebb4e678934536a597902c28 157006-157007 --> testing pass Upstream job id: Generic-DPDK-Compile-Meson#430535 Test environment and result as below: +------------------------------+--------------------+ | Environment | dpdk_meson_compile | +==============================+====================+ | Ubuntu 20.04 | PASS | +------------------------------+--------------------+ | Red Hat Enterprise Linux 9.5 | PASS | +------------------------------+--------------------+ | CentOS Stream 10 | PASS | +------------------------------+--------------------+ | Fedora Linux 42 | PASS | +------------------------------+--------------------+ | Debian GNU/Linux 12 | PASS | +------------------------------+--------------------+ | Ubuntu 22.04 | PASS | +------------------------------+--------------------+ | Ubuntu 24.04 | PASS | +------------------------------+--------------------+ | CentOS Stream 9 | PASS | +------------------------------+--------------------+ Ubuntu 20.04 Kernel: 5.15 Compiler: aarch64-linux-gnu-gcc gcc (Ubuntu 9.4.0-1ubuntu1~20.04.2) 9.4.0 Red Hat Enterprise Linux 9.5 Kernel: 5.4 Compiler: gcc gcc (GCC) 11.5.0 20240719 (Red Hat 11.5.0-2) CentOS Stream 10 Kernel: 5.4 Compiler: gcc gcc (GCC) 14.2.1 20250110 (Red Hat 14.2.1-8) Fedora Linux 42 Kernel: 5.4 Compiler: gcc gcc (GCC) 15.2.1 20250808 (Red Hat 15.2.1-1) Debian GNU/Linux 12 Kernel: 5.4 Compiler: gcc gcc (Debian 12.2.0-14+deb12u1) 12.2.0 Ubuntu 22.04 Kernel: 5.4 Compiler: gcc gcc (Ubuntu 11.4.0-1ubuntu1~22.04) 11.4.0 Ubuntu 24.04 Kernel: 5.4 Compiler: gcc gcc (Ubuntu 13.3.0-6ubuntu2~24.04) 13.3.0 CentOS Stream 9 Kernel: 5.4 Compiler: gcc gcc (GCC) 11.5.0 20240719 (Red Hat 11.5.0-11) To view detailed results, visit: https://lab.dpdk.org/results/dashboard/patchsets/34160/ UNH-IOL DPDK Community Lab To manage your email subscriptions, visit: https://lab.dpdk.org/results/dashboard/preferences/subscriptions/