From mboxrd@z Thu Jan 1 00:00:00 1970 Return-Path: Received: from mails.dpdk.org (mails.dpdk.org [217.70.189.124]) by inbox.dpdk.org (Postfix) with ESMTP id E573B4889F for ; Fri, 3 Oct 2025 14:19:56 +0200 (CEST) Received: from mails.dpdk.org (localhost [127.0.0.1]) by mails.dpdk.org (Postfix) with ESMTP id DFF004025D; Fri, 3 Oct 2025 14:19:56 +0200 (CEST) Received: from mail-qk1-f228.google.com (mail-qk1-f228.google.com [209.85.222.228]) by mails.dpdk.org (Postfix) with ESMTP id 5996C4025D for ; Fri, 3 Oct 2025 14:19:56 +0200 (CEST) Received: by mail-qk1-f228.google.com with SMTP id af79cd13be357-7f04816589bso242819285a.3 for ; Fri, 03 Oct 2025 05:19:56 -0700 (PDT) DKIM-Signature: v=1; a=rsa-sha256; c=relaxed/relaxed; d=iol.unh.edu; s=unh-iol; t=1759493995; x=1760098795; darn=dpdk.org; h=references:in-reply-to:cc:to:from:subject:message-id:date:from:to :cc:subject:date:message-id:reply-to; bh=zg6hnugGmNSZ5oRUOO7B3ePP2oE2S3GwB9Y6HIiTcVk=; b=aF5sDQGggxQkaVIKuJfvV1VF0mLGE1L3SDzbQuOCkULj/noyCQoDGVvzKykvwgSIw0 XwQnhSrrKl3REW5p8g9LnTx2bW+YT9Sh4lYQPZV0qcm4xD1QHskNcFOZ4kQJp6k/d+5G 3cnkE0I5MR3sqx4cX717b0xnpiPBV1YBRtDSQ= X-Google-DKIM-Signature: v=1; a=rsa-sha256; c=relaxed/relaxed; d=1e100.net; s=20230601; t=1759493995; x=1760098795; h=references:in-reply-to:cc:to:from:subject:message-id:date :x-gm-message-state:from:to:cc:subject:date:message-id:reply-to; bh=zg6hnugGmNSZ5oRUOO7B3ePP2oE2S3GwB9Y6HIiTcVk=; b=Df/3DJHyXAQJlMJ/l4JFMd1sidDa0rvwDlomHDXtb+6KaeLdgDpf1WjCBCJYNdWr/p 9n5L6mlDpJAFeA0KKXuqCwpsuzOdN5zrPatIZXTBqPYfY3b92ZAVtg0XRi0MFsRgKDhW /vc3TmDfrEBwsC/GtDRNzZuT/0wc9aePLC8nB6zScOQ2Xm8W+8WqaWk0KYIpHob2rroR JsILUhhwyITKQO8hM9Rl56kvbBitBDJmcNH88XHdvQ57DDNnnFnKg+LxXg6hTUpuMXed jI17NwFWJo6MMGFfHair63FCawIhLQmQ312vsKVo78gVxm3F7/N2pAmNWjH98FyGYr9l 4i7Q== X-Gm-Message-State: AOJu0Yyp3iOtu+T3S+yHDDIEbSUb9Jzmf9H1+fXLHPavhWeO81JIHRWu kc2D+9cXYZy3obIxCvpm7k0+wOM8y8R+SBaJhc9iH0rEtc0vT7XtZaz7x+Km6jgbF7ugm8+w+7n 9yviFKZDosgbNnb43CBBig3cQRJlicggdK3keP4NqI2uvTsGYkUhHC4O0ZWqq X-Gm-Gg: ASbGncvUVNHZr59MzO6rCqLMJim9L83suv6TqOpjKYgiLDvBLukYDajwqx2cQ4Qhuki xC2sb1X2LQU0XXuNhvKGlMEO6JqUrAfd7T78l2uTgbpaZlb3GSC6tNbqpE0eoOAKA/dp+eOlHO3 t+j/9batjoNNPFqDM3Db84qzhHpxVRRew9/npZylT+Vh7FOUGIEQ3nvAMtj4yVbA5GIKJ9/Q+12 gkDiX7Z+z7wHydgiOlPCSin+wAXBGhmmupwNXbmi+MPQy01si0UsLtIMzCszdQDKGlH/Sum3SI7 SbVQ66w+fRr4MAwLz8TpDCC0Gp+6Ou7H1Q4esCzfcwYEQEULHFQBoRI= X-Google-Smtp-Source: AGHT+IHXBw41bZ3Eg3bOD2SaRp+AalSqh27DNH7aSNItV+QQEltCZ5sFKfWVbDhUvcQ8o6ryQkxkyB/U1r8/ X-Received: by 2002:a05:620a:4549:b0:865:cacf:e12b with SMTP id af79cd13be357-87a36779371mr398707485a.3.1759493995632; Fri, 03 Oct 2025 05:19:55 -0700 (PDT) Received: from postal.iol.unh.edu (postal.iol.unh.edu. [2606:4100:3880:1234::84]) by smtp-relay.gmail.com with ESMTPS id af79cd13be357-877700db626sm24718285a.1.2025.10.03.05.19.55 (version=TLS1_2 cipher=ECDHE-ECDSA-AES128-GCM-SHA256 bits=128/128); Fri, 03 Oct 2025 05:19:55 -0700 (PDT) X-Relaying-Domain: iol.unh.edu Date: Fri, 03 Oct 2025 05:19:55 -0700 (PDT) Message-ID: <68dfbf6b.050a0220.267dc4.f566SMTPIN_ADDED_MISSING@mx.google.com> Received: from [172.21.0.3] (unknown [172.18.0.240]) by postal.iol.unh.edu (Postfix) with ESMTP id 23BAC6051830; Fri, 3 Oct 2025 08:19:55 -0400 (EDT) Subject: |SUCCESS| pw156995-157003 [PATCH] [v5,9/9] power: separate public an From: dpdklab@iol.unh.edu To: Test Report Cc: dpdk-test-reports@iol.unh.edu In-Reply-To: <20250926124103.750844-10-david.marchand@redhat.com> References: <20250926124103.750844-10-david.marchand@redhat.com> Content-Type: text/plain X-BeenThere: test-report@dpdk.org X-Mailman-Version: 2.1.29 Precedence: list List-Id: automatic DPDK test reports List-Unsubscribe: , List-Archive: List-Post: List-Help: List-Subscribe: , Errors-To: test-report-bounces@dpdk.org Test-Label: iol-compile-arm64-testing Test-Status: SUCCESS http://dpdk.org/patch/157003 _Testing PASS_ Submitter: David Marchand Date: Friday, September 26 2025 12:41:02 DPDK git baseline: Repo:dpdk Branch: master CommitID:441861b4a30e6b6b6aca07367dd487657b1f50e8 156995-157003 --> testing pass Upstream job id: Generic-DPDK-Compile-Meson#430551 Test environment and result as below: +------------------------------+--------------------+ | Environment | dpdk_meson_compile | +==============================+====================+ | Red Hat Enterprise Linux 9.5 | PASS | +------------------------------+--------------------+ | Ubuntu 20.04 | PASS | +------------------------------+--------------------+ | Debian GNU/Linux 12 | PASS | +------------------------------+--------------------+ | Fedora Linux 42 | PASS | +------------------------------+--------------------+ | Ubuntu 22.04 | PASS | +------------------------------+--------------------+ | CentOS Stream 9 | PASS | +------------------------------+--------------------+ | CentOS Stream 10 | PASS | +------------------------------+--------------------+ | Ubuntu 24.04 | PASS | +------------------------------+--------------------+ Red Hat Enterprise Linux 9.5 Kernel: 5.4 Compiler: gcc gcc (GCC) 11.5.0 20240719 (Red Hat 11.5.0-2) Ubuntu 20.04 Kernel: 5.15 Compiler: aarch64-linux-gnu-gcc gcc (Ubuntu 9.4.0-1ubuntu1~20.04.2) 9.4.0 Debian GNU/Linux 12 Kernel: 5.4 Compiler: gcc gcc (Debian 12.2.0-14+deb12u1) 12.2.0 Fedora Linux 42 Kernel: 5.4 Compiler: gcc gcc (GCC) 15.2.1 20250808 (Red Hat 15.2.1-1) Ubuntu 22.04 Kernel: 5.4 Compiler: gcc gcc (Ubuntu 11.4.0-1ubuntu1~22.04) 11.4.0 CentOS Stream 9 Kernel: 5.4 Compiler: gcc gcc (GCC) 11.5.0 20240719 (Red Hat 11.5.0-11) CentOS Stream 10 Kernel: 5.4 Compiler: gcc gcc (GCC) 14.2.1 20250110 (Red Hat 14.2.1-8) Ubuntu 24.04 Kernel: 5.4 Compiler: gcc gcc (Ubuntu 13.3.0-6ubuntu2~24.04) 13.3.0 To view detailed results, visit: https://lab.dpdk.org/results/dashboard/patchsets/34158/ UNH-IOL DPDK Community Lab To manage your email subscriptions, visit: https://lab.dpdk.org/results/dashboard/preferences/subscriptions/