From mboxrd@z Thu Jan 1 00:00:00 1970 Return-Path: Received: from mails.dpdk.org (mails.dpdk.org [217.70.189.124]) by inbox.dpdk.org (Postfix) with ESMTP id 68A2C4889F for ; Fri, 3 Oct 2025 14:23:28 +0200 (CEST) Received: from mails.dpdk.org (localhost [127.0.0.1]) by mails.dpdk.org (Postfix) with ESMTP id 627F34025D; Fri, 3 Oct 2025 14:23:28 +0200 (CEST) Received: from mail-pj1-f97.google.com (mail-pj1-f97.google.com [209.85.216.97]) by mails.dpdk.org (Postfix) with ESMTP id 563AC4025D for ; Fri, 3 Oct 2025 14:23:27 +0200 (CEST) Received: by mail-pj1-f97.google.com with SMTP id 98e67ed59e1d1-33255011eafso2230114a91.1 for ; Fri, 03 Oct 2025 05:23:27 -0700 (PDT) DKIM-Signature: v=1; a=rsa-sha256; c=relaxed/relaxed; d=iol.unh.edu; s=unh-iol; t=1759494206; x=1760099006; darn=dpdk.org; h=references:in-reply-to:cc:to:from:subject:message-id:date:from:to :cc:subject:date:message-id:reply-to; bh=U9cg/SKN6gZ2OAHX/wWcbdzCfe/HQTb3XB28XqfbDzI=; b=G/IU+QTRBG+ReyNHdYLr3d2fVsHKO3EYMPgwz5xelGd4H1o9QpomnnL/PPKN71Y2Ba JmA6Gtn4bkNinWa72z3B4lnxguFMAFziMr+24ZRTZmXlUvT2u60BNIHZNJtBHsK013CF h63W1h2LO3l3DrmX4CxeLd/78epbkGORwj5lk= X-Google-DKIM-Signature: v=1; a=rsa-sha256; c=relaxed/relaxed; d=1e100.net; s=20230601; t=1759494206; x=1760099006; h=references:in-reply-to:cc:to:from:subject:message-id:date :x-gm-message-state:from:to:cc:subject:date:message-id:reply-to; bh=U9cg/SKN6gZ2OAHX/wWcbdzCfe/HQTb3XB28XqfbDzI=; b=jGWRNXSyiEUoE1AlYxDlIxM2YoBMJ67paQeIaCDKpY/dpuzSDQUTihoa/Eafs+5vV8 USQnz3KSX+jfOBZdzp0fxkHEROfj2MRxENDK4P/r64rGN8LVN0tLWkYSio2CBZXpvHqu TQ26B+ZzJWiekIQ9qT+T/D646ZUK15ZltMqvcxAbDRaUe7P6UP3vpZPTvGfyCPtCmgMm oBFFaRJwLy4NK4+qC6Q8cDJHhEcSxp0noIDAEvmIMgQS8HJQH8DHB1H/G+XhOpaKShbV 6MT4WsAeFjNPEyqM0IJXMZwTH1YIjvDCZolRRuwBwOvLNJBvjrRrFwLWiyIb1wjEZt1N zhTw== X-Gm-Message-State: AOJu0YwbWwZWp5Rl7IKH5mQehNhQxFiSJO0LTEumyiS1UuzELaH2BX8u cliJPTgqipFNxaYKJk+1t9SBZOuQElx/x80fKgUdFlb+EecALZkQi37JnJ6Y269XWkZ25DLxkH3 hi+yzlP46orUyxi145/niWY4zH8RuKe90gFyvPbhNOiPK X-Gm-Gg: ASbGncsEIVo1+dmkG1oEaWBr3KfaVCM6HC6q+ot7SZpWtA12BGVjrH94OFDJD6iJhbs iuADHj792AZ8GPQXBeUI1Tqkm3ktqMKAxH7CTakeZ0KRUPtnUxwh2h/66owIzFfXDU1yNhz6b1F HhP5g+SLGmkXSf5H9c+zOjlT+48H0jk2QcZ1WIOZ79AxaJ318dnkroq7vrx353J5twBeeUD+uvj Isj5Xu+Jtg8O66VIKV9oDXgqPNtG6J6KlFGS3lq5yixPaA8c3Zu3sdXUwss6rD2iKkf9KI25SBy 4R0OjZ059wwI2Immq42dniOksPIpTpZnpJLBF31fWYeOP60OwflEx0vPv5o7IyCwAPROCrdybBY PQQ== X-Google-Smtp-Source: AGHT+IGyY9g/CmMFANSC1VbOHJ2cIBHs75YJwSvha/BAx0wyzWPBBrh8raFnX8NPS1mzBfr0nkjJslGnl+sL X-Received: by 2002:a17:90b:17c4:b0:32c:38b0:593e with SMTP id 98e67ed59e1d1-339c27067f5mr3110443a91.5.1759494206397; Fri, 03 Oct 2025 05:23:26 -0700 (PDT) Received: from postal.iol.unh.edu (postal.iol.unh.edu. [132.177.123.84]) by smtp-relay.gmail.com with ESMTPS id 98e67ed59e1d1-339b4f2291esm379578a91.5.2025.10.03.05.23.26 (version=TLS1_2 cipher=ECDHE-ECDSA-AES128-GCM-SHA256 bits=128/128); Fri, 03 Oct 2025 05:23:26 -0700 (PDT) X-Relaying-Domain: iol.unh.edu Date: Fri, 03 Oct 2025 05:23:26 -0700 (PDT) Message-ID: <68dfc03e.170a0220.11642c.778bSMTPIN_ADDED_MISSING@mx.google.com> Received: from [172.21.0.5] (unknown [172.18.0.240]) by postal.iol.unh.edu (Postfix) with ESMTP id AA08B6051830; Fri, 3 Oct 2025 08:23:25 -0400 (EDT) Subject: |SUCCESS| pw157251-157252 [PATCH] [v2,2/2] net/iavf: add restore com From: dpdklab@iol.unh.edu To: Test Report Cc: dpdk-test-reports@iol.unh.edu, Bruce Richardson In-Reply-To: <20251003102359.823028-2-ciara.loftus@intel.com> References: <20251003102359.823028-2-ciara.loftus@intel.com> Content-Type: text/plain X-BeenThere: test-report@dpdk.org X-Mailman-Version: 2.1.29 Precedence: list List-Id: automatic DPDK test reports List-Unsubscribe: , List-Archive: List-Post: List-Help: List-Subscribe: , Errors-To: test-report-bounces@dpdk.org Test-Label: iol-compile-amd64-testing Test-Status: SUCCESS http://dpdk.org/patch/157252 _Testing PASS_ Submitter: Loftus, Ciara Date: Friday, October 03 2025 10:23:59 DPDK git baseline: Repo:dpdk-next-net-intel Branch: master CommitID:e7d8cc7ef4df3552575525697079d3c957cfcdaf 157251-157252 --> testing pass Upstream job id: Windows-Compile-DPDK-Native#31397 Test environment and result as below: +---------------------+--------------------+-------------------+-------------------------+ | Environment | dpdk_meson_compile | dpdk_msvc_compile | dpdk_llvm_clang_compile | +=====================+====================+===================+=========================+ | Ubuntu 20.04 | PASS | SKIPPED | SKIPPED | +---------------------+--------------------+-------------------+-------------------------+ | FreeBSD 14.2 | PASS | SKIPPED | SKIPPED | +---------------------+--------------------+-------------------+-------------------------+ | Windows Server 2022 | SKIPPED | PASS | PASS | +---------------------+--------------------+-------------------+-------------------------+ Ubuntu 20.04 Kernel: 4.19 Compiler: gcc gcc (Ubuntu 9.4.0-1ubuntu1~20.04.2) 9.4.0 FreeBSD 14.2 Kernel: 14.2-RELEASE Compiler: clang 18.1.6 Windows Server 2022 Kernel: 10.0.20348.2031 Compiler: clang 15.0.7, gcc 14.1.0 (MinGW), and MSVC VS 19.39.33521 To view detailed results, visit: https://lab.dpdk.org/results/dashboard/patchsets/34207/ UNH-IOL DPDK Community Lab To manage your email subscriptions, visit: https://lab.dpdk.org/results/dashboard/preferences/subscriptions/