From mboxrd@z Thu Jan 1 00:00:00 1970 Return-Path: Received: from mails.dpdk.org (mails.dpdk.org [217.70.189.124]) by inbox.dpdk.org (Postfix) with ESMTP id 93DCC4889F for ; Fri, 3 Oct 2025 14:33:02 +0200 (CEST) Received: from mails.dpdk.org (localhost [127.0.0.1]) by mails.dpdk.org (Postfix) with ESMTP id 647984025D; Fri, 3 Oct 2025 14:33:02 +0200 (CEST) Received: from mail-yx1-f97.google.com (mail-yx1-f97.google.com [74.125.224.97]) by mails.dpdk.org (Postfix) with ESMTP id 51BE64025D for ; Fri, 3 Oct 2025 14:33:01 +0200 (CEST) Received: by mail-yx1-f97.google.com with SMTP id 956f58d0204a3-635fde9cd06so2090843d50.0 for ; Fri, 03 Oct 2025 05:33:01 -0700 (PDT) DKIM-Signature: v=1; a=rsa-sha256; c=relaxed/relaxed; d=iol.unh.edu; s=unh-iol; t=1759494780; x=1760099580; darn=dpdk.org; h=references:in-reply-to:cc:to:from:subject:message-id:date:from:to :cc:subject:date:message-id:reply-to; bh=ejbDkc6hlTzq2lk6vY3RoK8hfgO5NC//4ui7m8CGsss=; b=bsqFWOx1uXtTfjcbbPUf4Rfj7IR9TEMYE5/FxNSuFQRVYZ7FIrLO5jYE47C7OLJSQt WRIh+cmNHhPclrJA4CF9/+QuYirobkXFMthlYWvA+BLKuiZr0qB6aLFaD6XNB2p1Zi3C LFhJw4k/71H0WXDhAxtxGMOBDm0OX64xM0rsk= X-Google-DKIM-Signature: v=1; a=rsa-sha256; c=relaxed/relaxed; d=1e100.net; s=20230601; t=1759494780; x=1760099580; h=references:in-reply-to:cc:to:from:subject:message-id:date :x-gm-message-state:from:to:cc:subject:date:message-id:reply-to; bh=ejbDkc6hlTzq2lk6vY3RoK8hfgO5NC//4ui7m8CGsss=; b=FkLUXrtTTd2Ym0J7tseXIaEkXO0ETi0JKLP4MFcqNrhIf9zQS7nc3R7htvXfRKk+D/ 3JYkRsy5/bFzzeO/VQFnPl3glPRgHUX/5TulEyCj2FjEtYkdiAsmhJi71f2cRagzTYkw XLpH6yUtNRk6VGfECkY4dylXRJpbtX9v9f0iPLSumjbAPSkhuRT4Kar1p3AjILprl+4B /fUDfeC+XLn7EXOcBY/VwA5A7eL19hSxRZISwOuz2KABbZbh2UhzfpwRya3ywgLk8s+Z WtMG/F0X3DGNeT9RjZCXtn0fkQdkNq8hRR3fFRiD+u9hpIBPxNAs9yENBG2b1ZTMbnT/ Gu8A== X-Gm-Message-State: AOJu0YztxxDcJQw9s0bKzW+CwVPVfS164oF224bur+vmo8asjo1njkx5 S5k2RNDZF7Zuw/FcaoS2OBnAzGyyAbTCrJHAuPIA7vsuEw0CK0955SGG/+Zo4Oup1ykCg2EZ7AH VvF1kLJewV//0DK26XseDa/M/C9uIo9pfhGQF14wd97WpxGR5ULtsTkPpIjXz X-Gm-Gg: ASbGnctKxi/PiJFDcNQvKJTHFxgzU14GhDF0QRJwwJ+5BPxcRvzt6NNdRlolqrj+ahv X7TtT7ECv2dBhYSlTKJLtsBBoIHg+x9/URaMYAGKagGI8kZwoVNcdtfBFUT2yXMxAKZjh8xNkC6 R+iQFMOodSmHEqyI2TB3yNnTVY9Uso2Eiki6LjnLg8GnLvsxc2oAGIpJrGRuXu7ZhMirGZhlo3P yJywwBGYrj34dHEFT1ogcNgYctArM8ACvPrEeLM65k6kzMCnC40fzRlAunCdqMFlJvNQb68A/Kh IX/W/sg8QqkCzoXeq3sgybTRq4fmQ5IasLW0Vd8kgW3Ap99sou8TjvA= X-Google-Smtp-Source: AGHT+IEgOyyLY3oco401G/lF2p1FtjFqpnT/WaqfikZ85EmuiF1W0suVPX6MFJlUiEiQJtu0SHjrAW3mBtFB X-Received: by 2002:a05:690e:2490:b0:633:a47c:6e35 with SMTP id 956f58d0204a3-63b9a0f0cabmr2154507d50.35.1759494780515; Fri, 03 Oct 2025 05:33:00 -0700 (PDT) Received: from postal.iol.unh.edu (postal.iol.unh.edu. [2606:4100:3880:1234::84]) by smtp-relay.gmail.com with ESMTPS id 956f58d0204a3-63b8443b78fsm252442d50.0.2025.10.03.05.33.00 (version=TLS1_2 cipher=ECDHE-ECDSA-AES128-GCM-SHA256 bits=128/128); Fri, 03 Oct 2025 05:33:00 -0700 (PDT) X-Relaying-Domain: iol.unh.edu Date: Fri, 03 Oct 2025 05:33:00 -0700 (PDT) Message-ID: <68dfc27c.530a0220.d9c31.f504SMTPIN_ADDED_MISSING@mx.google.com> Received: from [172.21.0.2] (unknown [172.18.0.240]) by postal.iol.unh.edu (Postfix) with ESMTP id 1AD236051830; Fri, 3 Oct 2025 08:33:00 -0400 (EDT) Subject: |SUCCESS| pw157260 [PATCH] ethdev: fix copy-paste error in fn parame From: dpdklab@iol.unh.edu To: Test Report Cc: dpdk-test-reports@iol.unh.edu, Stephen Hemminger In-Reply-To: <20251003110944.1594659-1-bruce.richardson@intel.com> References: <20251003110944.1594659-1-bruce.richardson@intel.com> Content-Type: text/plain X-BeenThere: test-report@dpdk.org X-Mailman-Version: 2.1.29 Precedence: list List-Id: automatic DPDK test reports List-Unsubscribe: , List-Archive: List-Post: List-Help: List-Subscribe: , Errors-To: test-report-bounces@dpdk.org Test-Label: iol-unit-amd64-testing Test-Status: SUCCESS http://dpdk.org/patch/157260 _Testing PASS_ Submitter: Bruce Richardson Date: Friday, October 03 2025 11:09:44 DPDK git baseline: Repo:dpdk-next-net Branch: master CommitID:c04bbd131b2c14b3049bf86d3ef367b34e6fdf1e 157260 --> testing pass Upstream job id: Generic-VM-Unit-Test-DPDK#31568 Test environment and result as below: +-------------------------------+----------------+ | Environment | dpdk_unit_test | +===============================+================+ | CentOS Stream 9 | PASS | +-------------------------------+----------------+ | Debian GNU/Linux 12 | PASS | +-------------------------------+----------------+ | Fedora Linux 40 | PASS | +-------------------------------+----------------+ | CentOS Stream 10 | PASS | +-------------------------------+----------------+ | Fedora Linux 42 | PASS | +-------------------------------+----------------+ | Fedora Linux 41 | PASS | +-------------------------------+----------------+ | Red Hat Enterprise Linux 8.10 | PASS | +-------------------------------+----------------+ | Ubuntu 20.04 | PASS | +-------------------------------+----------------+ | Ubuntu 24.04 | PASS | +-------------------------------+----------------+ | Ubuntu 22.04 | PASS | +-------------------------------+----------------+ | Red Hat Enterprise Linux 9.5 | PASS | +-------------------------------+----------------+ | Windows Server 2022 | PASS | +-------------------------------+----------------+ CentOS Stream 9 Kernel: 5.15 Compiler: gcc gcc (GCC) 11.5.0 20240719 (Red Hat 11.5.0-11) Debian GNU/Linux 12 Kernel: 5.15 Compiler: gcc gcc (Debian 12.2.0-14+deb12u1) 12.2.0 Fedora Linux 40 Kernel: 5.15 Compiler: gcc gcc (GCC) 14.2.1 20240912 (Red Hat 14.2.1-3) CentOS Stream 10 Kernel: 5.15 Compiler: gcc gcc (GCC) 14.2.1 20250110 (Red Hat 14.2.1-8) Fedora Linux 42 Kernel: 5.15 Compiler: gcc gcc (GCC) 15.2.1 20250808 (Red Hat 15.2.1-1) Fedora Linux 41 Kernel: 5.15 Compiler: clang gcc (GCC) 14.3.1 20250523 (Red Hat 14.3.1-1) Red Hat Enterprise Linux 8.10 Kernel: 5.15 Compiler: gcc gcc (GCC) 8.5.0 20210514 (Red Hat 8.5.0-22) Ubuntu 20.04 Kernel: 5.15 Compiler: gcc gcc (Ubuntu 9.4.0-1ubuntu1~20.04.2) 9.4.0 Ubuntu 24.04 Kernel: 5.15 Compiler: gcc gcc (Ubuntu 13.3.0-6ubuntu2~24.04) 13.3.0 Ubuntu 22.04 Kernel: 5.15 Compiler: gcc gcc (Ubuntu 11.4.0-1ubuntu1~22.04) 11.4.0 Red Hat Enterprise Linux 9.5 Kernel: 5.15 Compiler: gcc gcc (GCC) 11.5.0 20240719 (Red Hat 11.5.0-2) Windows Server 2022 Kernel: 10.0.20348.2031 Compiler: clang 15.0.7, gcc 14.1.0 (MinGW), and MSVC VS 19.39.33521 To view detailed results, visit: https://lab.dpdk.org/results/dashboard/patchsets/34208/ UNH-IOL DPDK Community Lab To manage your email subscriptions, visit: https://lab.dpdk.org/results/dashboard/preferences/subscriptions/