From mboxrd@z Thu Jan 1 00:00:00 1970 Return-Path: Received: from mails.dpdk.org (mails.dpdk.org [217.70.189.124]) by inbox.dpdk.org (Postfix) with ESMTP id 2176F4889F for ; Fri, 3 Oct 2025 14:39:15 +0200 (CEST) Received: from mails.dpdk.org (localhost [127.0.0.1]) by mails.dpdk.org (Postfix) with ESMTP id F12DA4025D; Fri, 3 Oct 2025 14:39:14 +0200 (CEST) Received: from mail-qk1-f227.google.com (mail-qk1-f227.google.com [209.85.222.227]) by mails.dpdk.org (Postfix) with ESMTP id 977D94025D for ; Fri, 3 Oct 2025 14:39:13 +0200 (CEST) Received: by mail-qk1-f227.google.com with SMTP id af79cd13be357-855733c47baso317310785a.0 for ; Fri, 03 Oct 2025 05:39:13 -0700 (PDT) DKIM-Signature: v=1; a=rsa-sha256; c=relaxed/relaxed; d=iol.unh.edu; s=unh-iol; t=1759495153; x=1760099953; darn=dpdk.org; h=cc:to:from:subject:message-id:date:from:to:cc:subject:date :message-id:reply-to; bh=R4gc/OcTc4VGqnw9jH91NVCMHdUJGCrs0bGUrly8BjA=; b=ir4LKmGrSKJBYnVeoKei1JxzFAtmhzOa0/V3GkUF8XfBHY7/R8ekrMEKYmZC5+1ph6 meahxswdt5sFteygkR0CiOwEdHrVowa00xz3SpeLiyS0ucYyzfrL+jCgbes+I7tk50LR xim1LxCrheTc51uFD9uzuIdTxr5gUIvjx1ofI= X-Google-DKIM-Signature: v=1; a=rsa-sha256; c=relaxed/relaxed; d=1e100.net; s=20230601; t=1759495153; x=1760099953; h=cc:to:from:subject:message-id:date:x-gm-message-state:from:to:cc :subject:date:message-id:reply-to; bh=R4gc/OcTc4VGqnw9jH91NVCMHdUJGCrs0bGUrly8BjA=; b=OPcqa1wFzvzHa+m/hiPbEjQj1VNWm3mqk4ctj8unvqlQfI062ayEilJuIJtICiCAWm QpJf+6zRRNMQdUBEK2kKSmiMPpooMmc/8G4aiO/4sRTYd/7jT6nxOEuQOCqnqvSetRGQ 7eMa3QD7I1HbPSpRgXLIteCS6iN8T/4FsG2TrubhvasgAXl1OT4KHKePhEiWYm7J3rTm UFDsVmOLKWkGkfs44QPKmhHAixhRotHalsGPXR+0ZNtHcW8jPyScL/OOkscQeB+6vpym F9pYp/1yOQ/jQ8ehMURMDPcUo9wIMdmbrkQKFh6iZR+K2IS0U5E0bc54udox8xmI/rSv rSWg== X-Gm-Message-State: AOJu0YwzhbiE7TsxR4Fo4ffzgV9wqLJCiAdxuYa6cKihOUSxWEfTj7r6 LFHrmTlJ6DbConkQx4EGwypfaNOLt4wCZx3GadWp4b7yg10CrgpDLP2NBVlaC9epy/UspR2fJp4 mVXGMG/wdwHfhbhcrOgQaEu/hpviZkwtrHi12pHk5IkZslIxrPYtB X-Gm-Gg: ASbGnct6BZuWPhQAnMPerceqJc+CxN4BkgyNXhEQj6bIcBgBYX7NYF8GFW+FjgIvM89 4Wuz5V5mb07od/67fXoHnvSalMNiGbqIx5sN2V3ZvCFgPh1wefsnVkkqCZWH2E9+PZ+HasaYrkF O0Z2OSnSnQvFpHKV/ztC4A2FhwmwjYHgOmg/fthEb190nC8Dz81hcOdP0CR+tSdOniUupoKeaIs vfo2mz4meYZ6ZqEcgdlfN6Nje9CF1ZcNkm9ko9sh/62Svy3csrGU7e9/uGLMjQt4vN1nlKioT/b zLcdKjAcqGy9tho4oD2QZjaShfJKjyOCU38gaOlO1XaHDnlHkY+hAlc= X-Google-Smtp-Source: AGHT+IHbMgZW0e+PCDIKNKFO0um2vwTPiqBSaPPm6EpdEaZ/xXb5HnrY2tjnBGFeZLRPQgRXmWqQlGJ+ijLn X-Received: by 2002:a05:620a:2550:b0:82a:bb78:20c4 with SMTP id af79cd13be357-87a33b437bemr352735585a.8.1759495152943; Fri, 03 Oct 2025 05:39:12 -0700 (PDT) Received: from postal.iol.unh.edu (postal.iol.unh.edu. [2606:4100:3880:1234::84]) by smtp-relay.gmail.com with ESMTPS id af79cd13be357-87776e55b61sm33510285a.8.2025.10.03.05.39.12 (version=TLS1_2 cipher=ECDHE-ECDSA-AES128-GCM-SHA256 bits=128/128); Fri, 03 Oct 2025 05:39:12 -0700 (PDT) X-Relaying-Domain: iol.unh.edu Date: Fri, 03 Oct 2025 05:39:12 -0700 (PDT) Message-ID: <68dfc3f0.050a0220.3448d2.4164SMTPIN_ADDED_MISSING@mx.google.com> Received: from [172.21.0.3] (unknown [172.18.0.240]) by postal.iol.unh.edu (Postfix) with ESMTP id A82686051830; Fri, 3 Oct 2025 08:39:12 -0400 (EDT) Subject: |SUCCESS| [GIT MASTER] 3b43ce3f4a54468e7ef65760c2fd7b4d6ee6d9fc From: dpdklab@iol.unh.edu To: Test Report Cc: dpdk-test-reports@iol.unh.edu, Xueming Li , Christian Ehrhardt , Kevin Traynor , Luca Boccassi Content-Type: text/plain X-BeenThere: test-report@dpdk.org X-Mailman-Version: 2.1.29 Precedence: list List-Id: automatic DPDK test reports List-Unsubscribe: , List-Archive: List-Post: List-Help: List-Subscribe: , Errors-To: test-report-bounces@dpdk.org _Testing PASS_ Branch: tags/v22.11 3b43ce3f4a54468e7ef65760c2fd7b4d6ee6d9fc --> testing pass Upstream job id: Generic-DPDK-Compile-Meson#430621 Test environment and result as below: +-------------------------------+--------------------+-------------------------+----------------------+ | Environment | dpdk_meson_compile | dpdk_llvm_clang_compile | dpdk_mingw64_compile | +===============================+====================+=========================+======================+ | Ubuntu 20.04 | PASS | SKIPPED | SKIPPED | +-------------------------------+--------------------+-------------------------+----------------------+ | FreeBSD 14.2 | PASS | SKIPPED | SKIPPED | +-------------------------------+--------------------+-------------------------+----------------------+ | openSUSE Leap 15.6 | PASS | SKIPPED | SKIPPED | +-------------------------------+--------------------+-------------------------+----------------------+ | CentOS Stream 9 | PASS | SKIPPED | SKIPPED | +-------------------------------+--------------------+-------------------------+----------------------+ | CentOS Stream 10 | PASS | SKIPPED | SKIPPED | +-------------------------------+--------------------+-------------------------+----------------------+ | Debian GNU/Linux 12 | PASS | SKIPPED | SKIPPED | +-------------------------------+--------------------+-------------------------+----------------------+ | Fedora Linux 42 | PASS | SKIPPED | SKIPPED | +-------------------------------+--------------------+-------------------------+----------------------+ | Red Hat Enterprise Linux 9.5 | PASS | SKIPPED | SKIPPED | +-------------------------------+--------------------+-------------------------+----------------------+ | Red Hat Enterprise Linux 8.10 | PASS | SKIPPED | SKIPPED | +-------------------------------+--------------------+-------------------------+----------------------+ | Ubuntu 24.04 | PASS | SKIPPED | SKIPPED | +-------------------------------+--------------------+-------------------------+----------------------+ | Ubuntu 22.04 | PASS | SKIPPED | SKIPPED | +-------------------------------+--------------------+-------------------------+----------------------+ | Windows Server 2022 | SKIPPED | PASS | PASS | +-------------------------------+--------------------+-------------------------+----------------------+ Ubuntu 20.04 Kernel: 4.19 Compiler: gcc gcc (Ubuntu 9.4.0-1ubuntu1~20.04.2) 9.4.0 FreeBSD 14.2 Kernel: 14.2-RELEASE Compiler: clang 18.1.6 openSUSE Leap 15.6 Kernel: 5.15 Compiler: gcc gcc (SUSE Linux) 7.5.0 CentOS Stream 9 Kernel: 5.15 Compiler: gcc gcc (GCC) 11.5.0 20240719 (Red Hat 11.5.0-11) CentOS Stream 10 Kernel: 5.15 Compiler: gcc gcc (GCC) 14.2.1 20250110 (Red Hat 14.2.1-8) Debian GNU/Linux 12 Kernel: 5.15 Compiler: gcc gcc (Debian 12.2.0-14+deb12u1) 12.2.0 Fedora Linux 42 Kernel: 5.15 Compiler: clang gcc (GCC) 15.2.1 20250808 (Red Hat 15.2.1-1) Red Hat Enterprise Linux 9.5 Kernel: 5.15 Compiler: gcc gcc (GCC) 11.5.0 20240719 (Red Hat 11.5.0-2) Red Hat Enterprise Linux 8.10 Kernel: 5.15 Compiler: gcc gcc (GCC) 8.5.0 20210514 (Red Hat 8.5.0-22) Ubuntu 24.04 Kernel: 5.15 Compiler: gcc gcc (Ubuntu 13.3.0-6ubuntu2~24.04) 13.3.0 Ubuntu 22.04 Kernel: 5.15 Compiler: gcc gcc (Ubuntu 11.4.0-1ubuntu1~22.04) 11.4.0 Windows Server 2022 Kernel: 10.0.20348.2031 Compiler: clang 15.0.7, gcc 14.1.0 (MinGW), and MSVC VS 19.39.33521 To view detailed results, visit: https://lab.dpdk.org/results/dashboard/tarballs/35067/ UNH-IOL DPDK Community Lab To manage your email subscriptions, visit: https://lab.dpdk.org/results/dashboard/preferences/subscriptions/