From mboxrd@z Thu Jan 1 00:00:00 1970 Return-Path: Received: from mails.dpdk.org (mails.dpdk.org [217.70.189.124]) by inbox.dpdk.org (Postfix) with ESMTP id 46D064889F for ; Fri, 3 Oct 2025 14:50:18 +0200 (CEST) Received: from mails.dpdk.org (localhost [127.0.0.1]) by mails.dpdk.org (Postfix) with ESMTP id 307B640267; Fri, 3 Oct 2025 14:50:18 +0200 (CEST) Received: from mail-il1-f225.google.com (mail-il1-f225.google.com [209.85.166.225]) by mails.dpdk.org (Postfix) with ESMTP id AA93540277 for ; Fri, 3 Oct 2025 14:50:16 +0200 (CEST) Received: by mail-il1-f225.google.com with SMTP id e9e14a558f8ab-42d8b15548eso10255375ab.2 for ; Fri, 03 Oct 2025 05:50:16 -0700 (PDT) DKIM-Signature: v=1; a=rsa-sha256; c=relaxed/relaxed; d=iol.unh.edu; s=unh-iol; t=1759495816; x=1760100616; darn=dpdk.org; h=cc:to:from:subject:message-id:date:from:to:cc:subject:date :message-id:reply-to; bh=y3YMKIVQKF+29EJdfgdNDBUl2IuN72tLEb6LE+L3TwI=; b=a1eMNYKi1mtfdqjeWJGLwfcrYHS+06YnPzMBnZF62rrk/LaJedpBtJIHeMRPMo9+ze BrXbJA0Z8yIaveS5gIcWb5J0+3Z9ScvLaTe4PJaLcYqbuxAuGfohkb4O5jCwldombawQ suvhL+yWWSDqIhYqNbE0T8DrhiTzOLVfm8xBU= X-Google-DKIM-Signature: v=1; a=rsa-sha256; c=relaxed/relaxed; d=1e100.net; s=20230601; t=1759495816; x=1760100616; h=cc:to:from:subject:message-id:date:x-gm-message-state:from:to:cc :subject:date:message-id:reply-to; bh=y3YMKIVQKF+29EJdfgdNDBUl2IuN72tLEb6LE+L3TwI=; b=c8rI88Ug0zwUKbR0Y7/ulg50GwMQXLXNhtdVteDa7aKv69M31KNdOcPh9qnJjj+a17 NcCc6VZ6afBktBbHPcbZ3ZHJY6Y59s3CVPe8F5Y4fkt67StlsyNhYQSESigM4P6BB/bT gFWNO8QKuv7O86xTDFYS8Y0btLY7PSuZsw05Mw20NKILW+H6AucZJI/7RfxgyzGKl95A TtxGWIcwHmRp+deobPh2Yhkc5Dmu+sju6jJJsICMA2ehFKfNlEJkgtVPOABkcgiRNvNX OGg5pJlvdeRttQfKDitryd+W1heu3VX+cftN0Lr/iiJ3pJ+ypnWBI+WC8POOHo88sTqf N2gg== X-Gm-Message-State: AOJu0YzhmIhzrmo0gVpr2pjmr+4BMn77mdJJFe75g6Isy8PmO5dQx0EQ HOi8w4nRm24p8OyoN6qthsScY+WvZ/BSQWRrjZs6OQIgT0pbEU3SXaaoO5zBtLV4JDV/y2o0ZdC DuIFH+J96PWdZk6WxYLMYZ2PPXsags5FmyZVgw8SVtayemcI8g47k X-Gm-Gg: ASbGncuEQuOgMLBRJp6ao6UIdftxqvlk0JDVEVv8S1IH9a0sb8Fs2bN1FU8lZMMetcK 6PxWcasuCV3SgE0G11TxBbmwXe0ENbF9EuOt6O90RuGmHabgzaJtgtlnVzLLLEXrH3rfeLxhgkL E9gC7W56chJNcaXT7++1Q/m5/iJsOSBafAGUQaOivoeraK78ODIZcSzj6ZacLTJVvqiW0QssH4V 7atZsM7KmHODGWc0o3SGXYc7JkWpmX/v5eAFu6hEzG5/MoclSOCXME71yVPWdtC92dbNXUG4e3L mQnhT+MiR05lqoU8l+YZ577EQNdxktd9TRxRW9v86ApJmMJ+N67g+g0= X-Google-Smtp-Source: AGHT+IGhwWuA31JeAAC+wbr7enrJXD8UuUaoELjHsZ+MTuNIAcEECNlCFN8Hz9aWmZcM0KcTej4i3eP/tsvj X-Received: by 2002:a92:c268:0:b0:424:3b83:4f5f with SMTP id e9e14a558f8ab-42e7acec126mr27092995ab.8.1759495815827; Fri, 03 Oct 2025 05:50:15 -0700 (PDT) Received: from postal.iol.unh.edu (postal.iol.unh.edu. [2606:4100:3880:1234::84]) by smtp-relay.gmail.com with ESMTPS id 8926c6da1cb9f-57b5edeb9desm364398173.49.2025.10.03.05.50.15 (version=TLS1_2 cipher=ECDHE-ECDSA-AES128-GCM-SHA256 bits=128/128); Fri, 03 Oct 2025 05:50:15 -0700 (PDT) X-Relaying-Domain: iol.unh.edu Date: Fri, 03 Oct 2025 05:50:15 -0700 (PDT) Message-ID: <68dfc687.050a0220.2c601d.5f8fSMTPIN_ADDED_MISSING@mx.google.com> Received: from [172.21.0.2] (unknown [172.18.0.240]) by postal.iol.unh.edu (Postfix) with ESMTP id 66AFC6051830; Fri, 3 Oct 2025 08:50:15 -0400 (EDT) Subject: |SUCCESS| [GIT MASTER] b287e404643aeab5bb5db084c142789df187844e From: dpdklab@iol.unh.edu To: Test Report Cc: dpdk-test-reports@iol.unh.edu, Xueming Li , Christian Ehrhardt , Kevin Traynor , Luca Boccassi Content-Type: text/plain X-BeenThere: test-report@dpdk.org X-Mailman-Version: 2.1.29 Precedence: list List-Id: automatic DPDK test reports List-Unsubscribe: , List-Archive: List-Post: List-Help: List-Subscribe: , Errors-To: test-report-bounces@dpdk.org _Testing PASS_ Branch: tags/v24.11 b287e404643aeab5bb5db084c142789df187844e --> testing pass Upstream job id: Generic-DPDK-Compile-Meson#430633 Test environment and result as below: +-------------------------------+--------------------+-------------------+-------------------------+----------------------+------------------+-------------------+ | Environment | dpdk_meson_compile | dpdk_msvc_compile | dpdk_llvm_clang_compile | dpdk_mingw64_compile | dpdk_compile_ovs | dpdk_compile_spdk | +===============================+====================+===================+=========================+======================+==================+===================+ | Ubuntu 20.04 | PASS | SKIPPED | SKIPPED | SKIPPED | SKIPPED | SKIPPED | +-------------------------------+--------------------+-------------------+-------------------------+----------------------+------------------+-------------------+ | FreeBSD 14.2 | PASS | SKIPPED | SKIPPED | SKIPPED | SKIPPED | SKIPPED | +-------------------------------+--------------------+-------------------+-------------------------+----------------------+------------------+-------------------+ | CentOS Stream 10 | PASS | SKIPPED | SKIPPED | SKIPPED | SKIPPED | SKIPPED | +-------------------------------+--------------------+-------------------+-------------------------+----------------------+------------------+-------------------+ | Fedora Linux 42 | PASS | SKIPPED | SKIPPED | SKIPPED | PASS | PASS | +-------------------------------+--------------------+-------------------+-------------------------+----------------------+------------------+-------------------+ | Debian GNU/Linux 12 | PASS | SKIPPED | SKIPPED | SKIPPED | SKIPPED | PASS | +-------------------------------+--------------------+-------------------+-------------------------+----------------------+------------------+-------------------+ | CentOS Stream 9 | PASS | SKIPPED | SKIPPED | SKIPPED | SKIPPED | PASS | +-------------------------------+--------------------+-------------------+-------------------------+----------------------+------------------+-------------------+ | openSUSE Leap 15.6 | PASS | SKIPPED | SKIPPED | SKIPPED | SKIPPED | SKIPPED | +-------------------------------+--------------------+-------------------+-------------------------+----------------------+------------------+-------------------+ | Red Hat Enterprise Linux 8.10 | PASS | SKIPPED | SKIPPED | SKIPPED | SKIPPED | SKIPPED | +-------------------------------+--------------------+-------------------+-------------------------+----------------------+------------------+-------------------+ | Red Hat Enterprise Linux 9.5 | PASS | SKIPPED | SKIPPED | SKIPPED | SKIPPED | SKIPPED | +-------------------------------+--------------------+-------------------+-------------------------+----------------------+------------------+-------------------+ | Windows Server 2022 | SKIPPED | PASS | PASS | PASS | SKIPPED | SKIPPED | +-------------------------------+--------------------+-------------------+-------------------------+----------------------+------------------+-------------------+ Ubuntu 20.04 Kernel: 4.19 Compiler: gcc gcc (Ubuntu 9.4.0-1ubuntu1~20.04.2) 9.4.0 FreeBSD 14.2 Kernel: 14.2-RELEASE Compiler: clang 18.1.6 CentOS Stream 10 Kernel: 5.15 Compiler: gcc gcc (GCC) 14.2.1 20250110 (Red Hat 14.2.1-8) Fedora Linux 42 Kernel: 5.15 Compiler: clang gcc (GCC) 15.2.1 20250808 (Red Hat 15.2.1-1) Debian GNU/Linux 12 Kernel: 5.15 Compiler: gcc gcc (Debian 12.2.0-14+deb12u1) 12.2.0 CentOS Stream 9 Kernel: 5.15 Compiler: gcc gcc (GCC) 11.5.0 20240719 (Red Hat 11.5.0-11) openSUSE Leap 15.6 Kernel: 5.15 Compiler: gcc gcc (SUSE Linux) 7.5.0 Red Hat Enterprise Linux 8.10 Kernel: 5.15 Compiler: gcc gcc (GCC) 8.5.0 20210514 (Red Hat 8.5.0-22) Red Hat Enterprise Linux 9.5 Kernel: 5.15 Compiler: gcc gcc (GCC) 11.5.0 20240719 (Red Hat 11.5.0-2) Windows Server 2022 Kernel: 10.0.20348.2031 Compiler: clang 15.0.7, gcc 14.1.0 (MinGW), and MSVC VS 19.39.33521 To view detailed results, visit: https://lab.dpdk.org/results/dashboard/tarballs/35069/ UNH-IOL DPDK Community Lab To manage your email subscriptions, visit: https://lab.dpdk.org/results/dashboard/preferences/subscriptions/