From mboxrd@z Thu Jan 1 00:00:00 1970 Return-Path: Received: from mails.dpdk.org (mails.dpdk.org [217.70.189.124]) by inbox.dpdk.org (Postfix) with ESMTP id 474F64889F for ; Fri, 3 Oct 2025 14:50:35 +0200 (CEST) Received: from mails.dpdk.org (localhost [127.0.0.1]) by mails.dpdk.org (Postfix) with ESMTP id 4178E40267; Fri, 3 Oct 2025 14:50:35 +0200 (CEST) Received: from mail-pg1-f228.google.com (mail-pg1-f228.google.com [209.85.215.228]) by mails.dpdk.org (Postfix) with ESMTP id DDC2E40267 for ; Fri, 3 Oct 2025 14:50:33 +0200 (CEST) Received: by mail-pg1-f228.google.com with SMTP id 41be03b00d2f7-b57bffc0248so1615683a12.0 for ; Fri, 03 Oct 2025 05:50:33 -0700 (PDT) DKIM-Signature: v=1; a=rsa-sha256; c=relaxed/relaxed; d=iol.unh.edu; s=unh-iol; t=1759495833; x=1760100633; darn=dpdk.org; h=references:in-reply-to:cc:to:from:subject:message-id:date:from:to :cc:subject:date:message-id:reply-to; bh=6s5Txv4xo1ihOUlin5WZIA+pRNK00/zBk7Eqn17AeZo=; b=NjXUm93ILMoRQuv4KkF8PcFnYr0YCkIYodFJ2FLfAeoCKJVQwQELBiISUQ86x2Ccgf +S2KYYxB+7f1+IaMOhxCR/s198soFbRyOyXx1OEyBHVUc07yHm+rM8lPTPHHvkmr3QBK vw6Jxtw/JgP0JF06jffJmyFLUBgFyPht8bKdo= X-Google-DKIM-Signature: v=1; a=rsa-sha256; c=relaxed/relaxed; d=1e100.net; s=20230601; t=1759495833; x=1760100633; h=references:in-reply-to:cc:to:from:subject:message-id:date :x-gm-message-state:from:to:cc:subject:date:message-id:reply-to; bh=6s5Txv4xo1ihOUlin5WZIA+pRNK00/zBk7Eqn17AeZo=; b=P7EJYvDr8ZJDGcLX7gtCDcMdHGtSv26gLe1mWnjSgV9ZkZvfTCesMWAdU5W6VAoqpl b1mD0szyE9tc0vNqMBRXBr+g/Ex/S/9CIwnz7iYmpA2bHnVgSw5eeUJ9cljKjgjMbxo3 8eLkHdkYYjasHSEqYEeUDcTZ2p5p9w4emSc86UuD+MGt+rY8++jAogOf5LASEl36mFY4 34zNf1PfU9sQZ32xEEiyrKeeFVrjxi66nHiIL0issYyY73QhVA627nKfN+V2olN2fqRo fbSuCZJshX4vF/P/8y+3dfdzA4WyZhc9lhGaVAZaY0DPDR9MAeJArBJ9bBlJxqvzawuB 63og== X-Gm-Message-State: AOJu0Yz0RcVZDcG8SUXwutXVI9A2f1EMHpJQ9OiF+GoD5/BfMfVYk1Yf UgDPrCIy1tlS7lZ/CxSX8lGQsACHs2Bphdvb2dFPRTtod1YxtMLUOhs7aIPEwDruJLYfgeaSOni nOY9Wso1rDHw6+i/QpqgyxVIGAzV8agC9YCJOpxVTuXS+Eki4e/grFk/dT1kc X-Gm-Gg: ASbGncuw8uuEcz8wt+JxloDsWMBfHWkqrl09CL8k9Rq51pQPzMaX6HPzBcYAncRINUN cXY6CSBrpIQ5a0felQxi48Go0TfNBlGWEMZVJsn3hmBgqIfbRlGULlhX2/oOOYdPRooasRJNdcJ h1pRxD7fKiMSzhWNGvZCCba0qr1KekmhWFsS/XE1+TPJBTrQ2pINmtbdfXRZ+TunxyJm5k39C7B AHUp1z7eGw61sfwMWCOFCDI8dEd6l5b2cHTDg6DZq/s18fjapR3lnHTzLMJdBhC3V+MXMUsrCFU NmfyvZm7Y+Pbr8UmWhxZS2EUMLqEkE4iDQdpKQ4e2Dagr0Jh6wD6Hlw= X-Google-Smtp-Source: AGHT+IHYNehASompNB7e6VBNa8IsytL7VpYDMIRHoH++TBtK/YNKDM6ziJ+K6vXNGGuT1rNKJrNiBTt4oU/E X-Received: by 2002:a17:903:28f:b0:24c:db7c:bc34 with SMTP id d9443c01a7336-28e99cf53efmr38658815ad.13.1759495833001; Fri, 03 Oct 2025 05:50:33 -0700 (PDT) Received: from postal.iol.unh.edu (postal.iol.unh.edu. [2606:4100:3880:1234::84]) by smtp-relay.gmail.com with ESMTPS id d9443c01a7336-28e8d1b123esm3495175ad.65.2025.10.03.05.50.32 (version=TLS1_2 cipher=ECDHE-ECDSA-AES128-GCM-SHA256 bits=128/128); Fri, 03 Oct 2025 05:50:32 -0700 (PDT) X-Relaying-Domain: iol.unh.edu Date: Fri, 03 Oct 2025 05:50:32 -0700 (PDT) Message-ID: <68dfc698.170a0220.106a84.58abSMTPIN_ADDED_MISSING@mx.google.com> Received: from [172.21.0.3] (unknown [172.18.0.240]) by postal.iol.unh.edu (Postfix) with ESMTP id 7A2BC6051830; Fri, 3 Oct 2025 08:50:32 -0400 (EDT) Subject: |SUCCESS| pw157260 [PATCH] ethdev: fix copy-paste error in fn parame From: dpdklab@iol.unh.edu To: Test Report Cc: dpdk-test-reports@iol.unh.edu, Stephen Hemminger In-Reply-To: <20251003110944.1594659-1-bruce.richardson@intel.com> References: <20251003110944.1594659-1-bruce.richardson@intel.com> Content-Type: text/plain X-BeenThere: test-report@dpdk.org X-Mailman-Version: 2.1.29 Precedence: list List-Id: automatic DPDK test reports List-Unsubscribe: , List-Archive: List-Post: List-Help: List-Subscribe: , Errors-To: test-report-bounces@dpdk.org Test-Label: iol-unit-amd64-testing Test-Status: SUCCESS http://dpdk.org/patch/157260 _Testing PASS_ Submitter: Bruce Richardson Date: Friday, October 03 2025 11:09:44 DPDK git baseline: Repo:dpdk-next-net Branch: master CommitID:c04bbd131b2c14b3049bf86d3ef367b34e6fdf1e 157260 --> testing pass Upstream job id: Generic-VM-Unit-Test-DPDK#31569 Test environment and result as below: +-------------------------------+----------------+ | Environment | dpdk_unit_test | +===============================+================+ | CentOS Stream 9 | PASS | +-------------------------------+----------------+ | Debian GNU/Linux 12 | PASS | +-------------------------------+----------------+ | Fedora Linux 40 | PASS | +-------------------------------+----------------+ | CentOS Stream 10 | PASS | +-------------------------------+----------------+ | Fedora Linux 42 | PASS | +-------------------------------+----------------+ | Fedora Linux 41 | PASS | +-------------------------------+----------------+ | Red Hat Enterprise Linux 8.10 | PASS | +-------------------------------+----------------+ | Ubuntu 20.04 | PASS | +-------------------------------+----------------+ | Ubuntu 24.04 | PASS | +-------------------------------+----------------+ | Ubuntu 22.04 | PASS | +-------------------------------+----------------+ | Red Hat Enterprise Linux 9.5 | PASS | +-------------------------------+----------------+ | Windows Server 2022 | PASS | +-------------------------------+----------------+ CentOS Stream 9 Kernel: 5.15 Compiler: gcc gcc (GCC) 11.5.0 20240719 (Red Hat 11.5.0-11) Debian GNU/Linux 12 Kernel: 5.15 Compiler: gcc gcc (Debian 12.2.0-14+deb12u1) 12.2.0 Fedora Linux 40 Kernel: 5.15 Compiler: gcc gcc (GCC) 14.2.1 20240912 (Red Hat 14.2.1-3) CentOS Stream 10 Kernel: 5.15 Compiler: gcc gcc (GCC) 14.2.1 20250110 (Red Hat 14.2.1-8) Fedora Linux 42 Kernel: 5.15 Compiler: gcc gcc (GCC) 15.2.1 20250808 (Red Hat 15.2.1-1) Fedora Linux 41 Kernel: 5.15 Compiler: clang gcc (GCC) 14.3.1 20250523 (Red Hat 14.3.1-1) Red Hat Enterprise Linux 8.10 Kernel: 5.15 Compiler: gcc gcc (GCC) 8.5.0 20210514 (Red Hat 8.5.0-22) Ubuntu 20.04 Kernel: 5.15 Compiler: gcc gcc (Ubuntu 9.4.0-1ubuntu1~20.04.2) 9.4.0 Ubuntu 24.04 Kernel: 5.15 Compiler: gcc gcc (Ubuntu 13.3.0-6ubuntu2~24.04) 13.3.0 Ubuntu 22.04 Kernel: 5.15 Compiler: gcc gcc (Ubuntu 11.4.0-1ubuntu1~22.04) 11.4.0 Red Hat Enterprise Linux 9.5 Kernel: 5.15 Compiler: gcc gcc (GCC) 11.5.0 20240719 (Red Hat 11.5.0-2) Windows Server 2022 Kernel: 10.0.20348.2031 Compiler: clang 15.0.7, gcc 14.1.0 (MinGW), and MSVC VS 19.39.33521 To view detailed results, visit: https://lab.dpdk.org/results/dashboard/patchsets/34208/ UNH-IOL DPDK Community Lab To manage your email subscriptions, visit: https://lab.dpdk.org/results/dashboard/preferences/subscriptions/