automatic DPDK test reports
 help / color / mirror / Atom feed
From: dpdklab@iol.unh.edu
To: Test Report <test-report@dpdk.org>
Cc: dpdk-test-reports@iol.unh.edu
Subject: |SUCCESS| pw157253-157257 [PATCH] [v3,7/7] ethdev: deprecate queue s
Date: Fri, 03 Oct 2025 06:01:17 -0700 (PDT)	[thread overview]
Message-ID: <68dfc91d.050a0220.2f38f3.696fSMTPIN_ADDED_MISSING@mx.google.com> (raw)
In-Reply-To: <20251003110201.1541183-8-bruce.richardson@intel.com>

Test-Label: iol-compile-amd64-testing
Test-Status: SUCCESS
http://dpdk.org/patch/157257

_Testing PASS_

Submitter: Bruce Richardson <bruce.richardson@intel.com>
Date: Friday, October 03 2025 11:02:01 
DPDK git baseline: Repo:dpdk
  Branch: master
  CommitID:76393b98bf67f94dc6aa23cf5016c32571899261

157253-157257 --> testing pass

Upstream job id: Windows-Compile-DPDK-VS#7096

Test environment and result as below:

+---------------------+--------------------+-------------------+
|     Environment     | dpdk_meson_compile | dpdk_msvc_compile |
+=====================+====================+===================+
| Ubuntu 20.04        | PASS               | SKIPPED           |
+---------------------+--------------------+-------------------+
| FreeBSD 14.2        | PASS               | SKIPPED           |
+---------------------+--------------------+-------------------+
| Windows Server 2022 | SKIPPED            | PASS              |
+---------------------+--------------------+-------------------+


Ubuntu 20.04
	Kernel: 4.19
	Compiler: gcc gcc (Ubuntu 9.4.0-1ubuntu1~20.04.2) 9.4.0

FreeBSD 14.2
	Kernel: 14.2-RELEASE
	Compiler: clang 18.1.6

Windows Server 2022
	Kernel: 10.0.20348.2031
	Compiler: clang 15.0.7, gcc 14.1.0 (MinGW), and MSVC VS 19.39.33521

To view detailed results, visit:
https://lab.dpdk.org/results/dashboard/patchsets/34209/

UNH-IOL DPDK Community Lab

To manage your email subscriptions, visit: 
https://lab.dpdk.org/results/dashboard/preferences/subscriptions/

  parent reply	other threads:[~2025-10-03 13:01 UTC|newest]

Thread overview: 24+ messages / expand[flat|nested]  mbox.gz  Atom feed  top
     [not found] <20251003110201.1541183-8-bruce.richardson@intel.com>
2025-10-03 10:30 ` |SUCCESS| pw157253-157257 [PATCH v3 7/7] ethdev: deprecate queue stats mapping functions qemudev
2025-10-03 10:35 ` qemudev
2025-10-03 11:03 ` |WARNING| pw157257 " checkpatch
2025-10-03 11:50 ` |PENDING| pw157253-157257 [PATCH] [v3,7/7] ethdev: deprecate queue s dpdklab
2025-10-03 11:51 ` |SUCCESS| " dpdklab
2025-10-03 11:53 ` dpdklab
2025-10-03 11:56 ` dpdklab
2025-10-03 12:01 ` |SUCCESS| pw157257 [PATCH v3 7/7] ethdev: deprecate queue stats mapping functions 0-day Robot
2025-10-03 12:01 ` 0-day Robot
2025-10-03 12:20 ` |SUCCESS| pw157253-157257 [PATCH] [v3,7/7] ethdev: deprecate queue s dpdklab
2025-10-03 12:22 ` dpdklab
2025-10-03 12:27 ` |PENDING| " dpdklab
2025-10-03 12:30 ` |SUCCESS| " dpdklab
2025-10-03 12:34 ` |PENDING| " dpdklab
2025-10-03 13:01 ` dpdklab [this message]
2025-10-03 13:08 ` |SUCCESS| " dpdklab
2025-10-03 13:13 ` dpdklab
2025-10-03 13:13 ` dpdklab
2025-10-03 13:27 ` dpdklab
2025-10-03 13:46 ` dpdklab
2025-10-03 13:52 ` dpdklab
2025-10-03 13:59 ` dpdklab
2025-10-03 14:06 ` dpdklab
2025-10-03 14:08 ` dpdklab

Reply instructions:

You may reply publicly to this message via plain-text email
using any one of the following methods:

* Save the following mbox file, import it into your mail client,
  and reply-to-all from there: mbox

  Avoid top-posting and favor interleaved quoting:
  https://en.wikipedia.org/wiki/Posting_style#Interleaved_style

* Reply using the --to, --cc, and --in-reply-to
  switches of git-send-email(1):

  git send-email \
    --in-reply-to=68dfc91d.050a0220.2f38f3.696fSMTPIN_ADDED_MISSING@mx.google.com \
    --to=dpdklab@iol.unh.edu \
    --cc=dpdk-test-reports@iol.unh.edu \
    --cc=test-report@dpdk.org \
    /path/to/YOUR_REPLY

  https://kernel.org/pub/software/scm/git/docs/git-send-email.html

* If your mail client supports setting the In-Reply-To header
  via mailto: links, try the mailto: link
Be sure your reply has a Subject: header at the top and a blank line before the message body.
This is a public inbox, see mirroring instructions
for how to clone and mirror all data and code used for this inbox;
as well as URLs for NNTP newsgroup(s).