From mboxrd@z Thu Jan 1 00:00:00 1970 Return-Path: Received: from mails.dpdk.org (mails.dpdk.org [217.70.189.124]) by inbox.dpdk.org (Postfix) with ESMTP id 64A394889F for ; Fri, 3 Oct 2025 15:01:20 +0200 (CEST) Received: from mails.dpdk.org (localhost [127.0.0.1]) by mails.dpdk.org (Postfix) with ESMTP id 5D36140267; Fri, 3 Oct 2025 15:01:20 +0200 (CEST) Received: from mail-il1-f227.google.com (mail-il1-f227.google.com [209.85.166.227]) by mails.dpdk.org (Postfix) with ESMTP id 117AE40267 for ; Fri, 3 Oct 2025 15:01:19 +0200 (CEST) Received: by mail-il1-f227.google.com with SMTP id e9e14a558f8ab-42e6df6fe53so8819165ab.2 for ; Fri, 03 Oct 2025 06:01:19 -0700 (PDT) DKIM-Signature: v=1; a=rsa-sha256; c=relaxed/relaxed; d=iol.unh.edu; s=unh-iol; t=1759496478; x=1760101278; darn=dpdk.org; h=references:in-reply-to:cc:to:from:subject:message-id:date:from:to :cc:subject:date:message-id:reply-to; bh=klTPuqoH3Q0vB/jH3i4n/o3RZZvLcNk7ld6n73NpWnw=; b=DWF4VMEKjFPNpTAgLIA506hwJ+su6TjXBm6zuwyATBbJtV7RZSaZ2QHewtEgFdRagq uML8FFtJ3qaHYDPQw59PyaegWAsbKlZlvhBy3dZLEYCv6nzIYpKU912ormQQmaJSPrk6 SSbr+MZ++DBe+Wcbmy+LH7hTRPmKYrTim//48= X-Google-DKIM-Signature: v=1; a=rsa-sha256; c=relaxed/relaxed; d=1e100.net; s=20230601; t=1759496478; x=1760101278; h=references:in-reply-to:cc:to:from:subject:message-id:date :x-gm-message-state:from:to:cc:subject:date:message-id:reply-to; bh=klTPuqoH3Q0vB/jH3i4n/o3RZZvLcNk7ld6n73NpWnw=; b=hXr3q3M8JBGXzEFq5D+ULwE0Ne37Rve6oab+q6B4KNtWNYJ3Xm/g6yEWW/8CJBe+Wa Zqzk6VQe7yHjdvAf6GkRkSNbOP25Zo269gNCD2KeIm96e0eFvU2lJMniHFF35cnbviV+ N1oAO0yeE7fj8T/FEskPnh2HWPmnxFTx1hqnXzyStqvI8HNUJBydi9Q1tv8vGZQKP4Vu ccX6lPWO2NNxEceo+0FwCTcM+k1RUQcVxZWhxVTM2SACh3VeZxzs5BXKD0m5cY2qPnbV HsXFFSiJPIPxwhp4YWS2Bl0EaAqFh7S3idWKEEaM9nHvkC5PD4ie77ycutPoAjsjC6Td FwdA== X-Gm-Message-State: AOJu0Yz5G+IpRuFyXYwUzyNQnV5pxW1MwHEvRPmbShr8IYjvj2LxDGNG DyUMZyVhWsc573538GnVTJyVlL5oe624JVJTixQttBO+IZZDofzyoHEqX8uEv1440Sxa3cob+fV p13mABJOPZT8YXCG1DlHz0uWZJAy6ZoZ1S7aTSaCDXSF2 X-Gm-Gg: ASbGncuAN6bdWgvk6GU5qzwzSWY7RwharBrzAWWAybhcTSaHm+5cBsEOtNg4a+2/Pib fNKfEODX9v54CzqiCBryNYGp3PD491ef1+Z2OZIB2rDNwBi9uf1xNrH0ZIXfNEkv7xHO+HQQmdF lGfVtmt+AwV96XNM8q6U/RfYA1Gl4moKjZxq9KqyCiREW1OHqFEZWrbeW1aJjAsOPcoU0lkRz/V M/ndK3XaF80Ao0wUxD2vFTBsH+sSiUe5fBUoGhgOvo/nL5URqJnTTGZruAAgsQfMgRn3eq73g1n T4InyzP9qyumyd6UgZv7u7nEYjhNEcdRZz3xC6+gIFLGTQfeABpyz9+aN9w60k8nAVS4awT1GMO yhw== X-Google-Smtp-Source: AGHT+IHC99+mcXF8MMFYNQeBhORads8Xd08wYDkBBM+CFT8JGyoB+PefXJft1hHPIz4G1ysVdT6GEYqS9Bqo X-Received: by 2002:a05:6e02:2581:b0:425:6f0b:a1db with SMTP id e9e14a558f8ab-42e7ad16a3emr34202585ab.9.1759496477922; Fri, 03 Oct 2025 06:01:17 -0700 (PDT) Received: from postal.iol.unh.edu (postal.iol.unh.edu. [132.177.123.84]) by smtp-relay.gmail.com with ESMTPS id e9e14a558f8ab-42d8b218ce7sm3704245ab.18.2025.10.03.06.01.17 (version=TLS1_2 cipher=ECDHE-ECDSA-AES128-GCM-SHA256 bits=128/128); Fri, 03 Oct 2025 06:01:17 -0700 (PDT) X-Relaying-Domain: iol.unh.edu Date: Fri, 03 Oct 2025 06:01:17 -0700 (PDT) Message-ID: <68dfc91d.050a0220.2f38f3.696fSMTPIN_ADDED_MISSING@mx.google.com> Received: from [172.21.0.5] (unknown [172.18.0.240]) by postal.iol.unh.edu (Postfix) with ESMTP id 7F8CC6050A61; Fri, 3 Oct 2025 09:01:17 -0400 (EDT) Subject: |SUCCESS| pw157253-157257 [PATCH] [v3,7/7] ethdev: deprecate queue s From: dpdklab@iol.unh.edu To: Test Report Cc: dpdk-test-reports@iol.unh.edu In-Reply-To: <20251003110201.1541183-8-bruce.richardson@intel.com> References: <20251003110201.1541183-8-bruce.richardson@intel.com> Content-Type: text/plain X-BeenThere: test-report@dpdk.org X-Mailman-Version: 2.1.29 Precedence: list List-Id: automatic DPDK test reports List-Unsubscribe: , List-Archive: List-Post: List-Help: List-Subscribe: , Errors-To: test-report-bounces@dpdk.org Test-Label: iol-compile-amd64-testing Test-Status: SUCCESS http://dpdk.org/patch/157257 _Testing PASS_ Submitter: Bruce Richardson Date: Friday, October 03 2025 11:02:01 DPDK git baseline: Repo:dpdk Branch: master CommitID:76393b98bf67f94dc6aa23cf5016c32571899261 157253-157257 --> testing pass Upstream job id: Windows-Compile-DPDK-VS#7096 Test environment and result as below: +---------------------+--------------------+-------------------+ | Environment | dpdk_meson_compile | dpdk_msvc_compile | +=====================+====================+===================+ | Ubuntu 20.04 | PASS | SKIPPED | +---------------------+--------------------+-------------------+ | FreeBSD 14.2 | PASS | SKIPPED | +---------------------+--------------------+-------------------+ | Windows Server 2022 | SKIPPED | PASS | +---------------------+--------------------+-------------------+ Ubuntu 20.04 Kernel: 4.19 Compiler: gcc gcc (Ubuntu 9.4.0-1ubuntu1~20.04.2) 9.4.0 FreeBSD 14.2 Kernel: 14.2-RELEASE Compiler: clang 18.1.6 Windows Server 2022 Kernel: 10.0.20348.2031 Compiler: clang 15.0.7, gcc 14.1.0 (MinGW), and MSVC VS 19.39.33521 To view detailed results, visit: https://lab.dpdk.org/results/dashboard/patchsets/34209/ UNH-IOL DPDK Community Lab To manage your email subscriptions, visit: https://lab.dpdk.org/results/dashboard/preferences/subscriptions/