From mboxrd@z Thu Jan 1 00:00:00 1970 Return-Path: Received: from mails.dpdk.org (mails.dpdk.org [217.70.189.124]) by inbox.dpdk.org (Postfix) with ESMTP id 8D6EB4889F for ; Fri, 3 Oct 2025 15:02:49 +0200 (CEST) Received: from mails.dpdk.org (localhost [127.0.0.1]) by mails.dpdk.org (Postfix) with ESMTP id 8721140267; Fri, 3 Oct 2025 15:02:49 +0200 (CEST) Received: from mail-yw1-f225.google.com (mail-yw1-f225.google.com [209.85.128.225]) by mails.dpdk.org (Postfix) with ESMTP id AD12640277 for ; Fri, 3 Oct 2025 15:02:47 +0200 (CEST) Received: by mail-yw1-f225.google.com with SMTP id 00721157ae682-71d60157747so25291637b3.0 for ; Fri, 03 Oct 2025 06:02:47 -0700 (PDT) DKIM-Signature: v=1; a=rsa-sha256; c=relaxed/relaxed; d=iol.unh.edu; s=unh-iol; t=1759496567; x=1760101367; darn=dpdk.org; h=references:in-reply-to:cc:to:from:subject:message-id:date:from:to :cc:subject:date:message-id:reply-to; bh=NyTegff6EQxtw7L7C497666FgHgESqpxisO/GUmDF9A=; b=C6W35ZMcofr02Truyw7UL+VnB3Af+WEnJ3DiPhQsYfXjyq5eCklwhYF+nd0zB602TI /xgETpbLaWY4qvddudSELEUUvrbzZMIQUZJ/o6ChD4xxdfa0vtgIHFFbjSQoll9TlIF2 e9JxV+1Zjb6BONHyEDCLNkocBDTL/4RcraA94= X-Google-DKIM-Signature: v=1; a=rsa-sha256; c=relaxed/relaxed; d=1e100.net; s=20230601; t=1759496567; x=1760101367; h=references:in-reply-to:cc:to:from:subject:message-id:date :x-gm-message-state:from:to:cc:subject:date:message-id:reply-to; bh=NyTegff6EQxtw7L7C497666FgHgESqpxisO/GUmDF9A=; b=W5DStMol50UlWS3wL4n3KOgqOnBDpIkfVaazINvTP4p8vv5/aaxhcIf19iK37mvUXS l81N9CYSVUagnmD8SjhQcwrYmvyU7zp2dUJPKacNykluDut8hy4IYNMqyQPaLElNr6Xr A5K8RDXsFL9TjEaMrFycN2Ta6ABnIJFGXyIwo3YPAbjzKGNnr4oAYrBSPNvfD4YzTCjS BjOb6aCVT3NPE19cmtTl8mUFpBKPVixw313rB2Q+HQH/LAA6QLyUjnMmaQjm3UaJomo8 G0jjiPF6cprdNmLzSe/FLViowRjF2kugI9a+KLnW8nlpvgSMCH9MQ7uRnqEQl1YM4xom qKKw== X-Gm-Message-State: AOJu0YwsgXmAt5idlQ8yvnDX2SXUg/yYQGYHMkzhPoPSQybrXscdJXEj 0yustLFKtbGCE8RpOPvB1499enc3RMcFdZvFUG3EYxlrgi8RqmstASwGqLXgBG9rHh6+d7mc3yH keiYOHxb7Leozt8QbLvCb2bFvKgAhoxypnJziD5IWBg7qVK0An4JU2VudYIjE X-Gm-Gg: ASbGncsjN47wFsFxjH8gnFZFRq/OA/KCfnin3pE5O6IicRp61MyLPPdhl9LEcALSf8J q+PTp72f1Lb59IWUmfE7mebFFIwjHLAMuPYUA5RPZYr9xKrookVmhQ/agt1KzCcx/LsQLbrGB62 JpY7/He7agWcR1lTW/TWjBK1qlyIgjJwDZ5KQX0fcH27fReUTvpfypZj+xq+G6uYb+aT3HbElHz RglTBmkXjs0ra6OuRXXyEUHOzfix7On9nR8GnD2ziV2vMCqE+8wayfXQEBBBUbYsi5CJx5HcwD/ 7jfG4pBIZs81EsvK2XDCSn7MXn+EwXqM3kn7+Rx4PcX5leWGZpXbB+g= X-Google-Smtp-Source: AGHT+IHDMFA3bvQ24WlZty8brynTntSUGLwLDKTeLtyeoLxelveGx4vO1x3lniKk+a+/RIjyrrrll+NxAW32 X-Received: by 2002:a05:690c:3348:b0:731:2d1e:c498 with SMTP id 00721157ae682-77f9456f205mr31170337b3.5.1759496566331; Fri, 03 Oct 2025 06:02:46 -0700 (PDT) Received: from postal.iol.unh.edu (postal.iol.unh.edu. [2606:4100:3880:1234::84]) by smtp-relay.gmail.com with ESMTPS id 00721157ae682-77fa2b09699sm172457b3.6.2025.10.03.06.02.46 (version=TLS1_2 cipher=ECDHE-ECDSA-AES128-GCM-SHA256 bits=128/128); Fri, 03 Oct 2025 06:02:46 -0700 (PDT) X-Relaying-Domain: iol.unh.edu Date: Fri, 03 Oct 2025 06:02:46 -0700 (PDT) Message-ID: <68dfc976.050a0220.13ce37.146cSMTPIN_ADDED_MISSING@mx.google.com> Received: from [172.21.0.2] (unknown [172.18.0.240]) by postal.iol.unh.edu (Postfix) with ESMTP id 05C8F604D420; Fri, 3 Oct 2025 09:02:45 -0400 (EDT) Subject: |SUCCESS| pw157251-157252 [PATCH] [v2,2/2] net/iavf: add restore com From: dpdklab@iol.unh.edu To: Test Report Cc: dpdk-test-reports@iol.unh.edu, Bruce Richardson In-Reply-To: <20251003102359.823028-2-ciara.loftus@intel.com> References: <20251003102359.823028-2-ciara.loftus@intel.com> Content-Type: text/plain X-BeenThere: test-report@dpdk.org X-Mailman-Version: 2.1.29 Precedence: list List-Id: automatic DPDK test reports List-Unsubscribe: , List-Archive: List-Post: List-Help: List-Subscribe: , Errors-To: test-report-bounces@dpdk.org Test-Label: iol-compile-amd64-testing Test-Status: SUCCESS http://dpdk.org/patch/157252 _Testing PASS_ Submitter: Loftus, Ciara Date: Friday, October 03 2025 10:23:59 DPDK git baseline: Repo:dpdk-next-net-intel Branch: master CommitID:e7d8cc7ef4df3552575525697079d3c957cfcdaf 157251-157252 --> testing pass Upstream job id: Windows-Compile-DPDK-Native#31398 Test environment and result as below: +---------------------+--------------------+-------------------+-------------------------+----------------------+ | Environment | dpdk_meson_compile | dpdk_msvc_compile | dpdk_llvm_clang_compile | dpdk_mingw64_compile | +=====================+====================+===================+=========================+======================+ | Ubuntu 20.04 | PASS | SKIPPED | SKIPPED | SKIPPED | +---------------------+--------------------+-------------------+-------------------------+----------------------+ | FreeBSD 14.2 | PASS | SKIPPED | SKIPPED | SKIPPED | +---------------------+--------------------+-------------------+-------------------------+----------------------+ | Windows Server 2022 | SKIPPED | PASS | PASS | PASS | +---------------------+--------------------+-------------------+-------------------------+----------------------+ Ubuntu 20.04 Kernel: 4.19 Compiler: gcc gcc (Ubuntu 9.4.0-1ubuntu1~20.04.2) 9.4.0 FreeBSD 14.2 Kernel: 14.2-RELEASE Compiler: clang 18.1.6 Windows Server 2022 Kernel: 10.0.20348.2031 Compiler: clang 15.0.7, gcc 14.1.0 (MinGW), and MSVC VS 19.39.33521 To view detailed results, visit: https://lab.dpdk.org/results/dashboard/patchsets/34207/ UNH-IOL DPDK Community Lab To manage your email subscriptions, visit: https://lab.dpdk.org/results/dashboard/preferences/subscriptions/