From mboxrd@z Thu Jan 1 00:00:00 1970 Return-Path: Received: from mails.dpdk.org (mails.dpdk.org [217.70.189.124]) by inbox.dpdk.org (Postfix) with ESMTP id 979AB4889F for ; Fri, 3 Oct 2025 15:13:13 +0200 (CEST) Received: from mails.dpdk.org (localhost [127.0.0.1]) by mails.dpdk.org (Postfix) with ESMTP id 70D4740267; Fri, 3 Oct 2025 15:13:13 +0200 (CEST) Received: from mail-yx1-f99.google.com (mail-yx1-f99.google.com [74.125.224.99]) by mails.dpdk.org (Postfix) with ESMTP id 498DC40267 for ; Fri, 3 Oct 2025 15:13:12 +0200 (CEST) Received: by mail-yx1-f99.google.com with SMTP id 956f58d0204a3-6354a4b4871so2746277d50.2 for ; Fri, 03 Oct 2025 06:13:12 -0700 (PDT) DKIM-Signature: v=1; a=rsa-sha256; c=relaxed/relaxed; d=iol.unh.edu; s=unh-iol; t=1759497191; x=1760101991; darn=dpdk.org; h=references:in-reply-to:cc:to:from:subject:message-id:date:from:to :cc:subject:date:message-id:reply-to; bh=i4LewAGIUdP7EHENJADqoe6ySnckvj0wQn0NCoIYtNQ=; b=P8F6nwp2wvkDmbgse+fuZLAeAiJ00oBIy7wY00nZRZJb6PFG3cri8vFH7/shP3d4dS 6VpXV96R8kScZhmhQtPCXuKPZeW0X8OxSurrfW4gk51a77OGvj4Ekaxi+Ilv+jQaZP0O kzX5/eD2HYY97vPOGnZVQ83d2LmybusbgOqFs= X-Google-DKIM-Signature: v=1; a=rsa-sha256; c=relaxed/relaxed; d=1e100.net; s=20230601; t=1759497191; x=1760101991; h=references:in-reply-to:cc:to:from:subject:message-id:date :x-gm-message-state:from:to:cc:subject:date:message-id:reply-to; bh=i4LewAGIUdP7EHENJADqoe6ySnckvj0wQn0NCoIYtNQ=; b=N/WgD3DIqMzsA9ksX8xzREbZccUS3xtwpoL0lI4yLd0jMWZkBpVmR3hwb4M4Dm7ByU mdaqCEvpHPKViaN1EBsWiDEj6TZwmh9bESgB/y8AFmLqe7qZfx3qFMTzRnbNvsZf1mDs GUM9h3yluOWafUU71Ukm0b8DGvsE75BO5vGsdECWNHLPrC6CzFsse6j6LQlT3GAbiRbu VcIlHK+zLM0K8NBF5nlXqxr/6DaCCx4BvrbzK0EbWuTqwoATFeED0C5O5HgZ6fgvhkjG y5nsaBiuIt/JUdH8+VGk7I7rPc3RRT+CeZygSZ6G+nwWNjzwug3s81r+SsXhJXvrGOvv uZ/Q== X-Gm-Message-State: AOJu0Yxq8XZkMprd/xYmNbnKDxs6XfYjflKldKXGXMMHKgvgNMrWcOMF LGRZsnjBwVd18jvzLJ2NljDiCT8QvmJ+563zt29SxpveAv5G9yxMluu/FIR+2xjHjXTtMKfSN3x 478bgxm+54VdNwcsDVyrFUDr5fEY5YqqnumNkOKQBLhq9 X-Gm-Gg: ASbGncta0Qp3dlo66amgz/CZnziEr+coxwJMtu2U18XlBMb4IBs7A5e6w+bPErZdfb/ PSHSKQCRAyxtAH1MwLHD4aNIYXLQddm5KqEBP9FJk+q80p+zYSlV901Tqf9Rc6zBgyleXJfhJTe 1sek4zFSHbSMakUmlQdAdg0WhFzXsl6vWaFu603KdkllErdFHng2hdA7+7vhJw6QGnj6Zn/qDWE rmnZuEEKLnBapkXM8HS39FmQBruN8DKRHY8V7Pn2tznWWg/gxScPpnfQ+oeXgiL0NSBAVnZFYu2 9RRhP4d38T28UkSE2KXZAbQQnNuSAj5BWyRRAPBBMp0LlLOObTifNzuAyvETDIYzKjt5x2UKk9C qLQ== X-Google-Smtp-Source: AGHT+IE5oqgZtXix6CZs+EHQwHd8qixhSxClN6okNxR0uUuzun4FeYLT2X13PYz0urjXgu7C+PaF6wRYR010 X-Received: by 2002:a05:690e:ec7:b0:633:9631:2fe1 with SMTP id 956f58d0204a3-63b9a05cdb5mr1577983d50.4.1759497191513; Fri, 03 Oct 2025 06:13:11 -0700 (PDT) Received: from postal.iol.unh.edu (postal.iol.unh.edu. [132.177.123.84]) by smtp-relay.gmail.com with ESMTPS id 956f58d0204a3-63b8466f9b1sm242308d50.11.2025.10.03.06.13.11 (version=TLS1_2 cipher=ECDHE-ECDSA-AES128-GCM-SHA256 bits=128/128); Fri, 03 Oct 2025 06:13:11 -0700 (PDT) X-Relaying-Domain: iol.unh.edu Date: Fri, 03 Oct 2025 06:13:11 -0700 (PDT) Message-ID: <68dfcbe7.050a0220.68bec.f283SMTPIN_ADDED_MISSING@mx.google.com> Received: from [172.21.0.3] (unknown [172.18.0.240]) by postal.iol.unh.edu (Postfix) with ESMTP id 2F705604D420; Fri, 3 Oct 2025 09:13:11 -0400 (EDT) Subject: |SUCCESS| pw157253-157257 [PATCH] [v3,7/7] ethdev: deprecate queue s From: dpdklab@iol.unh.edu To: Test Report Cc: dpdk-test-reports@iol.unh.edu In-Reply-To: <20251003110201.1541183-8-bruce.richardson@intel.com> References: <20251003110201.1541183-8-bruce.richardson@intel.com> Content-Type: text/plain X-BeenThere: test-report@dpdk.org X-Mailman-Version: 2.1.29 Precedence: list List-Id: automatic DPDK test reports List-Unsubscribe: , List-Archive: List-Post: List-Help: List-Subscribe: , Errors-To: test-report-bounces@dpdk.org Test-Label: iol-unit-amd64-testing Test-Status: SUCCESS http://dpdk.org/patch/157257 _Testing PASS_ Submitter: Bruce Richardson Date: Friday, October 03 2025 11:02:01 DPDK git baseline: Repo:dpdk Branch: master CommitID:76393b98bf67f94dc6aa23cf5016c32571899261 157253-157257 --> testing pass Upstream job id: Generic-Unit-Test-DPDK#378265 Test environment and result as below: +-------------------------------+----------------+ | Environment | dpdk_unit_test | +===============================+================+ | CentOS Stream 10 | PASS | +-------------------------------+----------------+ | CentOS Stream 9 | PASS | +-------------------------------+----------------+ | Debian GNU/Linux 12 | PASS | +-------------------------------+----------------+ | Fedora Linux 40 | PASS | +-------------------------------+----------------+ | Fedora Linux 41 | PASS | +-------------------------------+----------------+ | Red Hat Enterprise Linux 9.5 | PASS | +-------------------------------+----------------+ | Fedora Linux 42 | PASS | +-------------------------------+----------------+ | Red Hat Enterprise Linux 8.10 | PASS | +-------------------------------+----------------+ | Ubuntu 22.04 | PASS | +-------------------------------+----------------+ | Ubuntu 20.04 | PASS | +-------------------------------+----------------+ | Ubuntu 24.04 | PASS | +-------------------------------+----------------+ | Windows Server 2022 | PASS | +-------------------------------+----------------+ CentOS Stream 10 Kernel: 5.15 Compiler: gcc gcc (GCC) 14.2.1 20250110 (Red Hat 14.2.1-8) CentOS Stream 9 Kernel: 5.15 Compiler: gcc gcc (GCC) 11.5.0 20240719 (Red Hat 11.5.0-11) Debian GNU/Linux 12 Kernel: 5.15 Compiler: gcc gcc (Debian 12.2.0-14+deb12u1) 12.2.0 Fedora Linux 40 Kernel: 5.15 Compiler: gcc gcc (GCC) 14.2.1 20240912 (Red Hat 14.2.1-3) Fedora Linux 41 Kernel: 5.15 Compiler: gcc gcc (GCC) 14.3.1 20250523 (Red Hat 14.3.1-1) Red Hat Enterprise Linux 9.5 Kernel: 5.15 Compiler: gcc gcc (GCC) 11.5.0 20240719 (Red Hat 11.5.0-2) Fedora Linux 42 Kernel: 5.15 Compiler: clang gcc (GCC) 15.2.1 20250808 (Red Hat 15.2.1-1) Red Hat Enterprise Linux 8.10 Kernel: 5.15 Compiler: gcc gcc (GCC) 8.5.0 20210514 (Red Hat 8.5.0-22) Ubuntu 22.04 Kernel: 5.15 Compiler: gcc gcc (Ubuntu 11.4.0-1ubuntu1~22.04) 11.4.0 Ubuntu 20.04 Kernel: 5.15 Compiler: gcc gcc (Ubuntu 9.4.0-1ubuntu1~20.04.2) 9.4.0 Ubuntu 24.04 Kernel: 5.15 Compiler: gcc gcc (Ubuntu 13.3.0-6ubuntu2~24.04) 13.3.0 Windows Server 2022 Kernel: 10.0.20348.2031 Compiler: clang 15.0.7, gcc 14.1.0 (MinGW), and MSVC VS 19.39.33521 To view detailed results, visit: https://lab.dpdk.org/results/dashboard/patchsets/34209/ UNH-IOL DPDK Community Lab To manage your email subscriptions, visit: https://lab.dpdk.org/results/dashboard/preferences/subscriptions/