From mboxrd@z Thu Jan 1 00:00:00 1970 Return-Path: Received: from mails.dpdk.org (mails.dpdk.org [217.70.189.124]) by inbox.dpdk.org (Postfix) with ESMTP id 88B8E4889F for ; Fri, 3 Oct 2025 15:13:15 +0200 (CEST) Received: from mails.dpdk.org (localhost [127.0.0.1]) by mails.dpdk.org (Postfix) with ESMTP id 8169140267; Fri, 3 Oct 2025 15:13:15 +0200 (CEST) Received: from mail-pj1-f98.google.com (mail-pj1-f98.google.com [209.85.216.98]) by mails.dpdk.org (Postfix) with ESMTP id 01C91402BB for ; Fri, 3 Oct 2025 15:13:13 +0200 (CEST) Received: by mail-pj1-f98.google.com with SMTP id 98e67ed59e1d1-3352018dfbcso1967609a91.0 for ; Fri, 03 Oct 2025 06:13:13 -0700 (PDT) DKIM-Signature: v=1; a=rsa-sha256; c=relaxed/relaxed; d=iol.unh.edu; s=unh-iol; t=1759497193; x=1760101993; darn=dpdk.org; h=references:in-reply-to:cc:to:from:subject:message-id:date:from:to :cc:subject:date:message-id:reply-to; bh=BdyBZ4qtgEj6G9z1y7/VCc/WSFIFPCrNrd/6kVpkgQ8=; b=CABZlOr9xRfL+L7Zn7CRrI0+AcSG9ibC8ONBfDolhIzWjFUvgs7Ou8kNb1VXVI/Fls NvbG5j08u2AuK2hI1+1gcc+j505jM7ya2X/CuSHbY0yyCXRZdY3j0XN/6tINlEeKjnd4 wdzTIM8p2GC30aRawea1LKkpHHG/bypjo7AlM= X-Google-DKIM-Signature: v=1; a=rsa-sha256; c=relaxed/relaxed; d=1e100.net; s=20230601; t=1759497193; x=1760101993; h=references:in-reply-to:cc:to:from:subject:message-id:date :x-gm-message-state:from:to:cc:subject:date:message-id:reply-to; bh=BdyBZ4qtgEj6G9z1y7/VCc/WSFIFPCrNrd/6kVpkgQ8=; b=pH+FaZufUJ4R6WYlEvBfdQVu7OPoIF4uawjV+9WNfhOF27Jof06gm/GD7DTFj7BUjO 3d/T80uEP5BYgWAibegACHmbaZ9GFmZMyV7L+rh/6vvdZVSrXlTu9CotClTKEQ+FJX50 66u198d2LfRxIhIR9PgNjb6TO6nWIk0TSkJfrsmVrMaDk+yS1684Dx6qx29Rjt5YGoRU 8/Hzd74YWH3LtDGcntEOxY6lm1gK8x90yRSobIgjjwqvZqFMouJo2QASyuimzIlXWVdC tZUc3azwdqd/EXC3KilUZigOFtnvqACQHMdJq3PG+aFHutbbn+uFu5K00QVIF4N9NR+m C6fg== X-Gm-Message-State: AOJu0Yw6uTVeBEqsNmFquPpdBpJOn4xsLYRBjH6/f0fSbxiV3H8yl3sE Qmsx33yMzGGYaGxkJ/A1hysqdNhm5aRv/Qar+fbV45AvVXIVNXrswQvGt+gvfUGVFwdobTmRZqB YRLro/uBT2rYWNgCVa1Z3/eN0bWF6nHclfhtcbDnNraBi X-Gm-Gg: ASbGncsyu2Lyeyv287vmaNKXZzQ0GcKVKIbmPgfDN3AkQ35YEH94JruUyNetwGpSTjr 4iOWXAGY0Y2a/kB+Xx62ZZ96WRtOz7AKRRz6q/O82jNxexAp+yeQM53U3ARAZNVpkkYSD0L7qmG E5mXPd2n7A6eQfIehke/NUxcVcEe7r04u9IFRua1hFBjk16ICnF3rgzFWIdCvuvqmSHrLphXRNU g/tza4n4aj/pOE8jQEIZbDAXQGbnOC41XV60t5HR/RswxlRFAXfcvmNhY5OaVqKnWZqCA9E+q+3 Bw9FZYkI0wwd+U/ye+qODr5FYbd9L2g8mIXJlBekS6qPbj6rmqXVf/IYrVJhveuZxZjlB3SpU9D crw== X-Google-Smtp-Source: AGHT+IFrEpBnfe3JSCVgpnhdJxN0Ggah8k9g2itM4MJ+pwE9+rASwohPquiAb5h9VMWIT68AtmYAOn41/hKB X-Received: by 2002:a17:90b:4b08:b0:32f:98da:c397 with SMTP id 98e67ed59e1d1-339c27db05dmr3635618a91.24.1759497193106; Fri, 03 Oct 2025 06:13:13 -0700 (PDT) Received: from postal.iol.unh.edu (postal.iol.unh.edu. [132.177.123.84]) by smtp-relay.gmail.com with ESMTPS id 41be03b00d2f7-b60999c5f4asm245473a12.6.2025.10.03.06.13.13 (version=TLS1_2 cipher=ECDHE-ECDSA-AES128-GCM-SHA256 bits=128/128); Fri, 03 Oct 2025 06:13:13 -0700 (PDT) X-Relaying-Domain: iol.unh.edu Date: Fri, 03 Oct 2025 06:13:13 -0700 (PDT) Message-ID: <68dfcbe9.630a0220.f8289.f6adSMTPIN_ADDED_MISSING@mx.google.com> Received: from [172.21.0.4] (unknown [172.18.0.240]) by postal.iol.unh.edu (Postfix) with ESMTP id 5C1D2604D420; Fri, 3 Oct 2025 09:13:12 -0400 (EDT) Subject: |SUCCESS| pw157253-157257 [PATCH] [v3,7/7] ethdev: deprecate queue s From: dpdklab@iol.unh.edu To: Test Report Cc: dpdk-test-reports@iol.unh.edu In-Reply-To: <20251003110201.1541183-8-bruce.richardson@intel.com> References: <20251003110201.1541183-8-bruce.richardson@intel.com> Content-Type: text/plain X-BeenThere: test-report@dpdk.org X-Mailman-Version: 2.1.29 Precedence: list List-Id: automatic DPDK test reports List-Unsubscribe: , List-Archive: List-Post: List-Help: List-Subscribe: , Errors-To: test-report-bounces@dpdk.org Test-Label: iol-unit-amd64-testing Test-Status: SUCCESS http://dpdk.org/patch/157257 _Testing PASS_ Submitter: Bruce Richardson Date: Friday, October 03 2025 11:02:01 DPDK git baseline: Repo:dpdk Branch: master CommitID:76393b98bf67f94dc6aa23cf5016c32571899261 157253-157257 --> testing pass Upstream job id: Generic-VM-Unit-Test-DPDK#31570 Test environment and result as below: +-------------------------------+----------------+ | Environment | dpdk_unit_test | +===============================+================+ | CentOS Stream 10 | PASS | +-------------------------------+----------------+ | CentOS Stream 9 | PASS | +-------------------------------+----------------+ | Debian GNU/Linux 12 | PASS | +-------------------------------+----------------+ | Fedora Linux 40 | PASS | +-------------------------------+----------------+ | Fedora Linux 41 | PASS | +-------------------------------+----------------+ | Red Hat Enterprise Linux 9.5 | PASS | +-------------------------------+----------------+ | Fedora Linux 42 | PASS | +-------------------------------+----------------+ | Red Hat Enterprise Linux 8.10 | PASS | +-------------------------------+----------------+ | Ubuntu 22.04 | PASS | +-------------------------------+----------------+ | Ubuntu 20.04 | PASS | +-------------------------------+----------------+ | Ubuntu 24.04 | PASS | +-------------------------------+----------------+ | Windows Server 2022 | PASS | +-------------------------------+----------------+ CentOS Stream 10 Kernel: 5.15 Compiler: gcc gcc (GCC) 14.2.1 20250110 (Red Hat 14.2.1-8) CentOS Stream 9 Kernel: 5.15 Compiler: gcc gcc (GCC) 11.5.0 20240719 (Red Hat 11.5.0-11) Debian GNU/Linux 12 Kernel: 5.15 Compiler: gcc gcc (Debian 12.2.0-14+deb12u1) 12.2.0 Fedora Linux 40 Kernel: 5.15 Compiler: gcc gcc (GCC) 14.2.1 20240912 (Red Hat 14.2.1-3) Fedora Linux 41 Kernel: 5.15 Compiler: gcc gcc (GCC) 14.3.1 20250523 (Red Hat 14.3.1-1) Red Hat Enterprise Linux 9.5 Kernel: 5.15 Compiler: gcc gcc (GCC) 11.5.0 20240719 (Red Hat 11.5.0-2) Fedora Linux 42 Kernel: 5.15 Compiler: clang gcc (GCC) 15.2.1 20250808 (Red Hat 15.2.1-1) Red Hat Enterprise Linux 8.10 Kernel: 5.15 Compiler: gcc gcc (GCC) 8.5.0 20210514 (Red Hat 8.5.0-22) Ubuntu 22.04 Kernel: 5.15 Compiler: gcc gcc (Ubuntu 11.4.0-1ubuntu1~22.04) 11.4.0 Ubuntu 20.04 Kernel: 5.15 Compiler: gcc gcc (Ubuntu 9.4.0-1ubuntu1~20.04.2) 9.4.0 Ubuntu 24.04 Kernel: 5.15 Compiler: gcc gcc (Ubuntu 13.3.0-6ubuntu2~24.04) 13.3.0 Windows Server 2022 Kernel: 10.0.20348.2031 Compiler: clang 15.0.7, gcc 14.1.0 (MinGW), and MSVC VS 19.39.33521 To view detailed results, visit: https://lab.dpdk.org/results/dashboard/patchsets/34209/ UNH-IOL DPDK Community Lab To manage your email subscriptions, visit: https://lab.dpdk.org/results/dashboard/preferences/subscriptions/