From mboxrd@z Thu Jan 1 00:00:00 1970 Return-Path: Received: from mails.dpdk.org (mails.dpdk.org [217.70.189.124]) by inbox.dpdk.org (Postfix) with ESMTP id 38BCB4889F for ; Fri, 3 Oct 2025 15:17:57 +0200 (CEST) Received: from mails.dpdk.org (localhost [127.0.0.1]) by mails.dpdk.org (Postfix) with ESMTP id 2F1D440277; Fri, 3 Oct 2025 15:17:57 +0200 (CEST) Received: from mail-pg1-f226.google.com (mail-pg1-f226.google.com [209.85.215.226]) by mails.dpdk.org (Postfix) with ESMTP id 56A1740277 for ; Fri, 3 Oct 2025 15:17:55 +0200 (CEST) Received: by mail-pg1-f226.google.com with SMTP id 41be03b00d2f7-b6271ea3a6fso910098a12.0 for ; Fri, 03 Oct 2025 06:17:55 -0700 (PDT) DKIM-Signature: v=1; a=rsa-sha256; c=relaxed/relaxed; d=iol.unh.edu; s=unh-iol; t=1759497474; x=1760102274; darn=dpdk.org; h=references:in-reply-to:cc:to:from:subject:message-id:date:from:to :cc:subject:date:message-id:reply-to; bh=yv000qjEFgfwK5EwEfv3WUTEPDj+l7zUie7zP7q2Kpk=; b=OH5C5AuQmGQMylBu0nVOPn4/BBK9HwBhGOp1xbwRRBJnnrU4hN3qMGCVrO00SKCNxa b4+HrSvu7QauNUAlGClq60ngpUhLU2tsznGTrWjunQoCM38FnfcXYxiKydJkbklKzRLo g1j8WgjtCm/UHoIrXvnHrs6NzWoMrN1VQVEA8= X-Google-DKIM-Signature: v=1; a=rsa-sha256; c=relaxed/relaxed; d=1e100.net; s=20230601; t=1759497474; x=1760102274; h=references:in-reply-to:cc:to:from:subject:message-id:date :x-gm-message-state:from:to:cc:subject:date:message-id:reply-to; bh=yv000qjEFgfwK5EwEfv3WUTEPDj+l7zUie7zP7q2Kpk=; b=CP63Wkxr1WSjbm0MEHRB0noZkMsYbd9wjVag23AytTzFMpB+NI5rUkWEXN5m05Gpni DNOo7E/54YppZQpJTfhwz2Wy5gx4S/fT6kIFRTKy+2k89Y9kCXIsDcIylXXb8OpHSy4s W7SXBrWndsm74dpR4oNxZnAw8XwBYhyS5/1tRVoypNFk+79R+/abbjne1RYmXrAjyfvi Y1ZxnotJuGMDxb9WXqpaED5uaqu6kOrZ61lbEEIFMIHW8Fasio/FxRszX7aMaEUSmetk exQnW8wXip+Dhn05erru09iAGTSf5T/7O7sTJ4gwua5xmcNbXYV/zOIDAYWzaUJFyv/n qdlQ== X-Gm-Message-State: AOJu0YzS2rafNUaOyTd8spfUVXD++QIjqtlorSc3IcGo+Tgvgr3uP7TJ Dph57YKXrboIzb9LdH2YGzYxaqduV0tvUe8JC+01LFblQop7Uk+z4E0xGBiqKQKBaQvHhG9ysLk jPnz4MpziSw6t/3zWFuHZHO3fWkzBqpCVhBFewlD5nhvn X-Gm-Gg: ASbGncswpgxnIEOI/X1W9m6sD0C/hd3To3X7Rj5zylLcEPQZKmnu0xtoks8nUtmraNy 8+hfkDv+H8OhGoxrtEN2WZme18KhkZ2dEcxr1iv6IG4QtS9WEFJsRcVZh58hhe6XYnRhZ4leW1j xguAf1fwe/5mF1bDZcT5ngAWetvT3UvsA3uK8ar3xIMk7H5+ianooT9mQIhMA3fbyG7UxNb8x8N KEEjaQf3FyBVP83S/xhgv1tL5Kprq4Yzp6DCYWGMV09X0GP02G0EHlfRHmj7af9AtqfgLJjqjo3 Mh3TaQm/kmeYHFUtakH/7yZkJC9dJK5YgVkyk5DW+hTLdEqTH6K0pwmRLb3yLZrmdwmhCFfPJb9 MHw== X-Google-Smtp-Source: AGHT+IHp6grEF/8PvQddPtsQOCQiJsRbKgTMDLUGtNAsZDFovEZMyDMm/2bY0HeV7LCOyWDwm/nP8k0VOXdC X-Received: by 2002:a17:902:ef12:b0:270:b6d5:f001 with SMTP id d9443c01a7336-28e9a58a342mr34958165ad.23.1759497474007; Fri, 03 Oct 2025 06:17:54 -0700 (PDT) Received: from postal.iol.unh.edu (postal.iol.unh.edu. [132.177.123.84]) by smtp-relay.gmail.com with ESMTPS id d9443c01a7336-28e8d1b2e5asm3668025ad.73.2025.10.03.06.17.53 (version=TLS1_2 cipher=ECDHE-ECDSA-AES128-GCM-SHA256 bits=128/128); Fri, 03 Oct 2025 06:17:54 -0700 (PDT) X-Relaying-Domain: iol.unh.edu Date: Fri, 03 Oct 2025 06:17:54 -0700 (PDT) Message-ID: <68dfcd02.170a0220.369f22.6175SMTPIN_ADDED_MISSING@mx.google.com> Received: from [172.21.0.4] (unknown [172.18.0.240]) by postal.iol.unh.edu (Postfix) with ESMTP id E984A604D420; Fri, 3 Oct 2025 09:17:52 -0400 (EDT) Subject: |SUCCESS| pw157260 [PATCH] ethdev: fix copy-paste error in fn parame From: dpdklab@iol.unh.edu To: Test Report Cc: dpdk-test-reports@iol.unh.edu, Stephen Hemminger In-Reply-To: <20251003110944.1594659-1-bruce.richardson@intel.com> References: <20251003110944.1594659-1-bruce.richardson@intel.com> Content-Type: text/plain X-BeenThere: test-report@dpdk.org X-Mailman-Version: 2.1.29 Precedence: list List-Id: automatic DPDK test reports List-Unsubscribe: , List-Archive: List-Post: List-Help: List-Subscribe: , Errors-To: test-report-bounces@dpdk.org Test-Label: iol-compile-amd64-testing Test-Status: SUCCESS http://dpdk.org/patch/157260 _Testing PASS_ Submitter: Bruce Richardson Date: Friday, October 03 2025 11:09:44 DPDK git baseline: Repo:dpdk-next-net Branch: master CommitID:c04bbd131b2c14b3049bf86d3ef367b34e6fdf1e 157260 --> testing pass Upstream job id: Windows-Compile-DPDK-Native#31399 Test environment and result as below: +---------------------+--------------------+-------------------+-------------------------+ | Environment | dpdk_meson_compile | dpdk_msvc_compile | dpdk_llvm_clang_compile | +=====================+====================+===================+=========================+ | Ubuntu 20.04 | PASS | SKIPPED | SKIPPED | +---------------------+--------------------+-------------------+-------------------------+ | FreeBSD 14.2 | PASS | SKIPPED | SKIPPED | +---------------------+--------------------+-------------------+-------------------------+ | Windows Server 2022 | SKIPPED | PASS | PASS | +---------------------+--------------------+-------------------+-------------------------+ Ubuntu 20.04 Kernel: 4.19 Compiler: gcc gcc (Ubuntu 9.4.0-1ubuntu1~20.04.2) 9.4.0 FreeBSD 14.2 Kernel: 14.2-RELEASE Compiler: clang 18.1.6 Windows Server 2022 Kernel: 10.0.20348.2031 Compiler: clang 15.0.7, gcc 14.1.0 (MinGW), and MSVC VS 19.39.33521 To view detailed results, visit: https://lab.dpdk.org/results/dashboard/patchsets/34208/ UNH-IOL DPDK Community Lab To manage your email subscriptions, visit: https://lab.dpdk.org/results/dashboard/preferences/subscriptions/