From mboxrd@z Thu Jan 1 00:00:00 1970 Return-Path: Received: from mails.dpdk.org (mails.dpdk.org [217.70.189.124]) by inbox.dpdk.org (Postfix) with ESMTP id 2EF694889F for ; Fri, 3 Oct 2025 15:27:23 +0200 (CEST) Received: from mails.dpdk.org (localhost [127.0.0.1]) by mails.dpdk.org (Postfix) with ESMTP id 25F6B40277; Fri, 3 Oct 2025 15:27:23 +0200 (CEST) Received: from mail-io1-f99.google.com (mail-io1-f99.google.com [209.85.166.99]) by mails.dpdk.org (Postfix) with ESMTP id 6C21B40277 for ; Fri, 3 Oct 2025 15:27:22 +0200 (CEST) Received: by mail-io1-f99.google.com with SMTP id ca18e2360f4ac-8ca2e53c37bso204967439f.3 for ; Fri, 03 Oct 2025 06:27:22 -0700 (PDT) DKIM-Signature: v=1; a=rsa-sha256; c=relaxed/relaxed; d=iol.unh.edu; s=unh-iol; t=1759498042; x=1760102842; darn=dpdk.org; h=references:in-reply-to:cc:to:from:subject:message-id:date:from:to :cc:subject:date:message-id:reply-to; bh=1D0xDA3gd60L5e3njTwbgzb/LZAEEYp2M2BIiUrnmSw=; b=M7uUITWzYxVyb5O3RSXfh1i0s0ziA3yNAxYdIJ/5RRr9YUAdZ5dfcErT4yMuoOK/BU 7VlZm5/oo080q8nrrNTEcZNIJgJADq52mV8QUyZcEHT1DPTJAeXczdakV3saY+qHZQRj zHareAr2KmB+486JVR+FNckUgwq3Hy8562vX8= X-Google-DKIM-Signature: v=1; a=rsa-sha256; c=relaxed/relaxed; d=1e100.net; s=20230601; t=1759498042; x=1760102842; h=references:in-reply-to:cc:to:from:subject:message-id:date :x-gm-message-state:from:to:cc:subject:date:message-id:reply-to; bh=1D0xDA3gd60L5e3njTwbgzb/LZAEEYp2M2BIiUrnmSw=; b=nUHxfzrHXvsEEudBrLHjgg/68e3eEUpRpa+8WvTIDU+NgqY/sMLOeQRvbXfgk0UUHT CRhw8WPpGBUJAYVqY8Tnp4r5j7/aRFUQL9nrTIRJVhEHqW+9B4o5HK/ur97aFbQAYoxq sqHIVJ1VfDyfE7cIC5DVVJAzeF5lDnG3uzUjNK44Jg16GSc966dcPPxOskaLA37aMwiP MY/cIicapFvwVsEZ9B3LXozL+/XYHLyevjpNaK/SWeim1NZaPUjlB5sl+uIdxt8oiOXD 3H9k2ChbQRvs3gg87Rv74yJoVGAB1wdo6287mHk9s7l+/xPRzOAokEIbfyBYHI82XZvq bHaA== X-Gm-Message-State: AOJu0Yw///RD7D4H71yDAAWA88k17YRwG5UzHynP8aW2btp3UBXJp/Sd dtWRRm7+pLViPl6GXuwbFQZvlN2DFXSkg9TQkrtN2IZzadPFTfL6mCAd6jma1Q4AypA70n+aeUR XY5aVdFIn6HZWQ3KL2qK8QSllJT7tjh4FjYAOkU51aWsN X-Gm-Gg: ASbGncslzlqI9jkdV85SG6Xhqnb7yx2Qe7MVh4RjquFUNYPnbjiwDrAb0ruV1n2h7v6 fWC7Wv5i70mHNES+vDtiSalZdkj3HbsE04upF3swH6HFJfaRMVfJX9VftleR0KsC0sviWOFsNir RYMjqFnLRRibiXeM03WzKf/96hIbgm6/rVvXZuaHV2UaMqcBI/kVLidAyBC8uEn/i/ysot98oro c6nzIXznlsVJzQqDQFlrQvHSN9SAZPijWJPBzY2HoIOE67J2d98OxjmH7UiSoo5bG0WYGyVclB7 keC3qz2Mo32rJp1IhzJwbvK/+fsv0Sc3HAbBF/mond7xIaIZzn+HU84sHGdK0ocehKKNdW8nX6G heQ== X-Google-Smtp-Source: AGHT+IEcjJQqLKPS0sW9aOqx5z/o82xaEppF7VoWBR8CtpL9fgUGRc6Eauupl39bUobo6U64ECX87pyCN4MC X-Received: by 2002:a05:6e02:1a68:b0:42d:7e74:2fac with SMTP id e9e14a558f8ab-42e7ac0b9d2mr35120065ab.0.1759498041686; Fri, 03 Oct 2025 06:27:21 -0700 (PDT) Received: from postal.iol.unh.edu (postal.iol.unh.edu. [132.177.123.84]) by smtp-relay.gmail.com with ESMTPS id e9e14a558f8ab-42d8b201504sm3679915ab.6.2025.10.03.06.27.21 (version=TLS1_2 cipher=ECDHE-ECDSA-AES128-GCM-SHA256 bits=128/128); Fri, 03 Oct 2025 06:27:21 -0700 (PDT) X-Relaying-Domain: iol.unh.edu Date: Fri, 03 Oct 2025 06:27:21 -0700 (PDT) Message-ID: <68dfcf39.920a0220.1903ac.633fSMTPIN_ADDED_MISSING@mx.google.com> Received: from [172.21.0.2] (unknown [172.18.0.240]) by postal.iol.unh.edu (Postfix) with ESMTP id 3E53560003E8; Fri, 3 Oct 2025 09:27:21 -0400 (EDT) Subject: |SUCCESS| pw157253-157257 [PATCH] [v3,7/7] ethdev: deprecate queue s From: dpdklab@iol.unh.edu To: Test Report Cc: dpdk-test-reports@iol.unh.edu In-Reply-To: <20251003110201.1541183-8-bruce.richardson@intel.com> References: <20251003110201.1541183-8-bruce.richardson@intel.com> Content-Type: text/plain X-BeenThere: test-report@dpdk.org X-Mailman-Version: 2.1.29 Precedence: list List-Id: automatic DPDK test reports List-Unsubscribe: , List-Archive: List-Post: List-Help: List-Subscribe: , Errors-To: test-report-bounces@dpdk.org Test-Label: iol-unit-amd64-testing Test-Status: SUCCESS http://dpdk.org/patch/157257 _Testing PASS_ Submitter: Bruce Richardson Date: Friday, October 03 2025 11:02:01 DPDK git baseline: Repo:dpdk Branch: master CommitID:76393b98bf67f94dc6aa23cf5016c32571899261 157253-157257 --> testing pass Upstream job id: Generic-VM-Unit-Test-DPDK#31571 Test environment and result as below: +-------------------------------+----------------+ | Environment | dpdk_unit_test | +===============================+================+ | CentOS Stream 10 | PASS | +-------------------------------+----------------+ | CentOS Stream 9 | PASS | +-------------------------------+----------------+ | Debian GNU/Linux 12 | PASS | +-------------------------------+----------------+ | Fedora Linux 40 | PASS | +-------------------------------+----------------+ | Fedora Linux 41 | PASS | +-------------------------------+----------------+ | Red Hat Enterprise Linux 9.5 | PASS | +-------------------------------+----------------+ | Fedora Linux 42 | PASS | +-------------------------------+----------------+ | Red Hat Enterprise Linux 8.10 | PASS | +-------------------------------+----------------+ | Ubuntu 22.04 | PASS | +-------------------------------+----------------+ | Ubuntu 20.04 | PASS | +-------------------------------+----------------+ | Ubuntu 24.04 | PASS | +-------------------------------+----------------+ | Windows Server 2022 | PASS | +-------------------------------+----------------+ CentOS Stream 10 Kernel: 5.15 Compiler: gcc gcc (GCC) 14.2.1 20250110 (Red Hat 14.2.1-8) CentOS Stream 9 Kernel: 5.15 Compiler: gcc gcc (GCC) 11.5.0 20240719 (Red Hat 11.5.0-11) Debian GNU/Linux 12 Kernel: 5.15 Compiler: gcc gcc (Debian 12.2.0-14+deb12u1) 12.2.0 Fedora Linux 40 Kernel: 5.15 Compiler: gcc gcc (GCC) 14.2.1 20240912 (Red Hat 14.2.1-3) Fedora Linux 41 Kernel: 5.15 Compiler: gcc gcc (GCC) 14.3.1 20250523 (Red Hat 14.3.1-1) Red Hat Enterprise Linux 9.5 Kernel: 5.15 Compiler: gcc gcc (GCC) 11.5.0 20240719 (Red Hat 11.5.0-2) Fedora Linux 42 Kernel: 5.15 Compiler: clang gcc (GCC) 15.2.1 20250808 (Red Hat 15.2.1-1) Red Hat Enterprise Linux 8.10 Kernel: 5.15 Compiler: gcc gcc (GCC) 8.5.0 20210514 (Red Hat 8.5.0-22) Ubuntu 22.04 Kernel: 5.15 Compiler: gcc gcc (Ubuntu 11.4.0-1ubuntu1~22.04) 11.4.0 Ubuntu 20.04 Kernel: 5.15 Compiler: gcc gcc (Ubuntu 9.4.0-1ubuntu1~20.04.2) 9.4.0 Ubuntu 24.04 Kernel: 5.15 Compiler: gcc gcc (Ubuntu 13.3.0-6ubuntu2~24.04) 13.3.0 Windows Server 2022 Kernel: 10.0.20348.2031 Compiler: clang 15.0.7, gcc 14.1.0 (MinGW), and MSVC VS 19.39.33521 To view detailed results, visit: https://lab.dpdk.org/results/dashboard/patchsets/34209/ UNH-IOL DPDK Community Lab To manage your email subscriptions, visit: https://lab.dpdk.org/results/dashboard/preferences/subscriptions/