From mboxrd@z Thu Jan 1 00:00:00 1970 Return-Path: Received: from mails.dpdk.org (mails.dpdk.org [217.70.189.124]) by inbox.dpdk.org (Postfix) with ESMTP id 45A5F4889F for ; Fri, 3 Oct 2025 15:47:34 +0200 (CEST) Received: from mails.dpdk.org (localhost [127.0.0.1]) by mails.dpdk.org (Postfix) with ESMTP id 3FD4540277; Fri, 3 Oct 2025 15:47:34 +0200 (CEST) Received: from mail-pf1-f225.google.com (mail-pf1-f225.google.com [209.85.210.225]) by mails.dpdk.org (Postfix) with ESMTP id 8BD3240277 for ; Fri, 3 Oct 2025 15:47:33 +0200 (CEST) Received: by mail-pf1-f225.google.com with SMTP id d2e1a72fcca58-781001e3846so2195923b3a.2 for ; Fri, 03 Oct 2025 06:47:33 -0700 (PDT) DKIM-Signature: v=1; a=rsa-sha256; c=relaxed/relaxed; d=iol.unh.edu; s=unh-iol; t=1759499252; x=1760104052; darn=dpdk.org; h=references:in-reply-to:cc:to:from:subject:message-id:date:from:to :cc:subject:date:message-id:reply-to; bh=SUs4G4duoOGfyjkWCwl7lygyajPcQ7Iz0j6e/fPyXiI=; b=Tbv724HFyCSZgR4/p0W8nPEnBI7d27X7USEibF4Q25OzgGyROcGaZrOjSa380Zz8G8 OChjq10c95SajQJi/nzG5olTt1owp3wxWtw8W5IOCBTjVrTok5IB0hFrd3P5R12B/a4l gzzhD91u3tx5RJ5SgbDUeTcJoOSGn7rCQ2r7I= X-Google-DKIM-Signature: v=1; a=rsa-sha256; c=relaxed/relaxed; d=1e100.net; s=20230601; t=1759499253; x=1760104053; h=references:in-reply-to:cc:to:from:subject:message-id:date :x-gm-message-state:from:to:cc:subject:date:message-id:reply-to; bh=SUs4G4duoOGfyjkWCwl7lygyajPcQ7Iz0j6e/fPyXiI=; b=OqjinA8MF5cqqAWz3UzXmeNBdzSnUdWhYLhC7WqdJ6xZGTsuNDJyVDh9I+TNYxAj6A A6rfMKLYJRn33i0BTapVhcOHMtY1UKVzBvwHqoy4Dm7CsOR90BtxPX/ErbZTQYQHqCoM 0eVP2v9NSutk0COx2ZDbUjj8nSrYfNZBmbYjvUvzAsnvjGWB6ZaMKuSQXMUxC+qMWZyW m77wO+CT4z9dGeL12bv8cTCesc2zM9mPcp28RftsRPYtoy0vDlGUSW6s5QDb6xnjDly1 SSWZjgtj4Ilu5klrW5QtWg1KxcQYwwlTFbByAxsgtWUw83717ZjQNfzwZ8elco8ff+ey ms1A== X-Gm-Message-State: AOJu0YywfPdVpZNgF/yHKvmbRlkbkgfkeDCy+tp1YNyl1qYjlH2pUrnf +jZGdzBSoHmTUhDXM4eu1tdrfePtHeHIdY+5uytK+UDZ144HQuJgUWbEaXBHjflJOI2d8IyIsjv pJyc5/veyyaY4Nn9pBTK49KZdHqqTdAruVFO3US6VdHhc X-Gm-Gg: ASbGncs782Uwfl0m9HH+oh9/n8sM31GUqtyu509wQtinLfrYi+qLvx6qtGP2BgvldQO 7YwpjB1rbfKknVuE7FpQnS8kktqYqSdXLoOXGCFN17GjfRCyBewjzEAVoqjYjDk7vDzjTQCb5D1 kZSoRKyA257MkQCxvdG6895TJsRg2lFNnagwYzNbrKXqcpVFkkdPjPiyHzXj6SC7Qx1DZx6/+UG FCvI6I+1O6utt/HjqnKYPgF/SHx9bBzUgCWO7zu3nnzXsS1ugAgl7ik8/B7z1eNQHkSfG1mP1cv EL/p/pS9jMVyKmZtWapDug2sNSK4NH3ER8qUBWYdESgDf9Kahe1ql/nTWs1ZprNS0G61UhoIhmM fbg== X-Google-Smtp-Source: AGHT+IHbLq9rmafmSMhPxDht7dgsJske/HW2L74liiEqKUr3FjPh2UOWBa5M7jIZJQTx5cXpv+bY5Y3Gixq0 X-Received: by 2002:a05:6a20:6a26:b0:246:6d1:de66 with SMTP id adf61e73a8af0-32b61e5c5bdmr4789314637.17.1759499252674; Fri, 03 Oct 2025 06:47:32 -0700 (PDT) Received: from postal.iol.unh.edu (postal.iol.unh.edu. [132.177.123.84]) by smtp-relay.gmail.com with ESMTPS id d2e1a72fcca58-78b01f90272sm389326b3a.1.2025.10.03.06.47.32 (version=TLS1_2 cipher=ECDHE-ECDSA-AES128-GCM-SHA256 bits=128/128); Fri, 03 Oct 2025 06:47:32 -0700 (PDT) X-Relaying-Domain: iol.unh.edu Date: Fri, 03 Oct 2025 06:47:32 -0700 (PDT) Message-ID: <68dfd3f4.050a0220.139ff8.7dc3SMTPIN_ADDED_MISSING@mx.google.com> Received: from [172.21.0.2] (unknown [172.18.0.240]) by postal.iol.unh.edu (Postfix) with ESMTP id E978D6051830; Fri, 3 Oct 2025 09:47:31 -0400 (EDT) Subject: |SUCCESS| pw157261-157263 [PATCH] [v5,3/3] net/ice: add PFC statisti From: dpdklab@iol.unh.edu To: Test Report Cc: dpdk-test-reports@iol.unh.edu, Bruce Richardson In-Reply-To: <20251003124037.342760-4-vladimir.medvedkin@intel.com> References: <20251003124037.342760-4-vladimir.medvedkin@intel.com> Content-Type: text/plain X-BeenThere: test-report@dpdk.org X-Mailman-Version: 2.1.29 Precedence: list List-Id: automatic DPDK test reports List-Unsubscribe: , List-Archive: List-Post: List-Help: List-Subscribe: , Errors-To: test-report-bounces@dpdk.org Test-Label: iol-compile-amd64-testing Test-Status: SUCCESS http://dpdk.org/patch/157263 _Testing PASS_ Submitter: Vladimir Medvedkin Date: Friday, October 03 2025 12:40:37 DPDK git baseline: Repo:dpdk-next-net-intel Branch: master CommitID:e7d8cc7ef4df3552575525697079d3c957cfcdaf 157261-157263 --> testing pass Upstream job id: Windows-Compile-DPDK-VS#7097 Test environment and result as below: +---------------------+-------------------+--------------------+ | Environment | dpdk_msvc_compile | dpdk_meson_compile | +=====================+===================+====================+ | Windows Server 2022 | PASS | SKIPPED | +---------------------+-------------------+--------------------+ | FreeBSD 14.2 | SKIPPED | PASS | +---------------------+-------------------+--------------------+ | Ubuntu 20.04 | SKIPPED | PASS | +---------------------+-------------------+--------------------+ Windows Server 2022 Kernel: 10.0.20348.2031 Compiler: clang 15.0.7, gcc 14.1.0 (MinGW), and MSVC VS 19.39.33521 FreeBSD 14.2 Kernel: 14.2-RELEASE Compiler: clang 18.1.6 Ubuntu 20.04 Kernel: 4.19 Compiler: gcc gcc (Ubuntu 9.4.0-1ubuntu1~20.04.2) 9.4.0 To view detailed results, visit: https://lab.dpdk.org/results/dashboard/patchsets/34210/ UNH-IOL DPDK Community Lab To manage your email subscriptions, visit: https://lab.dpdk.org/results/dashboard/preferences/subscriptions/