From mboxrd@z Thu Jan 1 00:00:00 1970 Return-Path: Received: from mails.dpdk.org (mails.dpdk.org [217.70.189.124]) by inbox.dpdk.org (Postfix) with ESMTP id A63E14889F for ; Fri, 3 Oct 2025 15:49:33 +0200 (CEST) Received: from mails.dpdk.org (localhost [127.0.0.1]) by mails.dpdk.org (Postfix) with ESMTP id 75F1240277; Fri, 3 Oct 2025 15:49:33 +0200 (CEST) Received: from mail-il1-f225.google.com (mail-il1-f225.google.com [209.85.166.225]) by mails.dpdk.org (Postfix) with ESMTP id 5EE3F40277 for ; Fri, 3 Oct 2025 15:49:32 +0200 (CEST) Received: by mail-il1-f225.google.com with SMTP id e9e14a558f8ab-42e7b22e007so4373555ab.3 for ; Fri, 03 Oct 2025 06:49:32 -0700 (PDT) DKIM-Signature: v=1; a=rsa-sha256; c=relaxed/relaxed; d=iol.unh.edu; s=unh-iol; t=1759499371; x=1760104171; darn=dpdk.org; h=references:in-reply-to:cc:to:from:subject:message-id:date:from:to :cc:subject:date:message-id:reply-to; bh=jjUZKJRGzKFwnWlPWuCs0FiS3qi/OWRVkHIvXCsRLpY=; b=fNNtc9OeaCZjeKhJTxrIuYQU9UK+S7SnKQzyAveyjCbX1imTvM0HoizUcDc1x3b+FN zlbK/ZzWuve14Y1C+jI+iXa3D7cYRXYmpXv1qVeSsj2l+NWMpPX9O3Q8lANZDbjK+qU7 IrfKSbIS76ba2NaDYI/ca/5hmBDYK7wwoVNBA= X-Google-DKIM-Signature: v=1; a=rsa-sha256; c=relaxed/relaxed; d=1e100.net; s=20230601; t=1759499371; x=1760104171; h=references:in-reply-to:cc:to:from:subject:message-id:date :x-gm-message-state:from:to:cc:subject:date:message-id:reply-to; bh=jjUZKJRGzKFwnWlPWuCs0FiS3qi/OWRVkHIvXCsRLpY=; b=HWAULjZ8F3p2jHDwhxQz63LMjzxdcHAZafhh+P/iBchuIRPu7iMhYCT3bT+N88Q55p 2ckQOHUn+FCgVDAPXsce5XgmJ55M5ZSduznjsavNkDudkYodNRPdo+g3u/+EHWZPLlmn t3gKMm44hD1cBGlVSOoWUZ5/Cr+T2R/CKA+nqZ7zQFhRbzKx1V5hr/jgg0PhHKqydDhV i34B7C20yShxAHTvuqEZlWtmyGUKq61T1mkymGwLoEjA8aZmFfQKKQndUuDyJypOuAr6 DYGoovRxZqc0JrVT2CClRvmLusFk/SkcEMmevcmOUJVGu7g9ytdvOXwFYe07B3agBubi ddoQ== X-Gm-Message-State: AOJu0Yyp9wzUBF/lN41cK7xib4w6TnAzj97euhIKH8CdkCVz59DG3GBt BXy3hD/+YfWTTiZ53Iu9CPov8EQjWigdRt1HJn6yz0le13aR3W3GEcI4EJuNxEx7oRd+BjhJnmP eD3a4vOlqGh0lYKJHuy+1c630ZxsWKltADsapRNW7oHbBnThv5Nb5CAfuHqJ+ X-Gm-Gg: ASbGncv8XaLN2xHc8hpQgDHhCUDVC4hmUkMwDuY020adL48Gd6A3psO7RTOxIz0zRHd mvL42watE7pOpCT1+DaPve94uL0ZlgWKDUtdwklt+q8GDqmjcp+867A2NQ/iMHaPu5abVtsOV5J tTG3sELjVY4reCRseDhyIWOfKy1re1jWzN8J72BnOXFce26iPlaWtif359btpMhmLv+Q/YB4djz aN2Yl2fD0+xGg6K9n2sDUgPca9liUhBx+IxxUZnMh20OG2QzoFBruK2zG+WesfEUzM9bM7aXSxc oTZjIkCLx2Zrd1O8LVjcaKENLBVKbcejcE9xn901iGlpVgYoHMYj7IQ= X-Google-Smtp-Source: AGHT+IFs9/4t31XFAu76T3Hz5BYnMX9hxeYQEBiySZ6tlIaNq9Ldu6HeBU5NsrzqgKCyJQFhwvYrit2O0VWR X-Received: by 2002:a05:6e02:1885:b0:42e:70f3:4dc3 with SMTP id e9e14a558f8ab-42e7adc9ff1mr36499465ab.27.1759499371684; Fri, 03 Oct 2025 06:49:31 -0700 (PDT) Received: from postal.iol.unh.edu (postal.iol.unh.edu. [2606:4100:3880:1234::84]) by smtp-relay.gmail.com with ESMTPS id 8926c6da1cb9f-57b5ed663c4sm357499173.37.2025.10.03.06.49.31 (version=TLS1_2 cipher=ECDHE-ECDSA-AES128-GCM-SHA256 bits=128/128); Fri, 03 Oct 2025 06:49:31 -0700 (PDT) X-Relaying-Domain: iol.unh.edu Date: Fri, 03 Oct 2025 06:49:31 -0700 (PDT) Message-ID: <68dfd46b.050a0220.3519c1.5bf9SMTPIN_ADDED_MISSING@mx.google.com> Received: from [172.21.0.2] (unknown [172.18.0.240]) by postal.iol.unh.edu (Postfix) with ESMTP id 39E9A6051830; Fri, 3 Oct 2025 09:49:31 -0400 (EDT) Subject: |SUCCESS| pw157260 [PATCH] ethdev: fix copy-paste error in fn parame From: dpdklab@iol.unh.edu To: Test Report Cc: dpdk-test-reports@iol.unh.edu, Stephen Hemminger In-Reply-To: <20251003110944.1594659-1-bruce.richardson@intel.com> References: <20251003110944.1594659-1-bruce.richardson@intel.com> Content-Type: text/plain X-BeenThere: test-report@dpdk.org X-Mailman-Version: 2.1.29 Precedence: list List-Id: automatic DPDK test reports List-Unsubscribe: , List-Archive: List-Post: List-Help: List-Subscribe: , Errors-To: test-report-bounces@dpdk.org Test-Label: iol-compile-amd64-testing Test-Status: SUCCESS http://dpdk.org/patch/157260 _Testing PASS_ Submitter: Bruce Richardson Date: Friday, October 03 2025 11:09:44 DPDK git baseline: Repo:dpdk-next-net Branch: master CommitID:c04bbd131b2c14b3049bf86d3ef367b34e6fdf1e 157260 --> testing pass Upstream job id: Windows-Compile-DPDK-Native#31400 Test environment and result as below: +---------------------+--------------------+-------------------+-------------------------+----------------------+ | Environment | dpdk_meson_compile | dpdk_msvc_compile | dpdk_llvm_clang_compile | dpdk_mingw64_compile | +=====================+====================+===================+=========================+======================+ | Ubuntu 20.04 | PASS | SKIPPED | SKIPPED | SKIPPED | +---------------------+--------------------+-------------------+-------------------------+----------------------+ | FreeBSD 14.2 | PASS | SKIPPED | SKIPPED | SKIPPED | +---------------------+--------------------+-------------------+-------------------------+----------------------+ | Windows Server 2022 | SKIPPED | PASS | PASS | PASS | +---------------------+--------------------+-------------------+-------------------------+----------------------+ Ubuntu 20.04 Kernel: 4.19 Compiler: gcc gcc (Ubuntu 9.4.0-1ubuntu1~20.04.2) 9.4.0 FreeBSD 14.2 Kernel: 14.2-RELEASE Compiler: clang 18.1.6 Windows Server 2022 Kernel: 10.0.20348.2031 Compiler: clang 15.0.7, gcc 14.1.0 (MinGW), and MSVC VS 19.39.33521 To view detailed results, visit: https://lab.dpdk.org/results/dashboard/patchsets/34208/ UNH-IOL DPDK Community Lab To manage your email subscriptions, visit: https://lab.dpdk.org/results/dashboard/preferences/subscriptions/