From mboxrd@z Thu Jan 1 00:00:00 1970 Return-Path: Received: from mails.dpdk.org (mails.dpdk.org [217.70.189.124]) by inbox.dpdk.org (Postfix) with ESMTP id 919284889F for ; Fri, 3 Oct 2025 15:59:41 +0200 (CEST) Received: from mails.dpdk.org (localhost [127.0.0.1]) by mails.dpdk.org (Postfix) with ESMTP id 7348A40277; Fri, 3 Oct 2025 15:59:41 +0200 (CEST) Received: from mail-qt1-f225.google.com (mail-qt1-f225.google.com [209.85.160.225]) by mails.dpdk.org (Postfix) with ESMTP id D175740277 for ; Fri, 3 Oct 2025 15:59:39 +0200 (CEST) Received: by mail-qt1-f225.google.com with SMTP id d75a77b69052e-4dfd1f48d4cso15893671cf.0 for ; Fri, 03 Oct 2025 06:59:39 -0700 (PDT) DKIM-Signature: v=1; a=rsa-sha256; c=relaxed/relaxed; d=iol.unh.edu; s=unh-iol; t=1759499979; x=1760104779; darn=dpdk.org; h=references:in-reply-to:cc:to:from:subject:message-id:date:from:to :cc:subject:date:message-id:reply-to; bh=NgiQr2GwGqBjIim3n5vc74Jv6nAyyCBAORVTjtoWtl0=; b=WiQjobazT/wnI1uYZhFT5RNNm6IWWw3/s3Nb+BsI281IPkiWIfbOV0peSp7ikwP7rQ pENUa1xIcDbCoDeaE6LmPewo2742SIAMxhkAFnwESSN/wG7H5GCP5VGfRdRdLZUyn5oP tGcv32lLRWjNr1sVoOBU5YIKFX1KO7kc69tbc= X-Google-DKIM-Signature: v=1; a=rsa-sha256; c=relaxed/relaxed; d=1e100.net; s=20230601; t=1759499979; x=1760104779; h=references:in-reply-to:cc:to:from:subject:message-id:date :x-gm-message-state:from:to:cc:subject:date:message-id:reply-to; bh=NgiQr2GwGqBjIim3n5vc74Jv6nAyyCBAORVTjtoWtl0=; b=c/eRPRBFGoxJg7OOinNG1W6K2GShvxFJDxlTOpHKuTH/yWSRm8I70DmalaBJwQiaqw BZ2eVRJudPxNyY/COqKflY2rZkyzNz4PEGgbILHS1/plUiv8uqpiTuMidggGV3Jkg1Wh Hio3rlUo7Fo06JKqsmKWJ3TMjZP1t2XOAskFT2sWUuw7ftu6huYIP5fhOhydcKXMKjCK NAEdXzo7NNBYGbPtRjlXr7kT5lo6vAss8Fb9lvbKmoMAgewvxEvd+JTrboe95V7WVLss T2XBMhxZI1tghqZg/hw3O/OqwSoJIAnb8ifnd/gjlF+RNW3hx0cukD6leFtVcFgvGhUt Gy0A== X-Gm-Message-State: AOJu0YzNqkpEVShORvW4xvYlgjFCggW2IYn2M4k7j2s6t7M1cSdohFNu fDxqaWZPwWXb4kl+aU8Qe8IjCWpTqQv0GYNqxJz8/jIU70LIFZRyfL4K3Q+MAl/aThqqGRCex00 NpAffudDneByXE23An2s9GR7Oe9NztB5HHYaCtV8rHjZtQTHkYbM1Q/JQPj9e X-Gm-Gg: ASbGncvoDYXrIXYAQr7ckeXhyFgSMvnuvlCkOe4PKkmL9jnBaC+3mpCKdUyOtPZ9/wU WpoFvJ2tmYCK/yknm6ls7s5phTA2AI7y/GDqbkHaFyLY3oA7yOHAREAoVLpnUWt7ymXFCGvaYJC NJlWkeYQuMDC8h7wiA8kT+Y6Lfs/SmED4bjh8q7wEC7Gw1VDB8+bLke410JzaPEKXKp+GgtYH4b wBRrln5KMF3IlYyYW6nuX5mHk0+Pz3TmlP2RFNIDbGwcVi4Eg8YBRJw4UGufZCUj43g+S5zZ7xb EoZjIBgUerllZfwQES3H+MOEyV1Z/xMAlM//s+cwop6dTfoAsbDoTpo= X-Google-Smtp-Source: AGHT+IHNUAKeOsyoOxBQ9AikWgsIeW84rpF4UtZM1UBkFMX1/YaO8uiZhWHhvY/A1pqdYksrPCNDb18RB6vb X-Received: by 2002:a05:622a:98e:b0:4c3:b7b0:3317 with SMTP id d75a77b69052e-4e576ad9fa7mr40652351cf.42.1759499978871; Fri, 03 Oct 2025 06:59:38 -0700 (PDT) Received: from postal.iol.unh.edu (postal.iol.unh.edu. [2606:4100:3880:1234::84]) by smtp-relay.gmail.com with ESMTPS id d75a77b69052e-4e55a14cc52sm2340391cf.1.2025.10.03.06.59.38 (version=TLS1_2 cipher=ECDHE-ECDSA-AES128-GCM-SHA256 bits=128/128); Fri, 03 Oct 2025 06:59:38 -0700 (PDT) X-Relaying-Domain: iol.unh.edu Date: Fri, 03 Oct 2025 06:59:38 -0700 (PDT) Message-ID: <68dfd6ca.c80a0220.36723e.e16eSMTPIN_ADDED_MISSING@mx.google.com> Received: from [172.21.0.4] (unknown [172.18.0.240]) by postal.iol.unh.edu (Postfix) with ESMTP id 75CE96051830; Fri, 3 Oct 2025 09:59:38 -0400 (EDT) Subject: |SUCCESS| pw157253-157257 [PATCH] [v3,7/7] ethdev: deprecate queue s From: dpdklab@iol.unh.edu To: Test Report Cc: dpdk-test-reports@iol.unh.edu In-Reply-To: <20251003110201.1541183-8-bruce.richardson@intel.com> References: <20251003110201.1541183-8-bruce.richardson@intel.com> Content-Type: text/plain X-BeenThere: test-report@dpdk.org X-Mailman-Version: 2.1.29 Precedence: list List-Id: automatic DPDK test reports List-Unsubscribe: , List-Archive: List-Post: List-Help: List-Subscribe: , Errors-To: test-report-bounces@dpdk.org Test-Label: iol-compile-amd64-testing Test-Status: SUCCESS http://dpdk.org/patch/157257 _Testing PASS_ Submitter: Bruce Richardson Date: Friday, October 03 2025 11:02:01 DPDK git baseline: Repo:dpdk Branch: master CommitID:76393b98bf67f94dc6aa23cf5016c32571899261 157253-157257 --> testing pass Upstream job id: Windows-Compile-DPDK-Native#31401 Test environment and result as below: +---------------------+--------------------+-------------------+-------------------------+ | Environment | dpdk_meson_compile | dpdk_msvc_compile | dpdk_llvm_clang_compile | +=====================+====================+===================+=========================+ | Ubuntu 20.04 | PASS | SKIPPED | SKIPPED | +---------------------+--------------------+-------------------+-------------------------+ | FreeBSD 14.2 | PASS | SKIPPED | SKIPPED | +---------------------+--------------------+-------------------+-------------------------+ | Windows Server 2022 | SKIPPED | PASS | PASS | +---------------------+--------------------+-------------------+-------------------------+ Ubuntu 20.04 Kernel: 4.19 Compiler: gcc gcc (Ubuntu 9.4.0-1ubuntu1~20.04.2) 9.4.0 FreeBSD 14.2 Kernel: 14.2-RELEASE Compiler: clang 18.1.6 Windows Server 2022 Kernel: 10.0.20348.2031 Compiler: clang 15.0.7, gcc 14.1.0 (MinGW), and MSVC VS 19.39.33521 To view detailed results, visit: https://lab.dpdk.org/results/dashboard/patchsets/34209/ UNH-IOL DPDK Community Lab To manage your email subscriptions, visit: https://lab.dpdk.org/results/dashboard/preferences/subscriptions/