From mboxrd@z Thu Jan 1 00:00:00 1970 Return-Path: Received: from mails.dpdk.org (mails.dpdk.org [217.70.189.124]) by inbox.dpdk.org (Postfix) with ESMTP id E6E29488A0 for ; Fri, 3 Oct 2025 16:02:34 +0200 (CEST) Received: from mails.dpdk.org (localhost [127.0.0.1]) by mails.dpdk.org (Postfix) with ESMTP id C5F0640277; Fri, 3 Oct 2025 16:02:34 +0200 (CEST) Received: from mail-il1-f228.google.com (mail-il1-f228.google.com [209.85.166.228]) by mails.dpdk.org (Postfix) with ESMTP id B8AFE40277 for ; Fri, 3 Oct 2025 16:02:33 +0200 (CEST) Received: by mail-il1-f228.google.com with SMTP id e9e14a558f8ab-428551be643so17892775ab.3 for ; Fri, 03 Oct 2025 07:02:33 -0700 (PDT) DKIM-Signature: v=1; a=rsa-sha256; c=relaxed/relaxed; d=iol.unh.edu; s=unh-iol; t=1759500153; x=1760104953; darn=dpdk.org; h=references:in-reply-to:cc:to:from:subject:message-id:date:from:to :cc:subject:date:message-id:reply-to; bh=ktPPkj+lGo1MtFKefxWNCR+GLBmM4MzXdBa8+/kmqlY=; b=SdRCfa7GjSSlMWXV78ETJdM8zosDos0e599VshVzIU4aRwziI8IR7nbMQOFm8RgHor ibQrVTR+O86lM6ouisnNBJXLf51EWAB6wSg54itJi5mYIUgI2vQ/H21fMVga/JisXOxu zs74mCdMr8atTI1Kk4O4vZdjziOjvFV5wTtAg= X-Google-DKIM-Signature: v=1; a=rsa-sha256; c=relaxed/relaxed; d=1e100.net; s=20230601; t=1759500153; x=1760104953; h=references:in-reply-to:cc:to:from:subject:message-id:date :x-gm-message-state:from:to:cc:subject:date:message-id:reply-to; bh=ktPPkj+lGo1MtFKefxWNCR+GLBmM4MzXdBa8+/kmqlY=; b=FjrdTpXILSKquT33BD+SWWVBYMJjS9prrzY6gwq745Kof0ITodc4QgiY4zccNDvc3Z qElgncjLPmbOpvPiXa4/xcedGnryZ2ZAmsojzV03N+XxNCwaVj12R0T3iWtK3rFSii2D LK98/wnsOb/OI/WDargSsaCbno9ivij4xY61tyBiBu+8MJP/qzEH/iuQmBsm4L/Lmlz3 3xOau7aUuLzUAp/737zdDvCQMEwXBeAh13mOFMEtZZWeXOerEivBhuOOxV5KAEF3vOvr ET6QSau7qMdQ9K1ovXa4Fz+TdS+KQ12IAL21lXggv6C4EflqsaCMg2CM/NYrKb442TMU aEEQ== X-Gm-Message-State: AOJu0YxPo1Ivpk5zKlO93e8oJT+aNzDA5xfrlT+uF8KUifSa+ugDGLqn WQVLUe/DFyIt9iyy8jLV4VhfOOaAmCtcgJwP1GMaVi5r5Ze8zReCfP2JjRjPF0IaDWF41IJjgH0 wpV0Amo/xBIvfOhOCgvvP5EYs7Jw4gX7G2+tI0AE5Kmrou1AFdwkeRf/xFY3B X-Gm-Gg: ASbGncseFGsQJejKTH/3Eu0QCKeuCjeULul0+gtygTVXABZ2HVoU5BwtNsF36F1QgqF b5MSwNLpWyefWX+Z4AJgJu4IxdSVoRuN24TvZoHKof4738Rzx/HRTw1OwP6FyN9bP1M+Zs5mVfH EMOYa3AYLXP1lhl0+lE1fLypOY9+pcUjjGgn8mOEjCgEth4wenKt1PALncg1XFsC5slS1ERvKiD T+XaK0YAS6eTKHEubqZ7nb63pu6vqRQPWfJwoLQxCPo9hOvovgK3BX6GGla6qWG6ohxSoQVy2YM /3Cmf6gyZT+nSfuOvC2ttFJ3p2I5ucT0heJlco4tKV7tslcmdEULroQ= X-Google-Smtp-Source: AGHT+IH4RbJRPVE3KmMWgUl0rTTfJoLcYVJLJd53LbBXnaU1tn/Btn4arMcOiygvSxMSpyAHM9TTfy5N9t1S X-Received: by 2002:a05:6e02:156f:b0:42d:8b09:f541 with SMTP id e9e14a558f8ab-42e7ad019admr39895245ab.14.1759500148885; Fri, 03 Oct 2025 07:02:28 -0700 (PDT) Received: from postal.iol.unh.edu (postal.iol.unh.edu. [2606:4100:3880:1234::84]) by smtp-relay.gmail.com with ESMTPS id e9e14a558f8ab-42d8b2796c7sm4007705ab.22.2025.10.03.07.02.28 (version=TLS1_2 cipher=ECDHE-ECDSA-AES128-GCM-SHA256 bits=128/128); Fri, 03 Oct 2025 07:02:28 -0700 (PDT) X-Relaying-Domain: iol.unh.edu Date: Fri, 03 Oct 2025 07:02:28 -0700 (PDT) Message-ID: <68dfd774.050a0220.590bc.9251SMTPIN_ADDED_MISSING@mx.google.com> Received: from [172.21.0.2] (unknown [172.18.0.240]) by postal.iol.unh.edu (Postfix) with ESMTP id 5C9176051830; Fri, 3 Oct 2025 10:02:28 -0400 (EDT) Subject: |SUCCESS| pw157207-157208 [PATCH] [v6,2/2] crypto/ipsec-mb: use cons From: dpdklab@iol.unh.edu To: Test Report Cc: dpdk-test-reports@iol.unh.edu In-Reply-To: <20251002153229.98158-2-kai.ji@intel.com> References: <20251002153229.98158-2-kai.ji@intel.com> Content-Type: text/plain X-BeenThere: test-report@dpdk.org X-Mailman-Version: 2.1.29 Precedence: list List-Id: automatic DPDK test reports List-Unsubscribe: , List-Archive: List-Post: List-Help: List-Subscribe: , Errors-To: test-report-bounces@dpdk.org Test-Label: iol-unit-arm64-testing Test-Status: SUCCESS http://dpdk.org/patch/157208 _Testing PASS_ Submitter: Kai Ji Date: Thursday, October 02 2025 15:32:29 DPDK git baseline: Repo:dpdk Branch: master CommitID:76393b98bf67f94dc6aa23cf5016c32571899261 157207-157208 --> testing pass Upstream job id: Generic-Unit-Test-DPDK#377915 Test environment and result as below: +------------------------------+----------------+------------------------------+--------------+---------------------------+ | Environment | dpdk_unit_test | cryptodev_sw_snow3g_autotest | lpm_autotest | cryptodev_sw_zuc_autotest | +==============================+================+==============================+==============+===========================+ | CentOS Stream 9 | PASS | SKIPPED | SKIPPED | SKIPPED | +------------------------------+----------------+------------------------------+--------------+---------------------------+ | CentOS Stream 10 | PASS | SKIPPED | SKIPPED | SKIPPED | +------------------------------+----------------+------------------------------+--------------+---------------------------+ | Debian GNU/Linux 12 | PASS | SKIPPED | SKIPPED | SKIPPED | +------------------------------+----------------+------------------------------+--------------+---------------------------+ | Ubuntu 22.04 | PASS | SKIPPED | SKIPPED | SKIPPED | +------------------------------+----------------+------------------------------+--------------+---------------------------+ | Fedora Linux 40 | PASS | SKIPPED | SKIPPED | SKIPPED | +------------------------------+----------------+------------------------------+--------------+---------------------------+ | Fedora Linux 41 | PASS | SKIPPED | SKIPPED | SKIPPED | +------------------------------+----------------+------------------------------+--------------+---------------------------+ | Fedora Linux 42 | PASS | SKIPPED | SKIPPED | SKIPPED | +------------------------------+----------------+------------------------------+--------------+---------------------------+ | Ubuntu 20.04 | PASS | SKIPPED | PASS | SKIPPED | +------------------------------+----------------+------------------------------+--------------+---------------------------+ | Red Hat Enterprise Linux 9.5 | PASS | SKIPPED | SKIPPED | SKIPPED | +------------------------------+----------------+------------------------------+--------------+---------------------------+ | Ubuntu 24.04 | PASS | SKIPPED | SKIPPED | SKIPPED | +------------------------------+----------------+------------------------------+--------------+---------------------------+ | Debian 12 (arm) | SKIPPED | PASS | SKIPPED | PASS | +------------------------------+----------------+------------------------------+--------------+---------------------------+ CentOS Stream 9 Kernel: 5.4 Compiler: gcc gcc (GCC) 11.5.0 20240719 (Red Hat 11.5.0-11) CentOS Stream 10 Kernel: 5.4 Compiler: gcc gcc (GCC) 14.2.1 20250110 (Red Hat 14.2.1-8) Debian GNU/Linux 12 Kernel: 5.4 Compiler: gcc gcc (Debian 12.2.0-14+deb12u1) 12.2.0 Ubuntu 22.04 Kernel: 5.15 Compiler: gcc gcc (Ubuntu 11.4.0-1ubuntu1~22.04.2) 11.4.0 Fedora Linux 40 Kernel: 5.4 Compiler: gcc gcc (GCC) 14.2.1 20240912 (Red Hat 14.2.1-3) Fedora Linux 41 Kernel: 5.4 Compiler: gcc gcc (GCC) 14.3.1 20250523 (Red Hat 14.3.1-1) Fedora Linux 42 Kernel: 5.4 Compiler: gcc gcc (GCC) 15.2.1 20250808 (Red Hat 15.2.1-1) Ubuntu 20.04 Kernel: 5.4 Compiler: gcc gcc (Ubuntu 9.4.0-1ubuntu1~20.04.2) 9.4.0 Red Hat Enterprise Linux 9.5 Kernel: 5.4 Compiler: gcc gcc (GCC) 11.5.0 20240719 (Red Hat 11.5.0-2) Ubuntu 24.04 Kernel: 5.4 Compiler: gcc gcc (Ubuntu 13.3.0-6ubuntu2~24.04) 13.3.0 Debian 12 (arm) Kernel: Depends on container host Compiler: gcc (Debian 12.2.0-14) 12.2.0 To view detailed results, visit: https://lab.dpdk.org/results/dashboard/patchsets/34199/ UNH-IOL DPDK Community Lab To manage your email subscriptions, visit: https://lab.dpdk.org/results/dashboard/preferences/subscriptions/