From mboxrd@z Thu Jan 1 00:00:00 1970 Return-Path: Received: from mails.dpdk.org (mails.dpdk.org [217.70.189.124]) by inbox.dpdk.org (Postfix) with ESMTP id 2B20A488A0 for ; Fri, 3 Oct 2025 16:05:21 +0200 (CEST) Received: from mails.dpdk.org (localhost [127.0.0.1]) by mails.dpdk.org (Postfix) with ESMTP id 1425E40277; Fri, 3 Oct 2025 16:05:21 +0200 (CEST) Received: from mail-io1-f97.google.com (mail-io1-f97.google.com [209.85.166.97]) by mails.dpdk.org (Postfix) with ESMTP id 4F27740277 for ; Fri, 3 Oct 2025 16:05:19 +0200 (CEST) Received: by mail-io1-f97.google.com with SMTP id ca18e2360f4ac-938c85ccabcso95747639f.0 for ; Fri, 03 Oct 2025 07:05:19 -0700 (PDT) DKIM-Signature: v=1; a=rsa-sha256; c=relaxed/relaxed; d=iol.unh.edu; s=unh-iol; t=1759500318; x=1760105118; darn=dpdk.org; h=references:in-reply-to:cc:to:from:subject:message-id:date:from:to :cc:subject:date:message-id:reply-to; bh=jgvcg2XF6Fvu3TNNh2uxtYMXEczeLB0KZnACS5IuICs=; b=F/Iba4YSkCzu2t16PK+lP9DizUrvLNAtssXbHEFS+vd8H0N0SnfeowwSTnliAeULIb H+J8lXAMrgJ715B+Y9Iphbn/lxBZiVnHfBs4d9JFU0wjhPm4GjPV8fJjZCMj5d42DgmT e4/ytEyV92CN9GxcHkuNia3EHvFP4NUy1QWiM= X-Google-DKIM-Signature: v=1; a=rsa-sha256; c=relaxed/relaxed; d=1e100.net; s=20230601; t=1759500318; x=1760105118; h=references:in-reply-to:cc:to:from:subject:message-id:date :x-gm-message-state:from:to:cc:subject:date:message-id:reply-to; bh=jgvcg2XF6Fvu3TNNh2uxtYMXEczeLB0KZnACS5IuICs=; b=vUa32nrDJsTwH9D6XaF+PzTCCOh/OTl3wuzKwjvoVUhDtvBEhfCkDVEgf5RuFH7QxW 2jtau5DPgV5IpJNY/jkBCY2U3xtjBefc8wlVKpdpCH4VKec4kiJe8S69W4JAHQqy0/YQ v2ni7HRia9aVKtzyD2aKeGXE1d8jBVB/A2T1jfS/RmN3n/jObJbdIcP1PzWunpettU/H QhHBZhfECaEcG+bTXGX8msw4tHlrEy2/is7WPXtavmYB8Oylux9UZ2i/ZnuhKalIDE3g uDsNEP5PyeMJjE59i6N/D872/eHO4fFMJitGaTl4eETNfCJ88KarqQCJxFUgyhI5JJqg zfDg== X-Gm-Message-State: AOJu0YywSX4xBL3tfThkf99kRxWPRVE0nm/byaHEimGE/qDp1gXU6pE1 ExQQjbDIsXT6hnvDVDN3ludv7Nwi7IxFJxOFddG15VujVyN+gtTaIXfgi2AkkeiFMcwlePt4mXq H5Jg6zXXIX2cwyMOT+HfZ4t4cF6jWLst2Ec3oFoy0OTt6PzTnh0/LmBGQW9UO X-Gm-Gg: ASbGncteR2IZPStcwfZJZg5NEahVfKgphxJ660++2ZeRW4elcvYC3yxTyKOajDAKqOa zPzYo+UOQEDLWTuWGXkcp50u9m99WCLRTPlyPcIV1y5Y+8DtGembMXG1Xxs32oyeN0v0r2tSSL9 QoRBK9isFVqCMz9kaOHS+RFO6Laj5X6e6OvSUUx5lKBMd0NIQsIvRgWTt2yTs9/1hbd1hzDrFCh vfY9Fz6wc/kXMr3zxv2NYoNEXRDXnhMb99ON3d67Pe7tm4m1+ExJcRo7p2ZPCmHFlpDFja8Rys2 +OnCvcLaGlDsXt57MrksVTp4VzLV2Ws8mksSkeUrPNMTniNoIOqnf3M= X-Google-Smtp-Source: AGHT+IFzfuQu60rSnXWA37N86ko5TrxudVgQe1Ew3LDXvfetPOfrkKuGKYoeA11YxUEh5C+NowGKCjJkDD88 X-Received: by 2002:a92:c244:0:b0:427:215a:93fa with SMTP id e9e14a558f8ab-42d8b1a45a9mr78462115ab.2.1759500318173; Fri, 03 Oct 2025 07:05:18 -0700 (PDT) Received: from postal.iol.unh.edu (postal.iol.unh.edu. [2606:4100:3880:1234::84]) by smtp-relay.gmail.com with ESMTPS id e9e14a558f8ab-42d8b1fc07fsm3987475ab.7.2025.10.03.07.05.18 (version=TLS1_2 cipher=ECDHE-ECDSA-AES128-GCM-SHA256 bits=128/128); Fri, 03 Oct 2025 07:05:18 -0700 (PDT) X-Relaying-Domain: iol.unh.edu Date: Fri, 03 Oct 2025 07:05:18 -0700 (PDT) Message-ID: <68dfd81e.050a0220.1ab5c5.8500SMTPIN_ADDED_MISSING@mx.google.com> Received: from [172.21.0.2] (unknown [172.18.0.240]) by postal.iol.unh.edu (Postfix) with ESMTP id B2E0B6051830; Fri, 3 Oct 2025 10:05:17 -0400 (EDT) Subject: |SUCCESS| pw157261-157263 [PATCH] [v5,3/3] net/ice: add PFC statisti From: dpdklab@iol.unh.edu To: Test Report Cc: dpdk-test-reports@iol.unh.edu, Bruce Richardson In-Reply-To: <20251003124037.342760-4-vladimir.medvedkin@intel.com> References: <20251003124037.342760-4-vladimir.medvedkin@intel.com> Content-Type: text/plain X-BeenThere: test-report@dpdk.org X-Mailman-Version: 2.1.29 Precedence: list List-Id: automatic DPDK test reports List-Unsubscribe: , List-Archive: List-Post: List-Help: List-Subscribe: , Errors-To: test-report-bounces@dpdk.org Test-Label: iol-unit-amd64-testing Test-Status: SUCCESS http://dpdk.org/patch/157263 _Testing PASS_ Submitter: Vladimir Medvedkin Date: Friday, October 03 2025 12:40:37 DPDK git baseline: Repo:dpdk-next-net-intel Branch: master CommitID:e7d8cc7ef4df3552575525697079d3c957cfcdaf 157261-157263 --> testing pass Upstream job id: Generic-VM-Unit-Test-DPDK#31573 Test environment and result as below: +-------------------------------+----------------+ | Environment | dpdk_unit_test | +===============================+================+ | CentOS Stream 10 | PASS | +-------------------------------+----------------+ | Debian GNU/Linux 12 | PASS | +-------------------------------+----------------+ | CentOS Stream 9 | PASS | +-------------------------------+----------------+ | Fedora Linux 40 | PASS | +-------------------------------+----------------+ | Fedora Linux 41 | PASS | +-------------------------------+----------------+ | Fedora Linux 42 | PASS | +-------------------------------+----------------+ | Red Hat Enterprise Linux 8.10 | PASS | +-------------------------------+----------------+ | Red Hat Enterprise Linux 9.5 | PASS | +-------------------------------+----------------+ | Ubuntu 22.04 | PASS | +-------------------------------+----------------+ | Ubuntu 20.04 | PASS | +-------------------------------+----------------+ | Ubuntu 24.04 | PASS | +-------------------------------+----------------+ | Windows Server 2022 | PASS | +-------------------------------+----------------+ CentOS Stream 10 Kernel: 5.15 Compiler: gcc gcc (GCC) 14.2.1 20250110 (Red Hat 14.2.1-8) Debian GNU/Linux 12 Kernel: 5.15 Compiler: gcc gcc (Debian 12.2.0-14+deb12u1) 12.2.0 CentOS Stream 9 Kernel: 5.15 Compiler: gcc gcc (GCC) 11.5.0 20240719 (Red Hat 11.5.0-11) Fedora Linux 40 Kernel: 5.15 Compiler: gcc gcc (GCC) 14.2.1 20240912 (Red Hat 14.2.1-3) Fedora Linux 41 Kernel: 5.15 Compiler: clang gcc (GCC) 14.3.1 20250523 (Red Hat 14.3.1-1) Fedora Linux 42 Kernel: 5.15 Compiler: gcc gcc (GCC) 15.2.1 20250808 (Red Hat 15.2.1-1) Red Hat Enterprise Linux 8.10 Kernel: 5.15 Compiler: gcc gcc (GCC) 8.5.0 20210514 (Red Hat 8.5.0-22) Red Hat Enterprise Linux 9.5 Kernel: 5.15 Compiler: gcc gcc (GCC) 11.5.0 20240719 (Red Hat 11.5.0-2) Ubuntu 22.04 Kernel: 5.15 Compiler: gcc gcc (Ubuntu 11.4.0-1ubuntu1~22.04) 11.4.0 Ubuntu 20.04 Kernel: 5.15 Compiler: gcc gcc (Ubuntu 9.4.0-1ubuntu1~20.04.2) 9.4.0 Ubuntu 24.04 Kernel: 5.15 Compiler: gcc gcc (Ubuntu 13.3.0-6ubuntu2~24.04) 13.3.0 Windows Server 2022 Kernel: 10.0.20348.2031 Compiler: clang 15.0.7, gcc 14.1.0 (MinGW), and MSVC VS 19.39.33521 To view detailed results, visit: https://lab.dpdk.org/results/dashboard/patchsets/34210/ UNH-IOL DPDK Community Lab To manage your email subscriptions, visit: https://lab.dpdk.org/results/dashboard/preferences/subscriptions/