From mboxrd@z Thu Jan 1 00:00:00 1970 Return-Path: Received: from mails.dpdk.org (mails.dpdk.org [217.70.189.124]) by inbox.dpdk.org (Postfix) with ESMTP id 2FDC7488A0 for ; Fri, 3 Oct 2025 16:06:07 +0200 (CEST) Received: from mails.dpdk.org (localhost [127.0.0.1]) by mails.dpdk.org (Postfix) with ESMTP id 2C06240277; Fri, 3 Oct 2025 16:06:07 +0200 (CEST) Received: from mail-yw1-f227.google.com (mail-yw1-f227.google.com [209.85.128.227]) by mails.dpdk.org (Postfix) with ESMTP id 5686240277 for ; Fri, 3 Oct 2025 16:06:05 +0200 (CEST) Received: by mail-yw1-f227.google.com with SMTP id 00721157ae682-71d6051aeafso24611247b3.2 for ; Fri, 03 Oct 2025 07:06:05 -0700 (PDT) DKIM-Signature: v=1; a=rsa-sha256; c=relaxed/relaxed; d=iol.unh.edu; s=unh-iol; t=1759500364; x=1760105164; darn=dpdk.org; h=references:in-reply-to:cc:to:from:subject:message-id:date:from:to :cc:subject:date:message-id:reply-to; bh=crUZdThP5aFN7cW+YuF2dydYzozNNzBzZThueHEAigU=; b=R5DNJNBoT8EJn+xIR2JGeKhVjn/57A1Zbo+SkqOrc2NTtd5YoAcRooaYqwbB3nhMqk +R4StKgcwbvoCXCzpHhCOHLil4wXWgVQq0FBkCYJnA9e66B+FNODo0YVJlxmvZEt5o46 u8nEWbDKyx3yYFlq6E3KfTDhpPdzdMtQYaLsE= X-Google-DKIM-Signature: v=1; a=rsa-sha256; c=relaxed/relaxed; d=1e100.net; s=20230601; t=1759500364; x=1760105164; h=references:in-reply-to:cc:to:from:subject:message-id:date :x-gm-message-state:from:to:cc:subject:date:message-id:reply-to; bh=crUZdThP5aFN7cW+YuF2dydYzozNNzBzZThueHEAigU=; b=YvldJ1Z1s8JmjAScCA7gn3leOjf8DpkpZ10tMDYm2COxeOBuyCvo8eVWFc4QNNn2+A WiOZjVEMp1WFnMt/mzJ8ep2vb9Q3KM3RVB5omMO0uWnSoWlcszl0YHE2/0Q8qOCmiuuw 2DE9pO2A9ZGnAps7rZs7zl1hqGjGE0vrjctwLBgi9xwjNxSI/tvGdqThsJBVyjPYeIZL L9zp8A7UwE5Tb6tCKP8H3FMPx561wx5YfMSyZVUr+9fn5LlLvjx7+wkflsxmnZjhQo9S CD7wes0yWnkK8n4CAbeoRzwFZVeqt4wn2coMYEb8YgQ9/yf5kyZ9CqWq/ORE4Kj6DQks dSbg== X-Gm-Message-State: AOJu0YztOEGc8VtFlO3qJCIdcaRDWxiB5zgDhW7vV8PnWVSJD/fEfvwj xZ3Mbhw0U/8D6UHmopMPm+FDVEBuH3xtgbAJBGJW7AvbN8/Rq/Oiz0zgYyyLPbROkFFd9AMXuOx +jdfuoDPT8SPFYJwap6LLOnrWyLl4sQW5H5DjAyNaq/92 X-Gm-Gg: ASbGncuPCWlXVfdZixRckeLIMNMy2/I1+nTPFF08/E1oyKQRN3BToMo3Rm6zJhMYi0f kJpQKHqYIP81YJTvBJmj+PvQstRgLQVswC/UX2AyHou8H14RvR/Cb3I5vSKFqlsxMlZsV4ipzIR 3rvcFrcUdItZqWwJpBg8gntkse9pU1qa+4omCfGC+a6qBDJLFWFE3mDizapcOoTgH7yWUvwGuen YYt8Qp6qFG0NsLtx18viT0b5DhgUQGLd50m2f/mMHaewq0caM67NUPxI6bT9H9XDaDmz/m7Df69 FuILXlIRFogYQbXK9L6svJtxixEJsVyggRDZt1LEbe9bk3xa9OdkEolOSzFoaQLnsz6TFvRwgT7 K0A== X-Google-Smtp-Source: AGHT+IFnRf8JpRfjLLr3UrhFuQB9CW4kQeR7AtvmeNkHn2rsYvcydy2CKU804dKOmrRFlfe/cQ0o7fDZeM3j X-Received: by 2002:a05:690c:6d87:b0:74a:b6a1:5d92 with SMTP id 00721157ae682-77f946a8ac0mr36520767b3.28.1759500364601; Fri, 03 Oct 2025 07:06:04 -0700 (PDT) Received: from postal.iol.unh.edu (postal.iol.unh.edu. [132.177.123.84]) by smtp-relay.gmail.com with ESMTPS id 00721157ae682-77f81c39d9fsm3004157b3.13.2025.10.03.07.06.04 (version=TLS1_2 cipher=ECDHE-ECDSA-AES128-GCM-SHA256 bits=128/128); Fri, 03 Oct 2025 07:06:04 -0700 (PDT) X-Relaying-Domain: iol.unh.edu Date: Fri, 03 Oct 2025 07:06:04 -0700 (PDT) Message-ID: <68dfd84c.050a0220.50e5d.25e7SMTPIN_ADDED_MISSING@mx.google.com> Received: from [172.21.0.2] (unknown [172.18.0.240]) by postal.iol.unh.edu (Postfix) with ESMTP id 46EB66051830; Fri, 3 Oct 2025 10:06:04 -0400 (EDT) Subject: |SUCCESS| pw157253-157257 [PATCH] [v3,7/7] ethdev: deprecate queue s From: dpdklab@iol.unh.edu To: Test Report Cc: dpdk-test-reports@iol.unh.edu In-Reply-To: <20251003110201.1541183-8-bruce.richardson@intel.com> References: <20251003110201.1541183-8-bruce.richardson@intel.com> Content-Type: text/plain X-BeenThere: test-report@dpdk.org X-Mailman-Version: 2.1.29 Precedence: list List-Id: automatic DPDK test reports List-Unsubscribe: , List-Archive: List-Post: List-Help: List-Subscribe: , Errors-To: test-report-bounces@dpdk.org Test-Label: iol-compile-amd64-testing Test-Status: SUCCESS http://dpdk.org/patch/157257 _Testing PASS_ Submitter: Bruce Richardson Date: Friday, October 03 2025 11:02:01 DPDK git baseline: Repo:dpdk Branch: master CommitID:76393b98bf67f94dc6aa23cf5016c32571899261 157253-157257 --> testing pass Upstream job id: Windows-Compile-DPDK-Native#31402 Test environment and result as below: +---------------------+--------------------+-------------------+-------------------------+----------------------+ | Environment | dpdk_meson_compile | dpdk_msvc_compile | dpdk_llvm_clang_compile | dpdk_mingw64_compile | +=====================+====================+===================+=========================+======================+ | Ubuntu 20.04 | PASS | SKIPPED | SKIPPED | SKIPPED | +---------------------+--------------------+-------------------+-------------------------+----------------------+ | FreeBSD 14.2 | PASS | SKIPPED | SKIPPED | SKIPPED | +---------------------+--------------------+-------------------+-------------------------+----------------------+ | Windows Server 2022 | SKIPPED | PASS | PASS | PASS | +---------------------+--------------------+-------------------+-------------------------+----------------------+ Ubuntu 20.04 Kernel: 4.19 Compiler: gcc gcc (Ubuntu 9.4.0-1ubuntu1~20.04.2) 9.4.0 FreeBSD 14.2 Kernel: 14.2-RELEASE Compiler: clang 18.1.6 Windows Server 2022 Kernel: 10.0.20348.2031 Compiler: clang 15.0.7, gcc 14.1.0 (MinGW), and MSVC VS 19.39.33521 To view detailed results, visit: https://lab.dpdk.org/results/dashboard/patchsets/34209/ UNH-IOL DPDK Community Lab To manage your email subscriptions, visit: https://lab.dpdk.org/results/dashboard/preferences/subscriptions/