From mboxrd@z Thu Jan 1 00:00:00 1970 Return-Path: Received: from mails.dpdk.org (mails.dpdk.org [217.70.189.124]) by inbox.dpdk.org (Postfix) with ESMTP id B831C488A0 for ; Fri, 3 Oct 2025 16:11:08 +0200 (CEST) Received: from mails.dpdk.org (localhost [127.0.0.1]) by mails.dpdk.org (Postfix) with ESMTP id ADA4140277; Fri, 3 Oct 2025 16:11:08 +0200 (CEST) Received: from mail-pl1-f228.google.com (mail-pl1-f228.google.com [209.85.214.228]) by mails.dpdk.org (Postfix) with ESMTP id 6AED040277 for ; Fri, 3 Oct 2025 16:11:07 +0200 (CEST) Received: by mail-pl1-f228.google.com with SMTP id d9443c01a7336-27ee41e074dso24291835ad.1 for ; Fri, 03 Oct 2025 07:11:07 -0700 (PDT) DKIM-Signature: v=1; a=rsa-sha256; c=relaxed/relaxed; d=iol.unh.edu; s=unh-iol; t=1759500666; x=1760105466; darn=dpdk.org; h=references:in-reply-to:cc:to:from:subject:message-id:date:from:to :cc:subject:date:message-id:reply-to; bh=6Hp8I22SMhdxYAIBAdvbXO6+JWZkJPbsUeyWX8KZdPA=; b=L0z7vLN1ZjdNw9rFphUwYOb17QZKRZgWVS3inA+fQhZ2u5vb1UX7KnlldOtb7jBcZN IdCD0ZcSwJH/zVDXAZWaK9yRAJ5ayC1bK1OZ8AzDCJijScjBG3ybhuhbh2GwkP/rwJiq UXHKID0NF0GDgDi2bS9XpMXh3EH5AxE0qweSQ= X-Google-DKIM-Signature: v=1; a=rsa-sha256; c=relaxed/relaxed; d=1e100.net; s=20230601; t=1759500666; x=1760105466; h=references:in-reply-to:cc:to:from:subject:message-id:date :x-gm-message-state:from:to:cc:subject:date:message-id:reply-to; bh=6Hp8I22SMhdxYAIBAdvbXO6+JWZkJPbsUeyWX8KZdPA=; b=UFdALn6a2rdS3dGnwGWKfiFctgiHWp7o0aNliJKvz0MzFDMHihHwQMBOfCTpTQ10qf nOP/i14AgBnedU12HONca0J1kOMd0MkdGPNjlugbbzVRSxXqSg/hcEa1CDjLJtYZ5jBv 1w0/F8+G6vCW6egVclZhHMV4tvVrdGmzdjowh0RF8cMfxjLpdHSvOf/5wnEMYlcdp+Yx FRzu/LsMJpZ78KT7Qw6V9d6eLBthlDik5yGr01iht07YV9p8VqAdo40st2X2QR5PAo39 yyuaX/rm4AazQaf/U6QefQ/UaXF2z3K3XAhgPFgvXNDh14ifBcJV6V1Ff1F8CxroX8/m tRgQ== X-Gm-Message-State: AOJu0YzN783fVaezGWHJF8PmAM+Ze70EeCTqzZWW05nmAMamOVCqHqJm EXWSDyUb4FindDIHxB/DRFBF4licAwAMJcMH8QnA/eWXY2kX++pOPXmFxHH76813hy7fCV7sv0e EA4YFq6slZvtTzZ1XMbWX+XLzob4GH55C5cAYySEN2p9Bg3yXkniWBxMk0VLa X-Gm-Gg: ASbGncsn67fAIL6gDRJDXaRqZ/5G8xY2KTE0p7i4n0hjAu80Soow9e0jvwJkSKrVJTq mF4ExrNo+9vYuTbQ0608zZrjaTDvP+Qp/gc0D7AXA5QdDQ/cGn5Xk0P/b1ZJHzb1RfZJY0UI52U qUu2eUVxkyXVJtnMf/fuWQQFtyE8apv3SBLF3MelTPi1F2kYryNF6XT4qDw88hHj6V+i4stXnR7 hw5aCWIiNA2Wh6mJzshUwy/uWxhuTmAXQxsQGLNXDhkhFqheWV+wGd2oK6e1Kb2oSvWbA4XZCS+ 52Hp3FfOSw3LT8DdMGzVbsaXq+QgdL0YW1sVZp+MOdQ65hm/vzOEH6c= X-Google-Smtp-Source: AGHT+IEQsF7Mzo6myMFu/VoQGfboDPU3F1bLMI7xySHrg8gPBmguBkF+PnhW/kbvD1FaSPnPTBEXkQxyNq9M X-Received: by 2002:a17:903:1b43:b0:267:a8d0:7ab3 with SMTP id d9443c01a7336-28e9a693f40mr37479765ad.61.1759500666526; Fri, 03 Oct 2025 07:11:06 -0700 (PDT) Received: from postal.iol.unh.edu (postal.iol.unh.edu. [2606:4100:3880:1234::84]) by smtp-relay.gmail.com with ESMTPS id d9443c01a7336-28e8d1b2f1fsm3711125ad.74.2025.10.03.07.11.06 (version=TLS1_2 cipher=ECDHE-ECDSA-AES128-GCM-SHA256 bits=128/128); Fri, 03 Oct 2025 07:11:06 -0700 (PDT) X-Relaying-Domain: iol.unh.edu Date: Fri, 03 Oct 2025 07:11:06 -0700 (PDT) Message-ID: <68dfd97a.170a0220.11591f.7735SMTPIN_ADDED_MISSING@mx.google.com> Received: from [172.21.0.2] (unknown [172.18.0.240]) by postal.iol.unh.edu (Postfix) with ESMTP id 0955A6051830; Fri, 3 Oct 2025 10:11:06 -0400 (EDT) Subject: |SUCCESS| pw157261-157263 [PATCH] [v5,3/3] net/ice: add PFC statisti From: dpdklab@iol.unh.edu To: Test Report Cc: dpdk-test-reports@iol.unh.edu, Bruce Richardson In-Reply-To: <20251003124037.342760-4-vladimir.medvedkin@intel.com> References: <20251003124037.342760-4-vladimir.medvedkin@intel.com> Content-Type: text/plain X-BeenThere: test-report@dpdk.org X-Mailman-Version: 2.1.29 Precedence: list List-Id: automatic DPDK test reports List-Unsubscribe: , List-Archive: List-Post: List-Help: List-Subscribe: , Errors-To: test-report-bounces@dpdk.org Test-Label: iol-compile-amd64-testing Test-Status: SUCCESS http://dpdk.org/patch/157263 _Testing PASS_ Submitter: Vladimir Medvedkin Date: Friday, October 03 2025 12:40:37 DPDK git baseline: Repo:dpdk-next-net-intel Branch: master CommitID:e7d8cc7ef4df3552575525697079d3c957cfcdaf 157261-157263 --> testing pass Upstream job id: Windows-Compile-DPDK-Native#31404 Test environment and result as below: +---------------------+-------------------+--------------------+-------------------------+----------------------+ | Environment | dpdk_msvc_compile | dpdk_meson_compile | dpdk_llvm_clang_compile | dpdk_mingw64_compile | +=====================+===================+====================+=========================+======================+ | Windows Server 2022 | PASS | SKIPPED | PASS | PASS | +---------------------+-------------------+--------------------+-------------------------+----------------------+ | FreeBSD 14.2 | SKIPPED | PASS | SKIPPED | SKIPPED | +---------------------+-------------------+--------------------+-------------------------+----------------------+ | Ubuntu 20.04 | SKIPPED | PASS | SKIPPED | SKIPPED | +---------------------+-------------------+--------------------+-------------------------+----------------------+ Windows Server 2022 Kernel: 10.0.20348.2031 Compiler: clang 15.0.7, gcc 14.1.0 (MinGW), and MSVC VS 19.39.33521 FreeBSD 14.2 Kernel: 14.2-RELEASE Compiler: clang 18.1.6 Ubuntu 20.04 Kernel: 4.19 Compiler: gcc gcc (Ubuntu 9.4.0-1ubuntu1~20.04.2) 9.4.0 To view detailed results, visit: https://lab.dpdk.org/results/dashboard/patchsets/34210/ UNH-IOL DPDK Community Lab To manage your email subscriptions, visit: https://lab.dpdk.org/results/dashboard/preferences/subscriptions/