From mboxrd@z Thu Jan 1 00:00:00 1970 Return-Path: Received: from mails.dpdk.org (mails.dpdk.org [217.70.189.124]) by inbox.dpdk.org (Postfix) with ESMTP id C92E2488A1 for ; Fri, 3 Oct 2025 19:56:29 +0200 (CEST) Received: from mails.dpdk.org (localhost [127.0.0.1]) by mails.dpdk.org (Postfix) with ESMTP id C3362402B5; Fri, 3 Oct 2025 19:56:29 +0200 (CEST) Received: from mail-io1-f98.google.com (mail-io1-f98.google.com [209.85.166.98]) by mails.dpdk.org (Postfix) with ESMTP id 1B597402B5 for ; Fri, 3 Oct 2025 19:56:29 +0200 (CEST) Received: by mail-io1-f98.google.com with SMTP id ca18e2360f4ac-8ca2e53c37bso227929239f.3 for ; Fri, 03 Oct 2025 10:56:29 -0700 (PDT) DKIM-Signature: v=1; a=rsa-sha256; c=relaxed/relaxed; d=iol.unh.edu; s=unh-iol; t=1759514188; x=1760118988; darn=dpdk.org; h=references:in-reply-to:cc:to:from:subject:message-id:date:from:to :cc:subject:date:message-id:reply-to; bh=R9KadPl76C4pPHqEFDfkByDC7zT+FNNkvB3eS4yJmbQ=; b=I8S9WHrRIWyUs5Pgj8YJPfrYT3UmsZCHOvqNDUvVNHYwz4ygtjJM//NWKZu0ntcIhO jYALiPlbewd/1aPvSoLjXPRraGuKTocClbDzpn/lbB+u1ZUdz5BiKBMWWe5CB2ZEiMwE 8UY4HTaCSo1n7tKuKFbdWG7sTXvOmnwIiiA4s= X-Google-DKIM-Signature: v=1; a=rsa-sha256; c=relaxed/relaxed; d=1e100.net; s=20230601; t=1759514188; x=1760118988; h=references:in-reply-to:cc:to:from:subject:message-id:date :x-gm-message-state:from:to:cc:subject:date:message-id:reply-to; bh=R9KadPl76C4pPHqEFDfkByDC7zT+FNNkvB3eS4yJmbQ=; b=AWHtAjXi/q5h3tEfdX2yKXkl3h41Iegu9KOTVcWNJEyFU32L0VntQvl6IcR0983u5j xV8rqs3J1w8AVCHUVwnGGKWfTv0OnZjQIl3k9LXHLNOlfRmeYUmBArmCNB1j7pQFQ6Iv evJfUxLdsqhJr0NM7q2P1+wC2W1bUQ/HtJ/k0pmqnTFIG6BrGtCAXdZNAgIU+Z6x4Ra9 5swL6kiEz7JXNk8eZMZTOH98UtD37QVOQNN6ukKQ6OfL0xQ5OUcTfRuWNRYW+7nvISel O2x1pwYWW9q75w8CeD8GEVP60qB/LmBRgebMDjb38b7SOhQwJJtXRiKXx977mD4fa9fw Abuw== X-Gm-Message-State: AOJu0YzO4LjDFDENyDeQ8N4FXb5upMtxOaTA5OSlIvKChw/57vF5tjF6 xtMY4xWVre48nbJzPRurgqZuVRrN87+n1JmEk4gF6fLEEb7UNJ87NuRl0S99lZ4OwvGSZKmc1QV K/W0uiKCYHIYwFHdrh0GJyXBegSKDEslG5oKBrf9hTr4a X-Gm-Gg: ASbGncsKAHakHfmTX7U0FEGZ4qvb9/ML1VB0iZOrjwXw4yslnbuZIza+qECkaoGne7F 4UF7KcD1KqxCCuWAb02YKzsYGusjm9YlP+CxY0tKzDEs/U2yCsNSOE5H/rx1bbSifSdZOxGxxd3 DwDLETCS0m0R4L6wveZA85GOBmBXF5zG04a1+HxVrKMwGV0pkZgB1dXGEhX6ggBFwn+YVQ9LWxY s8yoyvPcXZU5rINI8NDi05EH0/zYrVi/JGbB4EYDvLKE5dIkTzim1ZUPL1TygcNALikvgTtS3dE JyNkEHJKw2CtsAn27wv/WRBSHAjPZy9dV7AHqk6Kfdk/MAoZ3bMDblzcuaAW4AN2/UqxzIW8Kp+ tAA== X-Google-Smtp-Source: AGHT+IFf6nEYLIaZAkdysgcLKXQZZMyX6PyC6MmKFPE8OUXyos9IBRj2SxnUzXaJk3j+UwPMwEOOFGig+KxP X-Received: by 2002:a05:6602:6215:b0:887:26b5:a581 with SMTP id ca18e2360f4ac-93b96a5d491mr466173239f.12.1759514188344; Fri, 03 Oct 2025 10:56:28 -0700 (PDT) Received: from postal.iol.unh.edu (postal.iol.unh.edu. [132.177.123.84]) by smtp-relay.gmail.com with ESMTPS id ca18e2360f4ac-93a7e3a6d7fsm26155539f.8.2025.10.03.10.56.28 (version=TLS1_2 cipher=ECDHE-ECDSA-AES128-GCM-SHA256 bits=128/128); Fri, 03 Oct 2025 10:56:28 -0700 (PDT) X-Relaying-Domain: iol.unh.edu Date: Fri, 03 Oct 2025 10:56:28 -0700 (PDT) Message-ID: <68e00e4c.6b0a0220.17122a.0907SMTPIN_ADDED_MISSING@mx.google.com> Received: from [172.21.0.2] (unknown [172.18.0.240]) by postal.iol.unh.edu (Postfix) with ESMTP id A78AD6050A61; Fri, 3 Oct 2025 13:56:27 -0400 (EDT) Subject: |SUCCESS| pw157266-157267 [PATCH] [v2,3/3] app/compress-perf: suppor From: dpdklab@iol.unh.edu To: Test Report Cc: dpdk-test-reports@iol.unh.edu, Akhil Goyal In-Reply-To: <20251003165132.3201643-3-svaze@qti.qualcomm.com> References: <20251003165132.3201643-3-svaze@qti.qualcomm.com> Content-Type: text/plain X-BeenThere: test-report@dpdk.org X-Mailman-Version: 2.1.29 Precedence: list List-Id: automatic DPDK test reports List-Unsubscribe: , List-Archive: List-Post: List-Help: List-Subscribe: , Errors-To: test-report-bounces@dpdk.org Test-Label: iol-unit-amd64-testing Test-Status: SUCCESS http://dpdk.org/patch/157267 _Testing PASS_ Submitter: Sameer Vaze Date: Friday, October 03 2025 16:51:32 DPDK git baseline: Repo:dpdk-next-crypto Branch: master CommitID:caa17cb4b057a31ee04067459fe543f7d7ae1079 157266-157267 --> testing pass Upstream job id: Generic-VM-Unit-Test-DPDK#31574 Test environment and result as below: +-------------------------------+----------------+ | Environment | dpdk_unit_test | +===============================+================+ | CentOS Stream 9 | PASS | +-------------------------------+----------------+ | CentOS Stream 10 | PASS | +-------------------------------+----------------+ | Fedora Linux 40 | PASS | +-------------------------------+----------------+ | Debian GNU/Linux 12 | PASS | +-------------------------------+----------------+ | Fedora Linux 41 | PASS | +-------------------------------+----------------+ | Windows Server 2022 | PASS | +-------------------------------+----------------+ | Fedora Linux 42 | PASS | +-------------------------------+----------------+ | Red Hat Enterprise Linux 8.10 | PASS | +-------------------------------+----------------+ | Ubuntu 22.04 | PASS | +-------------------------------+----------------+ | Ubuntu 20.04 | PASS | +-------------------------------+----------------+ | Red Hat Enterprise Linux 9.5 | PASS | +-------------------------------+----------------+ | Ubuntu 24.04 | PASS | +-------------------------------+----------------+ CentOS Stream 9 Kernel: 5.15 Compiler: gcc gcc (GCC) 11.5.0 20240719 (Red Hat 11.5.0-11) CentOS Stream 10 Kernel: 5.15 Compiler: gcc gcc (GCC) 14.2.1 20250110 (Red Hat 14.2.1-8) Fedora Linux 40 Kernel: 5.15 Compiler: gcc gcc (GCC) 14.2.1 20240912 (Red Hat 14.2.1-3) Debian GNU/Linux 12 Kernel: 5.15 Compiler: gcc gcc (Debian 12.2.0-14+deb12u1) 12.2.0 Fedora Linux 41 Kernel: 5.15 Compiler: clang gcc (GCC) 14.3.1 20250523 (Red Hat 14.3.1-1) Windows Server 2022 Kernel: 10.0.20348.2031 Compiler: clang 15.0.7, gcc 14.1.0 (MinGW), and MSVC VS 19.39.33521 Fedora Linux 42 Kernel: 5.15 Compiler: gcc gcc (GCC) 15.2.1 20250808 (Red Hat 15.2.1-1) Red Hat Enterprise Linux 8.10 Kernel: 5.15 Compiler: gcc gcc (GCC) 8.5.0 20210514 (Red Hat 8.5.0-22) Ubuntu 22.04 Kernel: 5.15 Compiler: gcc gcc (Ubuntu 11.4.0-1ubuntu1~22.04) 11.4.0 Ubuntu 20.04 Kernel: 5.15 Compiler: gcc gcc (Ubuntu 9.4.0-1ubuntu1~20.04.2) 9.4.0 Red Hat Enterprise Linux 9.5 Kernel: 5.15 Compiler: gcc gcc (GCC) 11.5.0 20240719 (Red Hat 11.5.0-2) Ubuntu 24.04 Kernel: 5.15 Compiler: gcc gcc (Ubuntu 13.3.0-6ubuntu2~24.04) 13.3.0 To view detailed results, visit: https://lab.dpdk.org/results/dashboard/patchsets/34212/ UNH-IOL DPDK Community Lab To manage your email subscriptions, visit: https://lab.dpdk.org/results/dashboard/preferences/subscriptions/