From mboxrd@z Thu Jan 1 00:00:00 1970 Return-Path: Received: from mails.dpdk.org (mails.dpdk.org [217.70.189.124]) by inbox.dpdk.org (Postfix) with ESMTP id EDA2A488A1 for ; Fri, 3 Oct 2025 19:57:23 +0200 (CEST) Received: from mails.dpdk.org (localhost [127.0.0.1]) by mails.dpdk.org (Postfix) with ESMTP id E7E3F402B5; Fri, 3 Oct 2025 19:57:23 +0200 (CEST) Received: from mail-pl1-f226.google.com (mail-pl1-f226.google.com [209.85.214.226]) by mails.dpdk.org (Postfix) with ESMTP id 52D4F402B5 for ; Fri, 3 Oct 2025 19:57:22 +0200 (CEST) Received: by mail-pl1-f226.google.com with SMTP id d9443c01a7336-27ee41e074dso26911675ad.1 for ; Fri, 03 Oct 2025 10:57:22 -0700 (PDT) DKIM-Signature: v=1; a=rsa-sha256; c=relaxed/relaxed; d=iol.unh.edu; s=unh-iol; t=1759514241; x=1760119041; darn=dpdk.org; h=references:in-reply-to:cc:to:from:subject:message-id:date:from:to :cc:subject:date:message-id:reply-to; bh=ccLzyhilX2aQKGRkxSRWhExLovWemLofKXoWSO6N52I=; b=NepBTNmDCEgwyRUiOlRX7B/IU/G83GjROo8FS4XXDWmLt45D7LnqeSY0eTM+1FHFc7 RinnUcDAKcDBeNg8d8ca9muCOe3wi95T+mYmgDBaPrBts1FtkxpfZU1CtZQsFYsd6BI3 OffOssE1xiyRWOO0Cew5yHBcU+fiXXyn7e4q8= X-Google-DKIM-Signature: v=1; a=rsa-sha256; c=relaxed/relaxed; d=1e100.net; s=20230601; t=1759514241; x=1760119041; h=references:in-reply-to:cc:to:from:subject:message-id:date :x-gm-message-state:from:to:cc:subject:date:message-id:reply-to; bh=ccLzyhilX2aQKGRkxSRWhExLovWemLofKXoWSO6N52I=; b=UNdnwx1qeTg7H6lRQyV7XhaszxR/jk7wNrEwVdhlK2cu6Ol2Lk6aI4AvKA58hOTxKL /pCp8xCjK33firxeoYO/gxc7oTMLaDRnkJiZG/gGY/GlcYKnp3VvVVHNu5UOxwwIAnv2 XvQ9ebwDcgZTaXkc7nIPKT/L75tvgXNH7bXJDpyo6eDvojisQWQ0u4dohh+WJgymXReG djNtR5vKQNkNF0Ne8xvjgKMAdrnoc31v3m5tDyn6jQ3QukICAouOomULR3JFLmcCrNsA AGZkoEm3BVC9mewY4bH7XbAZRlbHITmMjPW/FQZQfD+343od9+TnxICJXtnzIrjLnxSS BhOQ== X-Gm-Message-State: AOJu0YytPoiKUycOxT+/OtuFwSK6HhZXh8kSjnTy9EOK0nFw6F40aU0N uXtIRul3T11lAE6yh+VRIMqqb7hsqXMWfWc8l4rzMAmShJ/uzx6HfvRG/tRlZLv/hJHuWlHo+64 orR8PSnChILplCKirkwetkFNBi17fnZGFO9G8uidBzY1Ny7xhcqNJEE/LYBjq X-Gm-Gg: ASbGncsHsOB2mgaINc9+9ShBFRGkL1gMQ+Ry/bCOSFzW8TkT9Cc8apWLHvl3YDAee7x XM2aV/BppGywDHSZdSgasJk6czDM34NhO+6PkLhcUEakd225g4yCPcn2WIKPBb9CZEawEAvnXCL jvB8ae0u1uiyuqVQA/B5pmaAK6ijNkKT+yST3xwpqpjkR/v7MtsSiUNDfh4ewID/ufUvH/G41dl jPKq7ejGajQYEixozCQ4MQMuyWSgM7ADZm/3PfbXZS71msx2jLaTfkURgy5TFyOUljRPTxZ38pT 6YbxXu/v4axlfMAmntwIn3oQCpmROjGXwwHt3g1R4KJb2BA2tps9W4I= X-Google-Smtp-Source: AGHT+IEWYY9IHa6j6sOtDhTGkIHcoJExnFn4Jr5j1LwnWCgWH8CfEpyTvgRL6rJ4Ukoh/q2QS1/n5DbWd27g X-Received: by 2002:a17:903:1b4f:b0:24c:cca1:7cfc with SMTP id d9443c01a7336-28e9a66b235mr42377655ad.59.1759514241467; Fri, 03 Oct 2025 10:57:21 -0700 (PDT) Received: from postal.iol.unh.edu (postal.iol.unh.edu. [2606:4100:3880:1234::84]) by smtp-relay.gmail.com with ESMTPS id 98e67ed59e1d1-339b4f3385dsm519941a91.7.2025.10.03.10.57.21 (version=TLS1_2 cipher=ECDHE-ECDSA-AES128-GCM-SHA256 bits=128/128); Fri, 03 Oct 2025 10:57:21 -0700 (PDT) X-Relaying-Domain: iol.unh.edu Date: Fri, 03 Oct 2025 10:57:21 -0700 (PDT) Message-ID: <68e00e81.170a0220.6b106.f8ddSMTPIN_ADDED_MISSING@mx.google.com> Received: from [172.21.0.2] (unknown [172.18.0.240]) by postal.iol.unh.edu (Postfix) with ESMTP id BD9BA6050A61; Fri, 3 Oct 2025 13:57:20 -0400 (EDT) Subject: |SUCCESS| pw157266-157267 [PATCH] [v2,3/3] app/compress-perf: suppor From: dpdklab@iol.unh.edu To: Test Report Cc: dpdk-test-reports@iol.unh.edu, Akhil Goyal In-Reply-To: <20251003165132.3201643-3-svaze@qti.qualcomm.com> References: <20251003165132.3201643-3-svaze@qti.qualcomm.com> Content-Type: text/plain X-BeenThere: test-report@dpdk.org X-Mailman-Version: 2.1.29 Precedence: list List-Id: automatic DPDK test reports List-Unsubscribe: , List-Archive: List-Post: List-Help: List-Subscribe: , Errors-To: test-report-bounces@dpdk.org Test-Label: iol-compile-amd64-testing Test-Status: SUCCESS http://dpdk.org/patch/157267 _Testing PASS_ Submitter: Sameer Vaze Date: Friday, October 03 2025 16:51:32 DPDK git baseline: Repo:dpdk-next-crypto Branch: master CommitID:caa17cb4b057a31ee04067459fe543f7d7ae1079 157266-157267 --> testing pass Upstream job id: Windows-Compile-DPDK-Native#31406 Test environment and result as below: +---------------------+--------------------+-------------------------+-------------------+----------------------+ | Environment | dpdk_meson_compile | dpdk_llvm_clang_compile | dpdk_msvc_compile | dpdk_mingw64_compile | +=====================+====================+=========================+===================+======================+ | Ubuntu 20.04 | PASS | SKIPPED | SKIPPED | SKIPPED | +---------------------+--------------------+-------------------------+-------------------+----------------------+ | FreeBSD 14.2 | PASS | SKIPPED | SKIPPED | SKIPPED | +---------------------+--------------------+-------------------------+-------------------+----------------------+ | Windows Server 2022 | SKIPPED | PASS | PASS | PASS | +---------------------+--------------------+-------------------------+-------------------+----------------------+ Ubuntu 20.04 Kernel: 4.19 Compiler: gcc gcc (Ubuntu 9.4.0-1ubuntu1~20.04.2) 9.4.0 FreeBSD 14.2 Kernel: 14.2-RELEASE Compiler: clang 18.1.6 Windows Server 2022 Kernel: 10.0.20348.2031 Compiler: clang 15.0.7, gcc 14.1.0 (MinGW), and MSVC VS 19.39.33521 To view detailed results, visit: https://lab.dpdk.org/results/dashboard/patchsets/34212/ UNH-IOL DPDK Community Lab To manage your email subscriptions, visit: https://lab.dpdk.org/results/dashboard/preferences/subscriptions/