From mboxrd@z Thu Jan 1 00:00:00 1970 Return-Path: Received: from mails.dpdk.org (mails.dpdk.org [217.70.189.124]) by inbox.dpdk.org (Postfix) with ESMTP id 8CA22488A2 for ; Fri, 3 Oct 2025 20:03:23 +0200 (CEST) Received: from mails.dpdk.org (localhost [127.0.0.1]) by mails.dpdk.org (Postfix) with ESMTP id 845B9402B5; Fri, 3 Oct 2025 20:03:23 +0200 (CEST) Received: from mail-vs1-f99.google.com (mail-vs1-f99.google.com [209.85.217.99]) by mails.dpdk.org (Postfix) with ESMTP id AA521402B5 for ; Fri, 3 Oct 2025 20:03:22 +0200 (CEST) Received: by mail-vs1-f99.google.com with SMTP id ada2fe7eead31-5a7b2a6b13bso2180210137.3 for ; Fri, 03 Oct 2025 11:03:22 -0700 (PDT) DKIM-Signature: v=1; a=rsa-sha256; c=relaxed/relaxed; d=iol.unh.edu; s=unh-iol; t=1759514602; x=1760119402; darn=dpdk.org; h=references:in-reply-to:cc:to:from:subject:message-id:date:from:to :cc:subject:date:message-id:reply-to; bh=Txs01GijODk2tDMi4zV6e52q3orauMi3k9zurLnxsWA=; b=VanVnc8WC9CoT5u8576CxN0SJEyTh2DFqwNE3Nneh5OBGASescRn/7/rUgqcO0Dvjf sZmiO6RHvOMsmti86Bfcs1s8t6lZ4SIyHYtsBvBBN73aitXEBz/axXSvrSGHCIEF9wpb ABMopv9lcRPiPSz8uMPuZAgNcLP1a7HyjncuE= X-Google-DKIM-Signature: v=1; a=rsa-sha256; c=relaxed/relaxed; d=1e100.net; s=20230601; t=1759514602; x=1760119402; h=references:in-reply-to:cc:to:from:subject:message-id:date :x-gm-message-state:from:to:cc:subject:date:message-id:reply-to; bh=Txs01GijODk2tDMi4zV6e52q3orauMi3k9zurLnxsWA=; b=lK0gzPgIEApS+C8hHWpeCCqPxO/codHw6CWP26qXaWQBdBm2XW2lmVRfz1QUm9TA+n bg4/BnCbh3kSryBqTfVu9qXNYWCOnM1Gh6OJ0CjpsSPYXgBGo1Vs3lP0LG96QtU9ppt5 pgq+34v+4mcjun1nDYSMVWKFrSRkSOT5orn6v3Qx9r051434q2VKgDU/mjFvoC/wBGgK J3fIgLOiF4CkWMAyY/bivIYEkVZuR99LpqoJV7epa0g2uSAmZsyJMOR2Y+OinmxXAO0Z 3VPH5jtSTsfOcvDq68fTnsrHrqzPbAWZQe/2yoNkiBNT7XpSS1IiYHpxvx4XPbU0ore5 YABQ== X-Gm-Message-State: AOJu0YwQ8EikQ5LVWGdd9168IlbltadFoYOgLdv9JPDNo9y1dJTodnTe E8tzjDGrTh0L9X3OEL4qnQObCSh+k/mPYNye45qn50S2aJBG2I7zFSUJZ4KIilcT8NAS2I71W1G qD73lw/EQcoZn9q7iqqEXuDs7r96aPE/BNGd7BpuHdzcj+jFrWWiykYuy60BF X-Gm-Gg: ASbGncugJJGXAcHW8mwVayYflqH14/L3wzwujOYStZTgxxQW/JWCqc8qACzyhIe8cn5 310ICFW7fmoN5NQIod7GRk17/KJFrKD5IHtS1lkhrqXXNxF8s8Sq59VODRALh/Qr82FS9huBQmD Lr5wrJSMGvT1T9XQXOkqG9WpUgZzUz+GLwTZPqewRezkHWT4LiEete10TrPNVZRaExcVR0QbA6v YAxvZUhZLC4L7eQwz/P9cbEMGNiOINBqlBwg6twqOEv3o+Y5CmJoEekVqsboIVKs4qt/+ZYzQQP RdQhjzl16RmIBpwiOZemoJOQPGPmPvpF07UHZfi+BP7DEJaMtklftz8= X-Google-Smtp-Source: AGHT+IGZLh8mRIRtwSHetrtUe5sY55hwcWXQNGcNvGCfKBI2UZbO4fYFjyEzOcU1FNrqoAU2R2sPJcr3pRhj X-Received: by 2002:a05:6122:2a4c:b0:54c:da0:f70c with SMTP id 71dfb90a1353d-5524e8f7b23mr1491821e0c.8.1759514602008; Fri, 03 Oct 2025 11:03:22 -0700 (PDT) Received: from postal.iol.unh.edu (postal.iol.unh.edu. [2606:4100:3880:1234::84]) by smtp-relay.gmail.com with ESMTPS id 71dfb90a1353d-5523cffea47sm461580e0c.4.2025.10.03.11.03.21 (version=TLS1_2 cipher=ECDHE-ECDSA-AES128-GCM-SHA256 bits=128/128); Fri, 03 Oct 2025 11:03:22 -0700 (PDT) X-Relaying-Domain: iol.unh.edu Date: Fri, 03 Oct 2025 11:03:22 -0700 (PDT) Message-ID: <68e00fea.050a0220.2ac891.c450SMTPIN_ADDED_MISSING@mx.google.com> Received: from [172.21.0.2] (unknown [172.18.0.240]) by postal.iol.unh.edu (Postfix) with ESMTP id 7F0E8604D420; Fri, 3 Oct 2025 14:03:21 -0400 (EDT) Subject: |SUCCESS| pw157266-157267 [PATCH] [v2,3/3] app/compress-perf: suppor From: dpdklab@iol.unh.edu To: Test Report Cc: dpdk-test-reports@iol.unh.edu, Akhil Goyal In-Reply-To: <20251003165132.3201643-3-svaze@qti.qualcomm.com> References: <20251003165132.3201643-3-svaze@qti.qualcomm.com> Content-Type: text/plain X-BeenThere: test-report@dpdk.org X-Mailman-Version: 2.1.29 Precedence: list List-Id: automatic DPDK test reports List-Unsubscribe: , List-Archive: List-Post: List-Help: List-Subscribe: , Errors-To: test-report-bounces@dpdk.org Test-Label: iol-unit-amd64-testing Test-Status: SUCCESS http://dpdk.org/patch/157267 _Testing PASS_ Submitter: Sameer Vaze Date: Friday, October 03 2025 16:51:32 DPDK git baseline: Repo:dpdk-next-crypto Branch: master CommitID:caa17cb4b057a31ee04067459fe543f7d7ae1079 157266-157267 --> testing pass Upstream job id: Generic-VM-Unit-Test-DPDK#31575 Test environment and result as below: +-------------------------------+----------------+ | Environment | dpdk_unit_test | +===============================+================+ | CentOS Stream 9 | PASS | +-------------------------------+----------------+ | CentOS Stream 10 | PASS | +-------------------------------+----------------+ | Fedora Linux 40 | PASS | +-------------------------------+----------------+ | Debian GNU/Linux 12 | PASS | +-------------------------------+----------------+ | Fedora Linux 41 | PASS | +-------------------------------+----------------+ | Windows Server 2022 | PASS | +-------------------------------+----------------+ | Fedora Linux 42 | PASS | +-------------------------------+----------------+ | Red Hat Enterprise Linux 8.10 | PASS | +-------------------------------+----------------+ | Ubuntu 22.04 | PASS | +-------------------------------+----------------+ | Ubuntu 20.04 | PASS | +-------------------------------+----------------+ | Red Hat Enterprise Linux 9.5 | PASS | +-------------------------------+----------------+ | Ubuntu 24.04 | PASS | +-------------------------------+----------------+ CentOS Stream 9 Kernel: 5.15 Compiler: gcc gcc (GCC) 11.5.0 20240719 (Red Hat 11.5.0-11) CentOS Stream 10 Kernel: 5.15 Compiler: gcc gcc (GCC) 14.2.1 20250110 (Red Hat 14.2.1-8) Fedora Linux 40 Kernel: 5.15 Compiler: gcc gcc (GCC) 14.2.1 20240912 (Red Hat 14.2.1-3) Debian GNU/Linux 12 Kernel: 5.15 Compiler: gcc gcc (Debian 12.2.0-14+deb12u1) 12.2.0 Fedora Linux 41 Kernel: 5.15 Compiler: clang gcc (GCC) 14.3.1 20250523 (Red Hat 14.3.1-1) Windows Server 2022 Kernel: 10.0.20348.2031 Compiler: clang 15.0.7, gcc 14.1.0 (MinGW), and MSVC VS 19.39.33521 Fedora Linux 42 Kernel: 5.15 Compiler: gcc gcc (GCC) 15.2.1 20250808 (Red Hat 15.2.1-1) Red Hat Enterprise Linux 8.10 Kernel: 5.15 Compiler: gcc gcc (GCC) 8.5.0 20210514 (Red Hat 8.5.0-22) Ubuntu 22.04 Kernel: 5.15 Compiler: gcc gcc (Ubuntu 11.4.0-1ubuntu1~22.04) 11.4.0 Ubuntu 20.04 Kernel: 5.15 Compiler: gcc gcc (Ubuntu 9.4.0-1ubuntu1~20.04.2) 9.4.0 Red Hat Enterprise Linux 9.5 Kernel: 5.15 Compiler: gcc gcc (GCC) 11.5.0 20240719 (Red Hat 11.5.0-2) Ubuntu 24.04 Kernel: 5.15 Compiler: gcc gcc (Ubuntu 13.3.0-6ubuntu2~24.04) 13.3.0 To view detailed results, visit: https://lab.dpdk.org/results/dashboard/patchsets/34212/ UNH-IOL DPDK Community Lab To manage your email subscriptions, visit: https://lab.dpdk.org/results/dashboard/preferences/subscriptions/