From mboxrd@z Thu Jan 1 00:00:00 1970 Return-Path: Received: from mails.dpdk.org (mails.dpdk.org [217.70.189.124]) by inbox.dpdk.org (Postfix) with ESMTP id BE8DA488A2 for ; Fri, 3 Oct 2025 21:23:00 +0200 (CEST) Received: from mails.dpdk.org (localhost [127.0.0.1]) by mails.dpdk.org (Postfix) with ESMTP id 9780C402B5; Fri, 3 Oct 2025 21:23:00 +0200 (CEST) Received: from mail-il1-f228.google.com (mail-il1-f228.google.com [209.85.166.228]) by mails.dpdk.org (Postfix) with ESMTP id 8006E402B5 for ; Fri, 3 Oct 2025 21:22:58 +0200 (CEST) Received: by mail-il1-f228.google.com with SMTP id e9e14a558f8ab-42f05cbc3d1so4483785ab.0 for ; Fri, 03 Oct 2025 12:22:58 -0700 (PDT) DKIM-Signature: v=1; a=rsa-sha256; c=relaxed/relaxed; d=iol.unh.edu; s=unh-iol; t=1759519378; x=1760124178; darn=dpdk.org; h=cc:to:from:subject:message-id:date:from:to:cc:subject:date :message-id:reply-to; bh=hMDeQo3FgO4yW9TqniKljtnhw6CQrxO8KhGfsJH815E=; b=OhGSvFonJ64q7Rd538anKjaqhj8mIJzfVDxhgoAwLD7xg1MPvSqWspF1ebs2dm+BYB O6FFOT3sP5mB1oqWkJjfxnVyknNKtZoKN681VPVIJgxQIln666d+zAMDSd827RqOz4qr vxmgFhk/xEKhGlXwbwX6s7DTNXb99urBDqwWY= X-Google-DKIM-Signature: v=1; a=rsa-sha256; c=relaxed/relaxed; d=1e100.net; s=20230601; t=1759519378; x=1760124178; h=cc:to:from:subject:message-id:date:x-gm-message-state:from:to:cc :subject:date:message-id:reply-to; bh=hMDeQo3FgO4yW9TqniKljtnhw6CQrxO8KhGfsJH815E=; b=RDJ7D6L96A7TL59TIlgxHvtvoEd5l+3FLOVc1mVyOxVGKNmmT0kMN6acgOUjvmO7ga uJq3g7IyR5JDPU23R0FLwv9nL1yoCtzC71Il5R19yCQaCVA3TU7VAAurjf4rL7Rx4eQh SzfkHDBXqHy1dTPwPmkO0BhMCn5DzhCtN2ilDsNuHn1D2WMJca773M/R55nKH1bcNsnJ uYeSOAmOtNYhZXhk5o0t/ucfARAF9naNu5IVRiFftXboU6cAqF06Bj0VBJzfl1MafbQO bdci51foIJxTO3xFcFQKVZqccs5n2K/dIDTCCH+LBcHaEEprH8co40jfmztxnAdqVRMY Y/nw== X-Gm-Message-State: AOJu0YxYUFjUsFzpYMQMX0t9H5t1ry2+lXhOj7Z+EzJIbpNTIcGXEpYZ vL0fTLZWYGwGZJKhq2thJ/aAbsUAcr5PlspxCBoaUlO87lXP0eX6xKweURfFFUT/H/ijBKkT+Gn nvUfZGN5DZ26uBCs2U0I790Alhe8wU5kQnCk1 X-Gm-Gg: ASbGncs6ogY0zwVCC8VqbQiSRPLcVeqvMRyeUDX2e1SP9DT9Zwe2gJZmiPgVZZGLA1r RLA37JIZNJ5ELfPKOII7DwpMRJZXwTovRdgo4smosHhByZolvqKnL6zJF01H/TlvXeKTEBUv9lm Mx5MLVDpnL54uRB1CAsQq9g73HNSs24KYY68GdhJFm2Up1bywn8ho4UUM1ROknDcNMWHgvfmRX6 jWM+QZg68O/6CSqZQmI92V6FJbnAhVtwJLw5Kc9phUvbXTGTneXN094M93ETF5ISQjVUjU+XmzL DNummi94POJQXDWZn0KlnJKXjNZJu0f+0csQ+VwbhgIDUdtaGyRstewPecGlCdrEb4l5ibIMKQI 8iA== X-Google-Smtp-Source: AGHT+IHNgDKtPENKeY2JZV5B3fbnrtJgjZ8JeP+MuBwuR/c4sLWKM8XZ2Uz9pQbQr4so14DKqhu2vnZmMTZ8 X-Received: by 2002:a05:6e02:168f:b0:425:7788:871 with SMTP id e9e14a558f8ab-42d8b234b89mr104901565ab.12.1759519377695; Fri, 03 Oct 2025 12:22:57 -0700 (PDT) Received: from postal.iol.unh.edu (postal.iol.unh.edu. [132.177.123.84]) by smtp-relay.gmail.com with ESMTPS id 8926c6da1cb9f-57b5eb02709sm430784173.18.2025.10.03.12.22.57 (version=TLS1_2 cipher=ECDHE-ECDSA-AES128-GCM-SHA256 bits=128/128); Fri, 03 Oct 2025 12:22:57 -0700 (PDT) X-Relaying-Domain: iol.unh.edu Date: Fri, 03 Oct 2025 12:22:57 -0700 (PDT) Message-ID: <68e02291.050a0220.1ac8bf.a4faSMTPIN_ADDED_MISSING@mx.google.com> Received: from [172.21.0.2] (unknown [172.18.0.240]) by postal.iol.unh.edu (Postfix) with ESMTP id 3D53C604D420; Fri, 3 Oct 2025 15:22:57 -0400 (EDT) Subject: |SUCCESS| [GIT MASTER] 3b43ce3f4a54468e7ef65760c2fd7b4d6ee6d9fc From: dpdklab@iol.unh.edu To: Test Report Cc: dpdk-test-reports@iol.unh.edu, Xueming Li , Christian Ehrhardt , Kevin Traynor , Luca Boccassi Content-Type: text/plain X-BeenThere: test-report@dpdk.org X-Mailman-Version: 2.1.29 Precedence: list List-Id: automatic DPDK test reports List-Unsubscribe: , List-Archive: List-Post: List-Help: List-Subscribe: , Errors-To: test-report-bounces@dpdk.org _Testing PASS_ Branch: tags/v22.11 3b43ce3f4a54468e7ef65760c2fd7b4d6ee6d9fc --> testing pass Upstream job id: Generic-Unit-Test-DPDK#377981 Test environment and result as below: +-----------------+---------------------------+------------------------------+--------------+----------------+ | Environment | cryptodev_sw_zuc_autotest | cryptodev_sw_snow3g_autotest | lpm_autotest | dpdk_unit_test | +=================+===========================+==============================+==============+================+ | Debian 12 (arm) | PASS | PASS | SKIPPED | SKIPPED | +-----------------+---------------------------+------------------------------+--------------+----------------+ | Ubuntu 20.04 | SKIPPED | SKIPPED | PASS | SKIPPED | +-----------------+---------------------------+------------------------------+--------------+----------------+ | Ubuntu 22.04 | SKIPPED | SKIPPED | SKIPPED | PASS | +-----------------+---------------------------+------------------------------+--------------+----------------+ Debian 12 (arm) Kernel: Depends on container host Compiler: gcc (Debian 12.2.0-14) 12.2.0 Ubuntu 20.04 Kernel: 5.4 Compiler: gcc gcc (Ubuntu 9.4.0-1ubuntu1~20.04.2) 9.4.0 Ubuntu 22.04 Kernel: 5.15 Compiler: gcc gcc (Ubuntu 11.4.0-1ubuntu1~22.04.2) 11.4.0 To view detailed results, visit: https://lab.dpdk.org/results/dashboard/tarballs/35089/ UNH-IOL DPDK Community Lab To manage your email subscriptions, visit: https://lab.dpdk.org/results/dashboard/preferences/subscriptions/