From mboxrd@z Thu Jan 1 00:00:00 1970 Return-Path: Received: from mails.dpdk.org (mails.dpdk.org [217.70.189.124]) by inbox.dpdk.org (Postfix) with ESMTP id 45DC0488A3 for ; Fri, 3 Oct 2025 22:21:35 +0200 (CEST) Received: from mails.dpdk.org (localhost [127.0.0.1]) by mails.dpdk.org (Postfix) with ESMTP id 4059E402B5; Fri, 3 Oct 2025 22:21:35 +0200 (CEST) Received: from mail-vk1-f225.google.com (mail-vk1-f225.google.com [209.85.221.225]) by mails.dpdk.org (Postfix) with ESMTP id DE8BA402B5 for ; Fri, 3 Oct 2025 22:21:33 +0200 (CEST) Received: by mail-vk1-f225.google.com with SMTP id 71dfb90a1353d-54bc6356624so2787618e0c.1 for ; Fri, 03 Oct 2025 13:21:33 -0700 (PDT) DKIM-Signature: v=1; a=rsa-sha256; c=relaxed/relaxed; d=iol.unh.edu; s=unh-iol; t=1759522893; x=1760127693; darn=dpdk.org; h=references:in-reply-to:cc:to:from:subject:message-id:date:from:to :cc:subject:date:message-id:reply-to; bh=DFlQyLTxrHzfPNpyL575pQBdIq2LAQ0QhaaQVHkPAc8=; b=Agpl3Ztra9KXYNp6mj+hzweIA0jGLsaXMtDDNwCiIVRjxSJgdh7ib3T7hUnIkC0uE3 lj9e9kVFqmWnNMA8H1GrZ1lWOazt4fcbeOIHJ+VVk5WmO1YDZCneVWljMwO5c890xE5P 30T2qQOBjR35Es0KzJYUfifo+stwsBVkK469g= X-Google-DKIM-Signature: v=1; a=rsa-sha256; c=relaxed/relaxed; d=1e100.net; s=20230601; t=1759522893; x=1760127693; h=references:in-reply-to:cc:to:from:subject:message-id:date :x-gm-message-state:from:to:cc:subject:date:message-id:reply-to; bh=DFlQyLTxrHzfPNpyL575pQBdIq2LAQ0QhaaQVHkPAc8=; b=I134E9WE2/XQsEBCAFeQqVtHVji/Eqck2yivnjycRxna+lKs8biz8GWHOhioivWeii ABtJV4T1jzCLj46wZ+8WIi5+88NrIDZOF0wKOHb+XTIuuRyx1QEKr7meI4ARxJdxeX2p mT19BFNkGqeGKDEkDoXMX3rMr9MCuHBagnEC63UvbcpYZvNtNYHeZ7W5DX2cVISGGTEr V1fEcVhu8SOFoiKMMB1qMsTmTjY1iOr3yZkISFn7bNXp031FjLW03WkgZedpMXwr7J0R 9B+boKtifCnzicrZNp/s4MmG8uRbp3v58B7ZBAnoGAY1YlIWM+0788VHTBMbO2MQ7J4G emmw== X-Gm-Message-State: AOJu0YxC3veDqNwlWeu0gOGmhfiOwqUwDaWzAtMlgy12/VimlAsM6Xdr sl49/eXX0PQVEZtnj0qXhBMDn1MRslzFVun8xPNxqjZlIM9T+2foWCYBt81xD6FYmFFfdCV6uKq zZ1XREyxoRVSCh1hLCKihMiRDJ5lYBJ06F2pgyaunZm+x X-Gm-Gg: ASbGncuVM/9/Ktjow/dEK6xwtDYjIojPrVVcWGesWYEGJYbWeJ63Kpg7WeXrxF5DqA+ 8saPb/DDIw0yIwdUkvw3vvhvAuqKRn0D9WCIYcgv76R1us/bdMDYk0+N8JqeWpI9HuttPdhJaz6 fdQ42aKaq++90TwIIunPESxDhy3VloV9cBOJgpEUy0XZ+trAvxL1f2XUSkbPeHo5lC0MQjDdGTh VSMPNHAU+4+ja2j+PgsA+gDv4rrs1Qsl1/+HUChcusKuwhigwT+Arh7b4iP+Va3l2Sw52wBSlMw 0tl6aoBFR2lPbRZOEg3TK6E1+GpZhHdX+cZvn1zh7Bxo4qOINRZ82wEPhL7OtzpejgH4ikwJmdo QtA== X-Google-Smtp-Source: AGHT+IGATjK4I/SQ3sCdPt10htDTi9KJjb6Uk1nJWuAy4SNcqhsqi+1pac4jvQSkVDR4LZicMBpJ9RZwP/M+ X-Received: by 2002:a05:6122:3186:b0:54a:1ec6:b1ab with SMTP id 71dfb90a1353d-5524d4a7047mr2421526e0c.0.1759522893264; Fri, 03 Oct 2025 13:21:33 -0700 (PDT) Received: from postal.iol.unh.edu (postal.iol.unh.edu. [132.177.123.84]) by smtp-relay.gmail.com with ESMTPS id 71dfb90a1353d-5523cf13fc9sm552538e0c.2.2025.10.03.13.21.33 (version=TLS1_2 cipher=ECDHE-ECDSA-AES128-GCM-SHA256 bits=128/128); Fri, 03 Oct 2025 13:21:33 -0700 (PDT) X-Relaying-Domain: iol.unh.edu Date: Fri, 03 Oct 2025 13:21:33 -0700 (PDT) Message-ID: <68e0304d.050a0220.b63a6.1611SMTPIN_ADDED_MISSING@mx.google.com> Received: from [172.21.0.2] (unknown [172.18.0.240]) by postal.iol.unh.edu (Postfix) with ESMTP id E6C1E604D420; Fri, 3 Oct 2025 16:21:32 -0400 (EDT) Subject: |SUCCESS| pw157268-157269 [PATCH] [v2,2/2] dts: add virtio forwardin From: dpdklab@iol.unh.edu To: Test Report Cc: dpdk-test-reports@iol.unh.edu In-Reply-To: <20251003192717.444490-2-dmarx@iol.unh.edu> References: <20251003192717.444490-2-dmarx@iol.unh.edu> Content-Type: text/plain X-BeenThere: test-report@dpdk.org X-Mailman-Version: 2.1.29 Precedence: list List-Id: automatic DPDK test reports List-Unsubscribe: , List-Archive: List-Post: List-Help: List-Subscribe: , Errors-To: test-report-bounces@dpdk.org Test-Label: iol-compile-amd64-testing Test-Status: SUCCESS http://dpdk.org/patch/157269 _Testing PASS_ Submitter: Dean Marx Date: Friday, October 03 2025 19:27:16 DPDK git baseline: Repo:dpdk-next-dts Branch: master CommitID:b71d7bdf2b663f9fedc1d344b81a8cf65518026c 157268-157269 --> testing pass Upstream job id: Windows-Compile-DPDK-Native#31408 Test environment and result as below: +---------------------+--------------------+-------------------------+-------------------+----------------------+ | Environment | dpdk_meson_compile | dpdk_llvm_clang_compile | dpdk_msvc_compile | dpdk_mingw64_compile | +=====================+====================+=========================+===================+======================+ | Ubuntu 20.04 | PASS | SKIPPED | SKIPPED | SKIPPED | +---------------------+--------------------+-------------------------+-------------------+----------------------+ | FreeBSD 14.2 | PASS | SKIPPED | SKIPPED | SKIPPED | +---------------------+--------------------+-------------------------+-------------------+----------------------+ | Windows Server 2022 | SKIPPED | PASS | PASS | PASS | +---------------------+--------------------+-------------------------+-------------------+----------------------+ Ubuntu 20.04 Kernel: 4.19 Compiler: gcc gcc (Ubuntu 9.4.0-1ubuntu1~20.04.2) 9.4.0 FreeBSD 14.2 Kernel: 14.2-RELEASE Compiler: clang 18.1.6 Windows Server 2022 Kernel: 10.0.20348.2031 Compiler: clang 15.0.7, gcc 14.1.0 (MinGW), and MSVC VS 19.39.33521 To view detailed results, visit: https://lab.dpdk.org/results/dashboard/patchsets/34213/ UNH-IOL DPDK Community Lab To manage your email subscriptions, visit: https://lab.dpdk.org/results/dashboard/preferences/subscriptions/