From mboxrd@z Thu Jan 1 00:00:00 1970 Return-Path: Received: from mails.dpdk.org (mails.dpdk.org [217.70.189.124]) by inbox.dpdk.org (Postfix) with ESMTP id 7BFCA488A3 for ; Fri, 3 Oct 2025 22:34:32 +0200 (CEST) Received: from mails.dpdk.org (localhost [127.0.0.1]) by mails.dpdk.org (Postfix) with ESMTP id 77496402B5; Fri, 3 Oct 2025 22:34:32 +0200 (CEST) Received: from mail-io1-f100.google.com (mail-io1-f100.google.com [209.85.166.100]) by mails.dpdk.org (Postfix) with ESMTP id EDF0D402B5 for ; Fri, 3 Oct 2025 22:34:31 +0200 (CEST) Received: by mail-io1-f100.google.com with SMTP id ca18e2360f4ac-9335a918867so214090939f.2 for ; Fri, 03 Oct 2025 13:34:31 -0700 (PDT) DKIM-Signature: v=1; a=rsa-sha256; c=relaxed/relaxed; d=iol.unh.edu; s=unh-iol; t=1759523671; x=1760128471; darn=dpdk.org; h=references:in-reply-to:cc:to:from:subject:message-id:date:from:to :cc:subject:date:message-id:reply-to; bh=SMQshpn4tkxdhO+r18zE6VBp+zoReizNcpfSE7D2SPQ=; b=Zfi3ikDXbDsbFB917Qq+KqfQNTO7nRD7844W9rnXmruFSNmaRKfj7jlbdqvHdfgEnk tGjmNgr/Wmat/8wMpc3IwcskM+ApJ6M7naMtfRTIUNqBbZ+MJ/CGE8T4QlnlPNH9En/K dz8dvPR7MwTdyMspKDKJnaJooDy5wgTKz3R54= X-Google-DKIM-Signature: v=1; a=rsa-sha256; c=relaxed/relaxed; d=1e100.net; s=20230601; t=1759523671; x=1760128471; h=references:in-reply-to:cc:to:from:subject:message-id:date :x-gm-message-state:from:to:cc:subject:date:message-id:reply-to; bh=SMQshpn4tkxdhO+r18zE6VBp+zoReizNcpfSE7D2SPQ=; b=KVgXgLvsm0IWPgWaMgXbB0EQJGGkkPXCY1sYV47etj091soih34/HVA5yLV5xwcT58 kO5wuoHAlCD+78mM34aqx7M2k1f+tsACbGW8+vep1QdoMKTCLWt/9hlukph6BzhwOIFS s+JOIRNJ+YqaO1ILMJsTUfNlyl2hASYECJ+9Tu2B5ZNzP81TTL7h4DN8/LBZ4+ziMFxl MvTmUxSUjnarGimQ3Atd8ndvHxRc9+XskDNV9LFUcVDYN15V7O61UvfYHpvZc6LWwiBk qMHHZqPxBeju8FI08yv8E+ZmCKLcy8fCbs5OMSbkYiqufeYuTL/SGdIrJibXdKPbJNSV /q9w== X-Gm-Message-State: AOJu0YzQBxEnXtlP0p5J8MMoaLBO59wKHCcw5jV0jPgXCikh1iEJg0XF +nO1VlnKlqFI8WfF6tAO09QcSmp3jRmI5dXLOpbE1i4WDvVZtLJTgSG92Qh7MfkTZ6bFNxAJJFd MEaiWT0ycPQBdOW3toiZ47ovZUcJvPxq64f0fiL7x1dGt X-Gm-Gg: ASbGnctoYxhinqlkqJd28pCUKW4qYW4nwNCxQfI3L/I2K/sv0wfxB7HsUsGRLV9A2An u4CtpRa0tYob7Jf9oh3eheGYLIx2pLxryZ82BM7GRPLbuI0/rovAQAooLuSxJ+ZH6xotWALrfP6 vspaWUM9/w/rviHeAoQ4GoNvP/0MuRi4/504ffJy1Ym7oZIit3ifmwYCHSrDxI2vmFcX+rOc6F5 yq0SAyL0Kw1BoUjNJb/f0kFtaT5QQlKVB4BwEcJXXGoDAy7ld/PSV14CWrf7+PY1kNaeCAgWzur KMLoWpv/xfA2Za9qBKlIYtxfAiBCQGUJwnw146nEOwcDYlyj3O7S4j92ahucL6WgwTwLW51J0VN YfQ== X-Google-Smtp-Source: AGHT+IGv5Qr/DXOz+ArZQbd9tnwSCMWj1fMinh3weF5ExTO+bmm04Ak5Sv6jjXTjLsYXpA05JkzdCJI7jzCf X-Received: by 2002:a05:6602:2d93:b0:8fa:eff3:29c0 with SMTP id ca18e2360f4ac-93b96ad205emr589501739f.19.1759523671253; Fri, 03 Oct 2025 13:34:31 -0700 (PDT) Received: from postal.iol.unh.edu (postal.iol.unh.edu. [132.177.123.84]) by smtp-relay.gmail.com with ESMTPS id 8926c6da1cb9f-57b5ed666bdsm445838173.36.2025.10.03.13.34.31 (version=TLS1_2 cipher=ECDHE-ECDSA-AES128-GCM-SHA256 bits=128/128); Fri, 03 Oct 2025 13:34:31 -0700 (PDT) X-Relaying-Domain: iol.unh.edu Date: Fri, 03 Oct 2025 13:34:31 -0700 (PDT) Message-ID: <68e03357.050a0220.8e9f4.b4c6SMTPIN_ADDED_MISSING@mx.google.com> Received: from [172.21.0.2] (unknown [172.18.0.240]) by postal.iol.unh.edu (Postfix) with ESMTP id 94FD16051830; Fri, 3 Oct 2025 16:34:30 -0400 (EDT) Subject: |SUCCESS| pw157268-157269 [PATCH] [v2,2/2] dts: add virtio forwardin From: dpdklab@iol.unh.edu To: Test Report Cc: dpdk-test-reports@iol.unh.edu In-Reply-To: <20251003192717.444490-2-dmarx@iol.unh.edu> References: <20251003192717.444490-2-dmarx@iol.unh.edu> Content-Type: text/plain X-BeenThere: test-report@dpdk.org X-Mailman-Version: 2.1.29 Precedence: list List-Id: automatic DPDK test reports List-Unsubscribe: , List-Archive: List-Post: List-Help: List-Subscribe: , Errors-To: test-report-bounces@dpdk.org Test-Label: iol-unit-amd64-testing Test-Status: SUCCESS http://dpdk.org/patch/157269 _Testing PASS_ Submitter: Dean Marx Date: Friday, October 03 2025 19:27:16 DPDK git baseline: Repo:dpdk-next-dts Branch: master CommitID:b71d7bdf2b663f9fedc1d344b81a8cf65518026c 157268-157269 --> testing pass Upstream job id: Generic-Unit-Test-DPDK#378344 Test environment and result as below: +-------------------------------+----------------+ | Environment | dpdk_unit_test | +===============================+================+ | CentOS Stream 9 | PASS | +-------------------------------+----------------+ | CentOS Stream 10 | PASS | +-------------------------------+----------------+ | Debian GNU/Linux 12 | PASS | +-------------------------------+----------------+ | Fedora Linux 40 | PASS | +-------------------------------+----------------+ | Fedora Linux 41 | PASS | +-------------------------------+----------------+ | Windows Server 2022 | PASS | +-------------------------------+----------------+ | Fedora Linux 42 | PASS | +-------------------------------+----------------+ | Red Hat Enterprise Linux 9.5 | PASS | +-------------------------------+----------------+ | Red Hat Enterprise Linux 8.10 | PASS | +-------------------------------+----------------+ | Ubuntu 20.04 | PASS | +-------------------------------+----------------+ | Ubuntu 22.04 | PASS | +-------------------------------+----------------+ | Ubuntu 24.04 | PASS | +-------------------------------+----------------+ CentOS Stream 9 Kernel: 5.15 Compiler: gcc gcc (GCC) 11.5.0 20240719 (Red Hat 11.5.0-11) CentOS Stream 10 Kernel: 5.15 Compiler: gcc gcc (GCC) 14.2.1 20250110 (Red Hat 14.2.1-8) Debian GNU/Linux 12 Kernel: 5.15 Compiler: gcc gcc (Debian 12.2.0-14+deb12u1) 12.2.0 Fedora Linux 40 Kernel: 5.15 Compiler: gcc gcc (GCC) 14.2.1 20240912 (Red Hat 14.2.1-3) Fedora Linux 41 Kernel: 5.15 Compiler: gcc gcc (GCC) 14.3.1 20250523 (Red Hat 14.3.1-1) Windows Server 2022 Kernel: 10.0.20348.2031 Compiler: clang 15.0.7, gcc 14.1.0 (MinGW), and MSVC VS 19.39.33521 Fedora Linux 42 Kernel: 5.15 Compiler: gcc gcc (GCC) 15.2.1 20250808 (Red Hat 15.2.1-1) Red Hat Enterprise Linux 9.5 Kernel: 5.15 Compiler: gcc gcc (GCC) 11.5.0 20240719 (Red Hat 11.5.0-2) Red Hat Enterprise Linux 8.10 Kernel: 5.15 Compiler: gcc gcc (GCC) 8.5.0 20210514 (Red Hat 8.5.0-22) Ubuntu 20.04 Kernel: 5.15 Compiler: gcc gcc (Ubuntu 9.4.0-1ubuntu1~20.04.2) 9.4.0 Ubuntu 22.04 Kernel: 5.15 Compiler: gcc gcc (Ubuntu 11.4.0-1ubuntu1~22.04) 11.4.0 Ubuntu 24.04 Kernel: 5.15 Compiler: gcc gcc (Ubuntu 13.3.0-6ubuntu2~24.04) 13.3.0 To view detailed results, visit: https://lab.dpdk.org/results/dashboard/patchsets/34213/ UNH-IOL DPDK Community Lab To manage your email subscriptions, visit: https://lab.dpdk.org/results/dashboard/preferences/subscriptions/