From mboxrd@z Thu Jan 1 00:00:00 1970 Return-Path: Received: from mails.dpdk.org (mails.dpdk.org [217.70.189.124]) by inbox.dpdk.org (Postfix) with ESMTP id E1A45488A3 for ; Fri, 3 Oct 2025 22:57:39 +0200 (CEST) Received: from mails.dpdk.org (localhost [127.0.0.1]) by mails.dpdk.org (Postfix) with ESMTP id B63E1402B5; Fri, 3 Oct 2025 22:57:39 +0200 (CEST) Received: from mail-il1-f225.google.com (mail-il1-f225.google.com [209.85.166.225]) by mails.dpdk.org (Postfix) with ESMTP id E5F01402B5 for ; Fri, 3 Oct 2025 22:57:37 +0200 (CEST) Received: by mail-il1-f225.google.com with SMTP id e9e14a558f8ab-42e70fdfb8dso20898345ab.2 for ; Fri, 03 Oct 2025 13:57:37 -0700 (PDT) DKIM-Signature: v=1; a=rsa-sha256; c=relaxed/relaxed; d=iol.unh.edu; s=unh-iol; t=1759525057; x=1760129857; darn=dpdk.org; h=references:in-reply-to:cc:to:from:subject:message-id:date:from:to :cc:subject:date:message-id:reply-to; bh=iukn5s4bhTiwSQdyjOOGOBK2FfIwlpKumZptXuJrBbE=; b=EPzlAoSwFFhA1D04eXhiUXR2uEnRWiFxPH5BX51B9eardbJ7jMZQSnNbB9hDWOAY9z eDQPsg+CFMt6IlEi7n1jTRr+ZtMYGMcvR6g7MnG6t3/qNhmcr4O35C6lMOKU1sm+QJvG AyMeH5c2ubrnmxcmOG6cOWeCMBu8ChFNxuGzc= X-Google-DKIM-Signature: v=1; a=rsa-sha256; c=relaxed/relaxed; d=1e100.net; s=20230601; t=1759525057; x=1760129857; h=references:in-reply-to:cc:to:from:subject:message-id:date :x-gm-message-state:from:to:cc:subject:date:message-id:reply-to; bh=iukn5s4bhTiwSQdyjOOGOBK2FfIwlpKumZptXuJrBbE=; b=ULmSMtnoZ9QrmfHtJhcCA1KsqZyhWXKV0EVybYrpgcLM3ix7ypAtms+lxZ3PKwgsmb QOCpb/Tf4zGiQYkLbK2EMrN0msBeTtyOr6jOqutyzOAeNVkh+UV+VaXPBcOlEo1qXyT9 aUWwMgl2+fp9kWqWR6N5hfQwjHlHX9kP2nBgqHfuisW+65K/4WgI73WuHz49hjXK5CKO uHkSijWjLVhFln5DBInSBxpGqmK9Pc6HphihOEk2fzc5Gyq5nqPPzz9uCkEghsbH1qBc JhsSJD5y3eV4alP1ZTxxHzw6E5pOj9f0wDNFGR5knEMU7cXclME/2duB1B6+Kq825wJB JC0g== X-Gm-Message-State: AOJu0YwYGTxhgvB2DO805eYHNA0ZTAd8sENenYmuydKsC6Mq4wDA99ZB qKMK8DyGks6AkdZOUPIFETBG5rb9B7KWHASnmvkXPUJSQcjnWAUsBDLYkgggyd8klrWRYFoVBOa XwRif/BIpCSEQr48o9bMXS0c+VFYYJ8z9fwZvCM7NU8JQy+GfCt7ddPY6WnUY X-Gm-Gg: ASbGncuM1+LGxGs5fjyu/FdZ8yeMcR/kkY2GB6bF4v3U/OCMJ5kz5+9XNbhPMTTHs0W BBz7m07FXs4toY8rQPkSrdg7Z6ZvjtZlZlYrHSwKCdfXEaYj6FFwCgnZkbxIF3vi7Yl7ed1GgRp 5pA/BWoZRE/djsagqo3irYMgjiu0rUDcqqPI3Q8x3e91i1APIXw/3pf4fY1i+h8BOvFKX4c82fL 2n5kCaqCAduLPJgoC/3KJwj8RVSUMi/mWpg2UHFkmPTrRKELOvvWDKvCZeY6GZXFUSMWu5UebDT ZeDwK2oB+xgUcUyBUOzCD3KzL8ZrPJfiHbqQYt0myjy2da7AkrxefLk= X-Google-Smtp-Source: AGHT+IHsMgSMvWW65kUm6xOsdrR6beaYnXjYLum/HBb4soMXfyxOc2R+2edgLk2jA+BHPKK6ndqi30VzX7Jo X-Received: by 2002:a05:6e02:1fe9:b0:42d:7dae:e643 with SMTP id e9e14a558f8ab-42e7adb1260mr58081535ab.23.1759525057083; Fri, 03 Oct 2025 13:57:37 -0700 (PDT) Received: from postal.iol.unh.edu (postal.iol.unh.edu. [2606:4100:3880:1234::84]) by smtp-relay.gmail.com with ESMTPS id 8926c6da1cb9f-57b5eb626dbsm439839173.22.2025.10.03.13.57.37 (version=TLS1_2 cipher=ECDHE-ECDSA-AES128-GCM-SHA256 bits=128/128); Fri, 03 Oct 2025 13:57:37 -0700 (PDT) X-Relaying-Domain: iol.unh.edu Date: Fri, 03 Oct 2025 13:57:37 -0700 (PDT) Message-ID: <68e038c1.050a0220.3c4084.b170SMTPIN_ADDED_MISSING@mx.google.com> Received: from [172.21.0.2] (unknown [172.18.0.240]) by postal.iol.unh.edu (Postfix) with ESMTP id 98CC16050A61; Fri, 3 Oct 2025 16:57:36 -0400 (EDT) Subject: |SUCCESS| pw157272-157273 [PATCH] [v3,4/4] doc: add doc for dictiona From: dpdklab@iol.unh.edu To: Test Report Cc: dpdk-test-reports@iol.unh.edu, Akhil Goyal In-Reply-To: <20251003194901.3375364-4-svaze@qti.qualcomm.com> References: <20251003194901.3375364-4-svaze@qti.qualcomm.com> Content-Type: text/plain X-BeenThere: test-report@dpdk.org X-Mailman-Version: 2.1.29 Precedence: list List-Id: automatic DPDK test reports List-Unsubscribe: , List-Archive: List-Post: List-Help: List-Subscribe: , Errors-To: test-report-bounces@dpdk.org Test-Label: iol-compile-amd64-testing Test-Status: SUCCESS http://dpdk.org/patch/157273 _Testing PASS_ Submitter: Sameer Vaze Date: Friday, October 03 2025 19:49:01 DPDK git baseline: Repo:dpdk-next-crypto Branch: master CommitID:caa17cb4b057a31ee04067459fe543f7d7ae1079 157272-157273 --> testing pass Upstream job id: Windows-Compile-DPDK-Native#31409 Test environment and result as below: +---------------------+--------------------+-------------------+-------------------------+ | Environment | dpdk_meson_compile | dpdk_msvc_compile | dpdk_llvm_clang_compile | +=====================+====================+===================+=========================+ | Ubuntu 20.04 | PASS | SKIPPED | SKIPPED | +---------------------+--------------------+-------------------+-------------------------+ | FreeBSD 14.2 | PASS | SKIPPED | SKIPPED | +---------------------+--------------------+-------------------+-------------------------+ | Windows Server 2022 | SKIPPED | PASS | PASS | +---------------------+--------------------+-------------------+-------------------------+ Ubuntu 20.04 Kernel: 4.19 Compiler: gcc gcc (Ubuntu 9.4.0-1ubuntu1~20.04.2) 9.4.0 FreeBSD 14.2 Kernel: 14.2-RELEASE Compiler: clang 18.1.6 Windows Server 2022 Kernel: 10.0.20348.2031 Compiler: clang 15.0.7, gcc 14.1.0 (MinGW), and MSVC VS 19.39.33521 To view detailed results, visit: https://lab.dpdk.org/results/dashboard/patchsets/34214/ UNH-IOL DPDK Community Lab To manage your email subscriptions, visit: https://lab.dpdk.org/results/dashboard/preferences/subscriptions/