From mboxrd@z Thu Jan 1 00:00:00 1970 Return-Path: Received: from mails.dpdk.org (mails.dpdk.org [217.70.189.124]) by inbox.dpdk.org (Postfix) with ESMTP id BA255488A3 for ; Fri, 3 Oct 2025 23:06:07 +0200 (CEST) Received: from mails.dpdk.org (localhost [127.0.0.1]) by mails.dpdk.org (Postfix) with ESMTP id AB5D4402B5; Fri, 3 Oct 2025 23:06:07 +0200 (CEST) Received: from mail-qv1-f99.google.com (mail-qv1-f99.google.com [209.85.219.99]) by mails.dpdk.org (Postfix) with ESMTP id 7A0D4402B5 for ; Fri, 3 Oct 2025 23:06:06 +0200 (CEST) Received: by mail-qv1-f99.google.com with SMTP id 6a1803df08f44-7f7835f4478so19991826d6.1 for ; Fri, 03 Oct 2025 14:06:06 -0700 (PDT) DKIM-Signature: v=1; a=rsa-sha256; c=relaxed/relaxed; d=iol.unh.edu; s=unh-iol; t=1759525566; x=1760130366; darn=dpdk.org; h=references:in-reply-to:cc:to:from:subject:message-id:date:from:to :cc:subject:date:message-id:reply-to; bh=2QkKznYatgaHLaO9QUKknyjIk0iqhuPvwDo29raTgkQ=; b=CO78Q1g3fRe8QjSqK//qKzJJ1Vlu8xYUMR9OtADOntfDP09Xb4bRnOaaD2WnGpDFm3 JsB4fx7SKjYnOTNKbzYFIZ+sOnmvgc/b/XwEMyOCufDqDQK4uLGwouhzp2s108nbB6CT ncMpNCRzLAQ78m8SoelhtzqROb0HGAihVcrnk= X-Google-DKIM-Signature: v=1; a=rsa-sha256; c=relaxed/relaxed; d=1e100.net; s=20230601; t=1759525566; x=1760130366; h=references:in-reply-to:cc:to:from:subject:message-id:date :x-gm-message-state:from:to:cc:subject:date:message-id:reply-to; bh=2QkKznYatgaHLaO9QUKknyjIk0iqhuPvwDo29raTgkQ=; b=riE++UbOxLhhGS4jiJVFPLxrAYpHPYQvLYnrnhryRBRGzLh9QBTfAhB7tu1lOT7Dys FSPBUb3U+AnPr9TMMJ9rKWKBeIIuApoBsWemPnBWrFXlxkx6pr7s0vVM3wi3lOgxHPKK dffky1vfkNcZTSbc4vr6lkkOuM/OjyflI1kZjoFNap36RFpM7jxoCM0BB0tRYOfhmRGE 1LSIJDGjBB7eor3AtsyTNhuH9uBSjw2S2WEnDhNxExl/rvIAxXrO/BYclqrgNTjeuuqM JLdLHERPFKNJyT6ROnGVxkh1qZYhC3AHVpyb7OX9/QzcEP2KhRJoII7Js02XqGuQ2sCX W7MA== X-Gm-Message-State: AOJu0YzuzJAHRsJX3qDI1m/fwD+ZIkRPKChYf/baOpgUO5geBGVcxj6n PcDAmDXuwrLjFngt1f0es03wSZmM0IibWdckXIaeXJLQ/LoYhVLI2cSXxW5L8/IpYogbGn0unH6 HvLn+hTSfUnIw/spYMlJBsJQw2Oj7AXKGdscXxAO3aCgR X-Gm-Gg: ASbGnctxvAtzBFn5u3RjwDXFoLrtrenZklTzxE7tB5tGeL7jERdLojowprbkyg1qv/f XEVlGfgUoAATl1jKNGRNk0g1oWdE2RC3uqm+i1JUgzakK906K8F0NGluQrToRzMcl4LXGtI5zv/ dCgg/2LVfM1oH5kwVd9Qgt2J+M/XaGf17Sq+cZQsO2929Uxs2vq4bEj8eQsLFBxW4k1qGIwAdvd 8ywuuVxzeKSqq9jk4SoKxJ9SYrDL77mbEelqz1WyOby4YAgI6VX0hZ+IIR2jkCqtrTZMM+h805x Sm7WF0M4pIq58m2YmFZYpk0YumSTksZWS0yY8cZLz5+eawegIENWm6pvuzEtcTA08oMFKV+Y8TW U5w== X-Google-Smtp-Source: AGHT+IEX6Rik4Dv2k5+W41NG3R96cMXS9/3NMK4MghFre9GAThQaj6RVPkwb7ytQ/AtnXvpFJyZm+gaKBLYN X-Received: by 2002:ad4:5f45:0:b0:80f:abfe:819b with SMTP id 6a1803df08f44-879dc7e742dmr63185476d6.26.1759525565694; Fri, 03 Oct 2025 14:06:05 -0700 (PDT) Received: from postal.iol.unh.edu (postal.iol.unh.edu. [132.177.123.84]) by smtp-relay.gmail.com with ESMTPS id 6a1803df08f44-878bb8297cdsm4448116d6.18.2025.10.03.14.06.05 (version=TLS1_2 cipher=ECDHE-ECDSA-AES128-GCM-SHA256 bits=128/128); Fri, 03 Oct 2025 14:06:05 -0700 (PDT) X-Relaying-Domain: iol.unh.edu Date: Fri, 03 Oct 2025 14:06:05 -0700 (PDT) Message-ID: <68e03abd.050a0220.398ca9.b69dSMTPIN_ADDED_MISSING@mx.google.com> Received: from [172.21.0.2] (unknown [172.18.0.240]) by postal.iol.unh.edu (Postfix) with ESMTP id 6E1C46050A61; Fri, 3 Oct 2025 17:06:05 -0400 (EDT) Subject: |SUCCESS| pw157272-157273 [PATCH] [v3,4/4] doc: add doc for dictiona From: dpdklab@iol.unh.edu To: Test Report Cc: dpdk-test-reports@iol.unh.edu, Akhil Goyal In-Reply-To: <20251003194901.3375364-4-svaze@qti.qualcomm.com> References: <20251003194901.3375364-4-svaze@qti.qualcomm.com> Content-Type: text/plain X-BeenThere: test-report@dpdk.org X-Mailman-Version: 2.1.29 Precedence: list List-Id: automatic DPDK test reports List-Unsubscribe: , List-Archive: List-Post: List-Help: List-Subscribe: , Errors-To: test-report-bounces@dpdk.org Test-Label: iol-compile-amd64-testing Test-Status: SUCCESS http://dpdk.org/patch/157273 _Testing PASS_ Submitter: Sameer Vaze Date: Friday, October 03 2025 19:49:01 DPDK git baseline: Repo:dpdk-next-crypto Branch: master CommitID:caa17cb4b057a31ee04067459fe543f7d7ae1079 157272-157273 --> testing pass Upstream job id: Windows-Compile-DPDK-Native#31410 Test environment and result as below: +---------------------+--------------------+-------------------+-------------------------+----------------------+ | Environment | dpdk_meson_compile | dpdk_msvc_compile | dpdk_llvm_clang_compile | dpdk_mingw64_compile | +=====================+====================+===================+=========================+======================+ | Ubuntu 20.04 | PASS | SKIPPED | SKIPPED | SKIPPED | +---------------------+--------------------+-------------------+-------------------------+----------------------+ | FreeBSD 14.2 | PASS | SKIPPED | SKIPPED | SKIPPED | +---------------------+--------------------+-------------------+-------------------------+----------------------+ | Windows Server 2022 | SKIPPED | PASS | PASS | PASS | +---------------------+--------------------+-------------------+-------------------------+----------------------+ Ubuntu 20.04 Kernel: 4.19 Compiler: gcc gcc (Ubuntu 9.4.0-1ubuntu1~20.04.2) 9.4.0 FreeBSD 14.2 Kernel: 14.2-RELEASE Compiler: clang 18.1.6 Windows Server 2022 Kernel: 10.0.20348.2031 Compiler: clang 15.0.7, gcc 14.1.0 (MinGW), and MSVC VS 19.39.33521 To view detailed results, visit: https://lab.dpdk.org/results/dashboard/patchsets/34214/ UNH-IOL DPDK Community Lab To manage your email subscriptions, visit: https://lab.dpdk.org/results/dashboard/preferences/subscriptions/