From mboxrd@z Thu Jan 1 00:00:00 1970 Return-Path: Received: from mails.dpdk.org (mails.dpdk.org [217.70.189.124]) by inbox.dpdk.org (Postfix) with ESMTP id 763B9488A3 for ; Fri, 3 Oct 2025 23:11:16 +0200 (CEST) Received: from mails.dpdk.org (localhost [127.0.0.1]) by mails.dpdk.org (Postfix) with ESMTP id 682F34025D; Fri, 3 Oct 2025 23:11:16 +0200 (CEST) Received: from mail-io1-f100.google.com (mail-io1-f100.google.com [209.85.166.100]) by mails.dpdk.org (Postfix) with ESMTP id 1971F4025D for ; Fri, 3 Oct 2025 23:11:15 +0200 (CEST) Received: by mail-io1-f100.google.com with SMTP id ca18e2360f4ac-8cc0cb783ffso246357039f.2 for ; Fri, 03 Oct 2025 14:11:15 -0700 (PDT) DKIM-Signature: v=1; a=rsa-sha256; c=relaxed/relaxed; d=iol.unh.edu; s=unh-iol; t=1759525874; x=1760130674; darn=dpdk.org; h=references:in-reply-to:cc:to:from:subject:message-id:date:from:to :cc:subject:date:message-id:reply-to; bh=EHcyLO5eaxhP2LGPI+3KZW1D4HFKvklkbP5BO2EhFPY=; b=BoyXPUanqt2arcKxU5dS0iAjzHzwWYBHmxt/m9Fej+sngM5l6t100VCrl3FCmRIIiH j/oYVydWSjPW6GJbiLk2+KDMzOl0p9j5nthPScRSF2ktLL3zeAAp2CRzWX9wDlni4A9q 79fON5XbHr54onVhtGm84t4F5RZiP56oU/qek= X-Google-DKIM-Signature: v=1; a=rsa-sha256; c=relaxed/relaxed; d=1e100.net; s=20230601; t=1759525874; x=1760130674; h=references:in-reply-to:cc:to:from:subject:message-id:date :x-gm-message-state:from:to:cc:subject:date:message-id:reply-to; bh=EHcyLO5eaxhP2LGPI+3KZW1D4HFKvklkbP5BO2EhFPY=; b=m6zEu6SWjS2PWrpeStm6IpjNTiO/2bDYgWBDjCbjB4rg80xlHLTyJEup5Qa835FapP HzkVcVkWj+Q9ppKHpSQOSizzsoZAqdLwqP9XllzCl0AdaeNPAvrPbwiXWs6v8PmFeeZI oY7Zn5gR4EGc72HXvKqTjWwQriqp1NMiD4/97uwsJkym6thUzYzPhnriCeakXS9EfSc2 qp/TK2yohm19rvMufPxl49gB/GKhaMUfVkNYVQjwitymX2VVdhNWr57TJTdPECGC4yW+ PQGymrk5e9+vxCNu0zzh/KAG+8F80r+mSGbvLDHhY+3pEcfaTmWaJkSKOLFMhBKDH8Bh +D+g== X-Gm-Message-State: AOJu0YzAlq/+fhFO28VtT7Vgv/FwxVeGWGcsTEgK88FV2pJf6ZX9RBMj ArUS8PdWns6OZ/j8fO8/rtvHWQ2rnjBMD61LwpxNyynmfpCBFk0ID0KzcFAXkFEXv9CBh5YNALs 1uIYp564Nvuap34IN/ywjTZ8ERUiCN49tnEq3MB+tIQEdAXG/oxL6KTxGaaDn X-Gm-Gg: ASbGncs6fBIgijlt8rY9nEJfrnWG+vJuy07TCEWe3wEe4+AhuWbM760jZ7OFOFv2B6l Gj0HRDyb4gB5Tt2962ifqjpOpx0J+4pEQsx2+RTsozD5pUBNgpRZx+YgJBZ05r1xbaIIQ9lgjUl imSe7ppAR8cJbvJIOp3w/BqKZSPHsKpz8uSFOH/M0MBXDNjYorHbBEy30l+5Grla51wq9ENuoHl UtSo+beokiVilatXGRb7oZq3znhkJbbhj+oB9+gbXxtWdeoSaPUHDb8WGdVr/qP6F25KPpb9Biy hmZasgRmVyfey9CNyCouTqBfaH7Cnlz47OZ78rvbIz7WNXHZc2tctVw= X-Google-Smtp-Source: AGHT+IEGoofH9MmRP3wmAbBgZjb28Yk6WHCBMWwAS48XflToP+spdmSSrOUAMNDD2dWsWnGgVw+wt6awRpYu X-Received: by 2002:a05:6e02:164f:b0:423:5293:574f with SMTP id e9e14a558f8ab-42e7ad97438mr65483295ab.18.1759525874321; Fri, 03 Oct 2025 14:11:14 -0700 (PDT) Received: from postal.iol.unh.edu (postal.iol.unh.edu. [2606:4100:3880:1234::84]) by smtp-relay.gmail.com with ESMTPS id e9e14a558f8ab-42d8b278028sm4816445ab.24.2025.10.03.14.11.14 (version=TLS1_2 cipher=ECDHE-ECDSA-AES128-GCM-SHA256 bits=128/128); Fri, 03 Oct 2025 14:11:14 -0700 (PDT) X-Relaying-Domain: iol.unh.edu Date: Fri, 03 Oct 2025 14:11:14 -0700 (PDT) Message-ID: <68e03bf2.920a0220.405de.e16aSMTPIN_ADDED_MISSING@mx.google.com> Received: from [172.21.0.2] (unknown [172.18.0.240]) by postal.iol.unh.edu (Postfix) with ESMTP id CFF6C6050A61; Fri, 3 Oct 2025 17:11:13 -0400 (EDT) Subject: |SUCCESS| pw157272-157273 [PATCH] [v3,4/4] doc: add doc for dictiona From: dpdklab@iol.unh.edu To: Test Report Cc: dpdk-test-reports@iol.unh.edu, Akhil Goyal In-Reply-To: <20251003194901.3375364-4-svaze@qti.qualcomm.com> References: <20251003194901.3375364-4-svaze@qti.qualcomm.com> Content-Type: text/plain X-BeenThere: test-report@dpdk.org X-Mailman-Version: 2.1.29 Precedence: list List-Id: automatic DPDK test reports List-Unsubscribe: , List-Archive: List-Post: List-Help: List-Subscribe: , Errors-To: test-report-bounces@dpdk.org Test-Label: iol-unit-amd64-testing Test-Status: SUCCESS http://dpdk.org/patch/157273 _Testing PASS_ Submitter: Sameer Vaze Date: Friday, October 03 2025 19:49:01 DPDK git baseline: Repo:dpdk-next-crypto Branch: master CommitID:caa17cb4b057a31ee04067459fe543f7d7ae1079 157272-157273 --> testing pass Upstream job id: Generic-VM-Unit-Test-DPDK#31579 Test environment and result as below: +-------------------------------+----------------+ | Environment | dpdk_unit_test | +===============================+================+ | CentOS Stream 9 | PASS | +-------------------------------+----------------+ | CentOS Stream 10 | PASS | +-------------------------------+----------------+ | Fedora Linux 40 | PASS | +-------------------------------+----------------+ | Debian GNU/Linux 12 | PASS | +-------------------------------+----------------+ | Fedora Linux 41 | PASS | +-------------------------------+----------------+ | Fedora Linux 42 | PASS | +-------------------------------+----------------+ | Red Hat Enterprise Linux 8.10 | PASS | +-------------------------------+----------------+ | Red Hat Enterprise Linux 9.5 | PASS | +-------------------------------+----------------+ | Ubuntu 20.04 | PASS | +-------------------------------+----------------+ | Ubuntu 22.04 | PASS | +-------------------------------+----------------+ | Ubuntu 24.04 | PASS | +-------------------------------+----------------+ | Windows Server 2022 | PASS | +-------------------------------+----------------+ CentOS Stream 9 Kernel: 5.15 Compiler: gcc gcc (GCC) 11.5.0 20240719 (Red Hat 11.5.0-11) CentOS Stream 10 Kernel: 5.15 Compiler: gcc gcc (GCC) 14.2.1 20250110 (Red Hat 14.2.1-8) Fedora Linux 40 Kernel: 5.15 Compiler: gcc gcc (GCC) 14.2.1 20240912 (Red Hat 14.2.1-3) Debian GNU/Linux 12 Kernel: 5.15 Compiler: gcc gcc (Debian 12.2.0-14+deb12u1) 12.2.0 Fedora Linux 41 Kernel: 5.15 Compiler: gcc gcc (GCC) 14.3.1 20250523 (Red Hat 14.3.1-1) Fedora Linux 42 Kernel: 5.15 Compiler: clang gcc (GCC) 15.2.1 20250808 (Red Hat 15.2.1-1) Red Hat Enterprise Linux 8.10 Kernel: 5.15 Compiler: gcc gcc (GCC) 8.5.0 20210514 (Red Hat 8.5.0-22) Red Hat Enterprise Linux 9.5 Kernel: 5.15 Compiler: gcc gcc (GCC) 11.5.0 20240719 (Red Hat 11.5.0-2) Ubuntu 20.04 Kernel: 5.15 Compiler: gcc gcc (Ubuntu 9.4.0-1ubuntu1~20.04.2) 9.4.0 Ubuntu 22.04 Kernel: 5.15 Compiler: gcc gcc (Ubuntu 11.4.0-1ubuntu1~22.04) 11.4.0 Ubuntu 24.04 Kernel: 5.15 Compiler: gcc gcc (Ubuntu 13.3.0-6ubuntu2~24.04) 13.3.0 Windows Server 2022 Kernel: 10.0.20348.2031 Compiler: clang 15.0.7, gcc 14.1.0 (MinGW), and MSVC VS 19.39.33521 To view detailed results, visit: https://lab.dpdk.org/results/dashboard/patchsets/34214/ UNH-IOL DPDK Community Lab To manage your email subscriptions, visit: https://lab.dpdk.org/results/dashboard/preferences/subscriptions/