From mboxrd@z Thu Jan 1 00:00:00 1970 Return-Path: Received: from mails.dpdk.org (mails.dpdk.org [217.70.189.124]) by inbox.dpdk.org (Postfix) with ESMTP id BCAD7488A3 for ; Fri, 3 Oct 2025 23:33:31 +0200 (CEST) Received: from mails.dpdk.org (localhost [127.0.0.1]) by mails.dpdk.org (Postfix) with ESMTP id 8DD864025D; Fri, 3 Oct 2025 23:33:31 +0200 (CEST) Received: from mail-qv1-f99.google.com (mail-qv1-f99.google.com [209.85.219.99]) by mails.dpdk.org (Postfix) with ESMTP id C9BEB4025D for ; Fri, 3 Oct 2025 23:33:30 +0200 (CEST) Received: by mail-qv1-f99.google.com with SMTP id 6a1803df08f44-87745ca6cc5so30168986d6.0 for ; Fri, 03 Oct 2025 14:33:30 -0700 (PDT) DKIM-Signature: v=1; a=rsa-sha256; c=relaxed/relaxed; d=iol.unh.edu; s=unh-iol; t=1759527210; x=1760132010; darn=dpdk.org; h=cc:to:from:subject:message-id:date:from:to:cc:subject:date :message-id:reply-to; bh=QRZzFhI37v1hiteekoRLJ0wydEne47+GL5QQ9Z74yu0=; b=UtW4EUXOtbxaddupxFU43wIvCen6FEsPfmZDcRnH+NWozj1xrto7Rrne6a0zCaoQc9 pR7UUaTaz4tAbHq2Nhfd1FwOKWM6srV4GZv4Lerj3fr5Mfzmhz+UqVHeMU4KLM7MFlbB atqCYWm9wy2S4UvLUONXez4SHQwdJ7+eGfnyU= X-Google-DKIM-Signature: v=1; a=rsa-sha256; c=relaxed/relaxed; d=1e100.net; s=20230601; t=1759527210; x=1760132010; h=cc:to:from:subject:message-id:date:x-gm-message-state:from:to:cc :subject:date:message-id:reply-to; bh=QRZzFhI37v1hiteekoRLJ0wydEne47+GL5QQ9Z74yu0=; b=szV4Atwe0CpV7FvpSjcxMoHpbA6fhFvWctvTe7S2R/xwXCFK/p8yb1eaGqcwreWoUK P+Z5ztKm+BgZ/SGnKJpYVl+BP64pAqqoqyxI8LXxjP6bKP0NjQlbUPZQAK9+MblyirAe mW4rvs0TGS7yKMeb208GDGFZeRj9P5vQG2Cl0J47ipfzOa5+IbSOpQO2NzpQX2dO8AlW vbK6DomRlLjapWtqqLJrGPimFykNO85ty+WS70W9GOeaMKaEePhf9WZ0C3kKaSSdfUYh 5RIrqHnsDxQMkXAKE2bCXl7BCu102zBgFCxSC8k0ndPLgolyrECDgd0dHNJXty4QKSFR KPkg== X-Gm-Message-State: AOJu0YwY4of/BG2l6YyAiPj1c688Se6HFIYRQ12iRKGtid1tgfEJ2reU wUQmq51GlXutXlJjduQg987YUoA+980GaWc/J9YK05VVyo/mPF3wY4uv3Xc2x685CYqSEH/FfQa OekNaRZIRB1XIIGz4dcniOqwku072tu4Amv24 X-Gm-Gg: ASbGncsoQ3dHjQHBYK3Xz9zIPkx+FgO6F3vGrNBAmX3CqAcyMunmMp+j73jb3+0BgKn aCGXTrfGom05aQcTJ92jvgS7RbZAQjq4Ke8BKIN5PHglwjoZ1ZNn7QXiOZ/3Xh6L0JZrY2ccybh ypfGZ9wm2CsQQ8wThnHK6wkcdE2uUa9i/czvCLBB1VWCaRYaTSOA+rstXw/+b3eclhBkyQV1+sf tvhDh6tIrAQ3a68ib5FeDB4JLfBxZGayJtVWUOlj2ek5uP5LcdgrAn6de2lqUECdGsOZxTHFH0b 5a/5G7DXCMuwdv4mxohwID/A6lCaCiv3eRVvF3CTKf7eIagMo3bYWtwkII+pcb8+/t/41pMQcGi RTg== X-Google-Smtp-Source: AGHT+IHX2vXQObINGm8fZlrLBOJWiAARvv1h6rw7Re/d67em8FzNW/TBlyMqD4tJ8JBNm0xtbyqxkr7EqEhi X-Received: by 2002:ad4:5ccc:0:b0:78c:f62c:8eb1 with SMTP id 6a1803df08f44-878bbf0f5e8mr111740276d6.26.1759527210185; Fri, 03 Oct 2025 14:33:30 -0700 (PDT) Received: from postal.iol.unh.edu (postal.iol.unh.edu. [132.177.123.84]) by smtp-relay.gmail.com with ESMTPS id 6a1803df08f44-878be42fecfsm4425196d6.36.2025.10.03.14.33.30 (version=TLS1_2 cipher=ECDHE-ECDSA-AES128-GCM-SHA256 bits=128/128); Fri, 03 Oct 2025 14:33:30 -0700 (PDT) X-Relaying-Domain: iol.unh.edu Date: Fri, 03 Oct 2025 14:33:30 -0700 (PDT) Message-ID: <68e0412a.d40a0220.1ab21d.b5ebSMTPIN_ADDED_MISSING@mx.google.com> Received: from [172.21.0.2] (unknown [172.18.0.240]) by postal.iol.unh.edu (Postfix) with ESMTP id E2E106050A61; Fri, 3 Oct 2025 17:33:29 -0400 (EDT) Subject: |WARNING| [GIT MASTER] 62f583c49bf67dd4d6733ece14e55fe6839e66d1 From: dpdklab@iol.unh.edu To: Test Report Cc: dpdk-test-reports@iol.unh.edu, Xueming Li , Christian Ehrhardt , Kevin Traynor , Luca Boccassi Content-Type: text/plain X-BeenThere: test-report@dpdk.org X-Mailman-Version: 2.1.29 Precedence: list List-Id: automatic DPDK test reports List-Unsubscribe: , List-Archive: List-Post: List-Help: List-Subscribe: , Errors-To: test-report-bounces@dpdk.org _Testing issues_ Branch: tags/v23.11 62f583c49bf67dd4d6733ece14e55fe6839e66d1 --> testing issues Upstream job id: Generic-Unit-Test-DPDK#378026 Test environment and result as below: +------------------------------+----------------+--------------+---------------------------+------------------------------+ | Environment | dpdk_unit_test | lpm_autotest | cryptodev_sw_zuc_autotest | cryptodev_sw_snow3g_autotest | +==============================+================+==============+===========================+==============================+ | CentOS Stream 9 | PASS | SKIPPED | SKIPPED | SKIPPED | +------------------------------+----------------+--------------+---------------------------+------------------------------+ | CentOS Stream 10 | PASS | SKIPPED | SKIPPED | SKIPPED | +------------------------------+----------------+--------------+---------------------------+------------------------------+ | Debian GNU/Linux 12 | PASS | SKIPPED | SKIPPED | SKIPPED | +------------------------------+----------------+--------------+---------------------------+------------------------------+ | Fedora Linux 42 | PASS | SKIPPED | SKIPPED | SKIPPED | +------------------------------+----------------+--------------+---------------------------+------------------------------+ | Fedora Linux 40 | PASS | SKIPPED | SKIPPED | SKIPPED | +------------------------------+----------------+--------------+---------------------------+------------------------------+ | Fedora Linux 41 | PASS | SKIPPED | SKIPPED | SKIPPED | +------------------------------+----------------+--------------+---------------------------+------------------------------+ | Ubuntu 22.04 | PASS | SKIPPED | SKIPPED | SKIPPED | +------------------------------+----------------+--------------+---------------------------+------------------------------+ | Red Hat Enterprise Linux 9.5 | PASS | SKIPPED | SKIPPED | SKIPPED | +------------------------------+----------------+--------------+---------------------------+------------------------------+ | Ubuntu 20.04 | PASS | PASS | SKIPPED | SKIPPED | +------------------------------+----------------+--------------+---------------------------+------------------------------+ | Ubuntu 24.04 | PASS | SKIPPED | SKIPPED | SKIPPED | +------------------------------+----------------+--------------+---------------------------+------------------------------+ | Debian 12 (arm) | SKIPPED | SKIPPED | PASS | PASS | +------------------------------+----------------+--------------+---------------------------+------------------------------+ CentOS Stream 9 Kernel: 5.4 Compiler: gcc gcc (GCC) 11.5.0 20240719 (Red Hat 11.5.0-11) CentOS Stream 10 Kernel: 5.4 Compiler: gcc gcc (GCC) 14.2.1 20250110 (Red Hat 14.2.1-8) Debian GNU/Linux 12 Kernel: 5.4 Compiler: gcc gcc (Debian 12.2.0-14+deb12u1) 12.2.0 Fedora Linux 42 Kernel: 5.4 Compiler: gcc gcc (GCC) 15.2.1 20250808 (Red Hat 15.2.1-1) Fedora Linux 40 Kernel: 5.4 Compiler: gcc gcc (GCC) 14.2.1 20240912 (Red Hat 14.2.1-3) Fedora Linux 41 Kernel: 5.4 Compiler: gcc gcc (GCC) 14.3.1 20250523 (Red Hat 14.3.1-1) Ubuntu 22.04 Kernel: 5.15 Compiler: gcc gcc (Ubuntu 11.4.0-1ubuntu1~22.04.2) 11.4.0 Red Hat Enterprise Linux 9.5 Kernel: 5.4 Compiler: gcc gcc (GCC) 11.5.0 20240719 (Red Hat 11.5.0-2) Ubuntu 20.04 Kernel: 5.4 Compiler: gcc gcc (Ubuntu 9.4.0-1ubuntu1~20.04.2) 9.4.0 Ubuntu 24.04 Kernel: 5.4 Compiler: gcc gcc (Ubuntu 13.3.0-6ubuntu2~24.04) 13.3.0 Debian 12 (arm) Kernel: Depends on container host Compiler: gcc (Debian 12.2.0-14) 12.2.0 To view detailed results, visit: https://lab.dpdk.org/results/dashboard/tarballs/35090/ UNH-IOL DPDK Community Lab To manage your email subscriptions, visit: https://lab.dpdk.org/results/dashboard/preferences/subscriptions/