From mboxrd@z Thu Jan 1 00:00:00 1970 Return-Path: Received: from mails.dpdk.org (mails.dpdk.org [217.70.189.124]) by inbox.dpdk.org (Postfix) with ESMTP id EAF5D488A3 for ; Fri, 3 Oct 2025 23:45:43 +0200 (CEST) Received: from mails.dpdk.org (localhost [127.0.0.1]) by mails.dpdk.org (Postfix) with ESMTP id C71BE4025D; Fri, 3 Oct 2025 23:45:43 +0200 (CEST) Received: from mail-qv1-f100.google.com (mail-qv1-f100.google.com [209.85.219.100]) by mails.dpdk.org (Postfix) with ESMTP id 04D994025D for ; Fri, 3 Oct 2025 23:45:42 +0200 (CEST) Received: by mail-qv1-f100.google.com with SMTP id 6a1803df08f44-78defc1a2afso40150996d6.2 for ; Fri, 03 Oct 2025 14:45:42 -0700 (PDT) DKIM-Signature: v=1; a=rsa-sha256; c=relaxed/relaxed; d=iol.unh.edu; s=unh-iol; t=1759527942; x=1760132742; darn=dpdk.org; h=references:in-reply-to:cc:to:from:subject:message-id:date:from:to :cc:subject:date:message-id:reply-to; bh=UgR96ilkD6h8gQH8PaKF2im3vKyiOVFHsWAVpmZAWB4=; b=jTxWXvd6TllxlCuAvLcTz/IzWTnIKN7taE+2DDbh5M+8wItdnvICzA8XOb9JJYY18A S5jBx9SsE9l3RiJRF5+Hl+neJZEQxdo1TihaSj48+yDVpD586PGNoX9NwZeQ6UixKxch isG7yY313PqkTSrdLAT8rt2Ka7ccCFRdAve+o= X-Google-DKIM-Signature: v=1; a=rsa-sha256; c=relaxed/relaxed; d=1e100.net; s=20230601; t=1759527942; x=1760132742; h=references:in-reply-to:cc:to:from:subject:message-id:date :x-gm-message-state:from:to:cc:subject:date:message-id:reply-to; bh=UgR96ilkD6h8gQH8PaKF2im3vKyiOVFHsWAVpmZAWB4=; b=CeNz2FYgU5jOT6tlU6uBoshZw/xTeeIcLiDw0lX8crsL8jFR7rzKmGmyLn+bZxr1LL eojdiMUOraZitkm83rUFwt+5zLhNDMsACaJzSxyzEUMEM7otUvir/CVZfeoF6qMDwLpU mrv0Z6BFFtciuFJuU0GoW8wUB8qc+63tfn+AZT8RzwVCbKM25tMj3UofPeFW9Rz4P2bx 74QwX1ojuDxQ8lRKChCjMM5Vhh+ZtyLhZ6GVBwngB2xiYBTCOB6ygKdlGrIXcAj8PKQL SHaaOw2k8PJ4rthvJt9aCQKE1jth90Vs6NPNGY3ta9CqtLrFSBY62WXhG1vAc1lYVaf7 E+bg== X-Gm-Message-State: AOJu0YwYbRmRHx/NxVynzhd7zuN1kKJ4jGolDusef7HnMeslVQsjjzvO xajrtX2Avk1J9q/YUKNKaDHsufZbbuhU/YzRbUS5MdWxoCW2gHMX2ZRkxOkpMRHEX/azt1yimNV UwB6NewcmA07XCC2gfJQkqQX0gMhrhx3ECjH4B4TMo/wf X-Gm-Gg: ASbGncvBOOraATlcR+nx6sREPkTTo2EXJDEV4KBcJG1sT1IazUl9DgRnDbxz2oi3CYN UsVUQ0wAQICFFrDhXPmdS3Bl/9BMOSJBShZWvMeuOl17TmZWOL7e/DJxXisckqRuugRPohRTzwz G7FoXPEENJ/D8F7BrdbwHGt0v+k7oz4278bqd9pGQzaxGMo8funoVgtdzqvsCE+ZhA+O0JJgtX3 D/McdfVhKdbckE80itGbKZqNG1xpiqdbRL6PBz/HWY7JvwaJfPki2bYEF13+KkKidH+ebAmlRi6 uiJsAGSzdJ/hS2EgmkSWDAsr4xlQLBedr2WJFQMzJzxfekWKRvgwvFqqy2bdZBaPUlsFU/duN0x GDw== X-Google-Smtp-Source: AGHT+IF9naTQaI+ebLgkUhkFzPBxXZCKGBg1Ab2KbS+tp12PynSE+YcRIqa2yj/Y5wFuXAHZ8fSC/E1m9Atp X-Received: by 2002:a05:6214:238a:b0:710:9995:ced4 with SMTP id 6a1803df08f44-879dc7c3a5bmr60125276d6.17.1759527942305; Fri, 03 Oct 2025 14:45:42 -0700 (PDT) Received: from postal.iol.unh.edu (postal.iol.unh.edu. [132.177.123.84]) by smtp-relay.gmail.com with ESMTPS id 6a1803df08f44-878bb254292sm4401516d6.10.2025.10.03.14.45.42 (version=TLS1_2 cipher=ECDHE-ECDSA-AES128-GCM-SHA256 bits=128/128); Fri, 03 Oct 2025 14:45:42 -0700 (PDT) X-Relaying-Domain: iol.unh.edu Date: Fri, 03 Oct 2025 14:45:42 -0700 (PDT) Message-ID: <68e04406.d40a0220.9ccd5.a8b1SMTPIN_ADDED_MISSING@mx.google.com> Received: from [172.21.0.2] (unknown [172.18.0.240]) by postal.iol.unh.edu (Postfix) with ESMTP id F23D06050A61; Fri, 3 Oct 2025 17:45:41 -0400 (EDT) Subject: |SUCCESS| pw156994 [PATCH] [v2] app/testpmd: use table ID for jump t From: dpdklab@iol.unh.edu To: Test Report Cc: dpdk-test-reports@iol.unh.edu, Stephen Hemminger In-Reply-To: <20250926123045.3944957-1-akozyrev@nvidia.com> References: <20250926123045.3944957-1-akozyrev@nvidia.com> Content-Type: text/plain X-BeenThere: test-report@dpdk.org X-Mailman-Version: 2.1.29 Precedence: list List-Id: automatic DPDK test reports List-Unsubscribe: , List-Archive: List-Post: List-Help: List-Subscribe: , Errors-To: test-report-bounces@dpdk.org Test-Label: iol-compile-arm64-testing Test-Status: SUCCESS http://dpdk.org/patch/156994 _Testing PASS_ Submitter: Alexander Kozyrev Date: Friday, September 26 2025 12:30:33 DPDK git baseline: Repo:dpdk-next-net Branch: master CommitID:0b58c147385ecd20ebb4e678934536a597902c28 156994 --> testing pass Upstream job id: Generic-DPDK-Compile-Meson#430553 Test environment and result as below: +------------------------------+--------------------+ | Environment | dpdk_meson_compile | +==============================+====================+ | Ubuntu 20.04 | PASS | +------------------------------+--------------------+ | Fedora Linux 42 | PASS | +------------------------------+--------------------+ | CentOS Stream 9 | PASS | +------------------------------+--------------------+ | CentOS Stream 10 | PASS | +------------------------------+--------------------+ | Debian GNU/Linux 12 | PASS | +------------------------------+--------------------+ | Ubuntu 22.04 | PASS | +------------------------------+--------------------+ | Ubuntu 24.04 | PASS | +------------------------------+--------------------+ | Red Hat Enterprise Linux 9.5 | PASS | +------------------------------+--------------------+ Ubuntu 20.04 Kernel: 5.15 Compiler: aarch64-linux-gnu-gcc gcc (Ubuntu 9.4.0-1ubuntu1~20.04.2) 9.4.0 Fedora Linux 42 Kernel: 5.4 Compiler: clang gcc (GCC) 15.2.1 20250808 (Red Hat 15.2.1-1) CentOS Stream 9 Kernel: 5.4 Compiler: gcc gcc (GCC) 11.5.0 20240719 (Red Hat 11.5.0-11) CentOS Stream 10 Kernel: 5.4 Compiler: gcc gcc (GCC) 14.2.1 20250110 (Red Hat 14.2.1-8) Debian GNU/Linux 12 Kernel: 5.4 Compiler: gcc gcc (Debian 12.2.0-14+deb12u1) 12.2.0 Ubuntu 22.04 Kernel: 5.4 Compiler: gcc gcc (Ubuntu 11.4.0-1ubuntu1~22.04) 11.4.0 Ubuntu 24.04 Kernel: 5.4 Compiler: gcc gcc (Ubuntu 13.3.0-6ubuntu2~24.04) 13.3.0 Red Hat Enterprise Linux 9.5 Kernel: 5.4 Compiler: gcc gcc (GCC) 11.5.0 20240719 (Red Hat 11.5.0-2) To view detailed results, visit: https://lab.dpdk.org/results/dashboard/patchsets/34157/ UNH-IOL DPDK Community Lab To manage your email subscriptions, visit: https://lab.dpdk.org/results/dashboard/preferences/subscriptions/