From mboxrd@z Thu Jan 1 00:00:00 1970 Return-Path: Received: from mails.dpdk.org (mails.dpdk.org [217.70.189.124]) by inbox.dpdk.org (Postfix) with ESMTP id DDE6E488A3 for ; Fri, 3 Oct 2025 23:45:54 +0200 (CEST) Received: from mails.dpdk.org (localhost [127.0.0.1]) by mails.dpdk.org (Postfix) with ESMTP id D5B614025D; Fri, 3 Oct 2025 23:45:54 +0200 (CEST) Received: from mail-il1-f225.google.com (mail-il1-f225.google.com [209.85.166.225]) by mails.dpdk.org (Postfix) with ESMTP id 0BDEE4025D for ; Fri, 3 Oct 2025 23:45:54 +0200 (CEST) Received: by mail-il1-f225.google.com with SMTP id e9e14a558f8ab-42f6100475aso3965315ab.1 for ; Fri, 03 Oct 2025 14:45:53 -0700 (PDT) DKIM-Signature: v=1; a=rsa-sha256; c=relaxed/relaxed; d=iol.unh.edu; s=unh-iol; t=1759527953; x=1760132753; darn=dpdk.org; h=references:in-reply-to:cc:to:from:subject:message-id:date:from:to :cc:subject:date:message-id:reply-to; bh=/XkfUOJWQ1z7yzxd8iVPI8oUInktiHUJlAoWp7pAIcA=; b=gBFxCj/BuJexwlEMACgEk5LkUs4YV2+bPVHwzEABT+PnZv+7n6wzBSzLlSiHe8uHzV T0Ogow/66FX+MI5HkE3klEO2RMUdfvz2ERyt6ojBIxeodqJGFblQp6Lb0P0xPzSX7Yxf xNt0cveTB/4RAsCWXxHdD4J6xZKnUobIcNgHI= X-Google-DKIM-Signature: v=1; a=rsa-sha256; c=relaxed/relaxed; d=1e100.net; s=20230601; t=1759527953; x=1760132753; h=references:in-reply-to:cc:to:from:subject:message-id:date :x-gm-message-state:from:to:cc:subject:date:message-id:reply-to; bh=/XkfUOJWQ1z7yzxd8iVPI8oUInktiHUJlAoWp7pAIcA=; b=MCfgL442fhz7WWGvf7UyBdsWHyEJPzl5IzXd0iHWz6hYw5VEADzgCoJcmQEgiCot94 drK08ODNE1tTUwysleWsxV7DsB52JCxFLqm40C+pZtSAcqbmlE/iLUn50sCnh8lJRi+c bA+QaMUhCjz7HRnCS9YLaYWDpCCtVKn96bO7SiGX7y5kZkTQOvDamEgNI3tyW2LcXwnC 3j5gjbTLQBhE2yibMsY0wSBwcnjEQPGb1/oby2RhDZtTH3TNd6KGZdJQddFD5QDGgHv6 pSoDW3hB2k+gWPt6i4P4ReEBbJDrDoLZFL3KJSdvR3CaWq3qar0oXw2uZMtNDwhvCSdb Q0IA== X-Gm-Message-State: AOJu0Yx7ItYsoHcwpLx6OSruOBsrLM241D8WGthXaphGvYHCxJJB/kaR qMr+SdCYMLAfwf//lvTtf7jsk+ke06HPxOAgQlJgb4PS2NOYPC7DAkWeoPOBxswvevzIJw2+zku JMCaOGEwesPnxN0gTWB5A/g88LUY2KN1+2RYi3FA3dH/w X-Gm-Gg: ASbGncsQw4V/uXXhNWbfBgolpjuvky3Vy17yPpqtk6U4PrA+uQ7XI8hOUuWRWaNGKhM tyqHbdEOYtQcgnRElPizxnx3A3cIRwwK3DtvS35+eBFnsgPZ5DHFtOWdu/4/1ZRvuX4T+MHFGpp 0xpLOmiRTD1+Qk/fR6eV6JX9DMppb8QUm8+5iI2Ja9KWS/N7pkG4sY7HVmQiwQm4gXbOYibhBaV cClpNQLupJ3uAP4VrO6GXep4+EJ/BhPAfZNtI3p+0D+sG4eebKlMwnf2K1SL4sEzpsJeU21ggGS IUf1SCBd6gRvWcAsdpLDfV9dsIvQX9AAjVEzBH8zRqk7HqvarCEKvLOFj9yOg1KHz2BhKsG+vxQ V+Q== X-Google-Smtp-Source: AGHT+IFE6v06gsUoThEwNEd3cBqAqWimdClH+mvsyTrtYzL/EvLUyqguM7X3g4O57DD2zSXaIaKj9zIXuX5x X-Received: by 2002:a05:6e02:3c82:b0:42d:7dea:1e04 with SMTP id e9e14a558f8ab-42e7ad9ad29mr57070745ab.25.1759527953349; Fri, 03 Oct 2025 14:45:53 -0700 (PDT) Received: from postal.iol.unh.edu (postal.iol.unh.edu. [132.177.123.84]) by smtp-relay.gmail.com with ESMTPS id e9e14a558f8ab-42d8b201ae4sm4696845ab.8.2025.10.03.14.45.53 (version=TLS1_2 cipher=ECDHE-ECDSA-AES128-GCM-SHA256 bits=128/128); Fri, 03 Oct 2025 14:45:53 -0700 (PDT) X-Relaying-Domain: iol.unh.edu Date: Fri, 03 Oct 2025 14:45:53 -0700 (PDT) Message-ID: <68e04411.050a0220.3850e3.d37fSMTPIN_ADDED_MISSING@mx.google.com> Received: from [172.21.0.4] (unknown [172.18.0.240]) by postal.iol.unh.edu (Postfix) with ESMTP id 0293A6050A61; Fri, 3 Oct 2025 17:45:53 -0400 (EDT) Subject: |SUCCESS| pw156994 [PATCH] [v2] app/testpmd: use table ID for jump t From: dpdklab@iol.unh.edu To: Test Report Cc: dpdk-test-reports@iol.unh.edu, Stephen Hemminger In-Reply-To: <20250926123045.3944957-1-akozyrev@nvidia.com> References: <20250926123045.3944957-1-akozyrev@nvidia.com> Content-Type: text/plain X-BeenThere: test-report@dpdk.org X-Mailman-Version: 2.1.29 Precedence: list List-Id: automatic DPDK test reports List-Unsubscribe: , List-Archive: List-Post: List-Help: List-Subscribe: , Errors-To: test-report-bounces@dpdk.org Test-Label: iol-compile-arm64-testing Test-Status: SUCCESS http://dpdk.org/patch/156994 _Testing PASS_ Submitter: Alexander Kozyrev Date: Friday, September 26 2025 12:30:33 DPDK git baseline: Repo:dpdk-next-net Branch: master CommitID:0b58c147385ecd20ebb4e678934536a597902c28 156994 --> testing pass Upstream job id: Generic-DPDK-Compile-Meson#430555 Test environment and result as below: +------------------------------+--------------------+ | Environment | dpdk_meson_compile | +==============================+====================+ | Ubuntu 20.04 | PASS | +------------------------------+--------------------+ | Fedora Linux 42 | PASS | +------------------------------+--------------------+ | CentOS Stream 9 | PASS | +------------------------------+--------------------+ | CentOS Stream 10 | PASS | +------------------------------+--------------------+ | Debian GNU/Linux 12 | PASS | +------------------------------+--------------------+ | Ubuntu 22.04 | PASS | +------------------------------+--------------------+ | Ubuntu 24.04 | PASS | +------------------------------+--------------------+ | Red Hat Enterprise Linux 9.5 | PASS | +------------------------------+--------------------+ Ubuntu 20.04 Kernel: 5.15 Compiler: aarch64-linux-gnu-gcc gcc (Ubuntu 9.4.0-1ubuntu1~20.04.2) 9.4.0 Fedora Linux 42 Kernel: 5.4 Compiler: clang gcc (GCC) 15.2.1 20250808 (Red Hat 15.2.1-1) CentOS Stream 9 Kernel: 5.4 Compiler: gcc gcc (GCC) 11.5.0 20240719 (Red Hat 11.5.0-11) CentOS Stream 10 Kernel: 5.4 Compiler: gcc gcc (GCC) 14.2.1 20250110 (Red Hat 14.2.1-8) Debian GNU/Linux 12 Kernel: 5.4 Compiler: gcc gcc (Debian 12.2.0-14+deb12u1) 12.2.0 Ubuntu 22.04 Kernel: 5.4 Compiler: gcc gcc (Ubuntu 11.4.0-1ubuntu1~22.04) 11.4.0 Ubuntu 24.04 Kernel: 5.4 Compiler: gcc gcc (Ubuntu 13.3.0-6ubuntu2~24.04) 13.3.0 Red Hat Enterprise Linux 9.5 Kernel: 5.4 Compiler: gcc gcc (GCC) 11.5.0 20240719 (Red Hat 11.5.0-2) To view detailed results, visit: https://lab.dpdk.org/results/dashboard/patchsets/34157/ UNH-IOL DPDK Community Lab To manage your email subscriptions, visit: https://lab.dpdk.org/results/dashboard/preferences/subscriptions/