From mboxrd@z Thu Jan 1 00:00:00 1970 Return-Path: Received: from mails.dpdk.org (mails.dpdk.org [217.70.189.124]) by inbox.dpdk.org (Postfix) with ESMTP id 09D02488A3 for ; Fri, 3 Oct 2025 23:46:11 +0200 (CEST) Received: from mails.dpdk.org (localhost [127.0.0.1]) by mails.dpdk.org (Postfix) with ESMTP id 021AC4025D; Fri, 3 Oct 2025 23:46:11 +0200 (CEST) Received: from mail-io1-f99.google.com (mail-io1-f99.google.com [209.85.166.99]) by mails.dpdk.org (Postfix) with ESMTP id 8F31A4025D for ; Fri, 3 Oct 2025 23:46:08 +0200 (CEST) Received: by mail-io1-f99.google.com with SMTP id ca18e2360f4ac-9399ddb3ffeso202237839f.3 for ; Fri, 03 Oct 2025 14:46:08 -0700 (PDT) DKIM-Signature: v=1; a=rsa-sha256; c=relaxed/relaxed; d=iol.unh.edu; s=unh-iol; t=1759527968; x=1760132768; darn=dpdk.org; h=references:in-reply-to:cc:to:from:subject:message-id:date:from:to :cc:subject:date:message-id:reply-to; bh=xy8vHOSsaoVXTH0egpBz8v1dYILMZ5isuBS4+h/APcg=; b=IPDuRjKOFMXeZAjJLx6GpOJHgYv68b7p3zPV60vrCIM3Ao/6O3/OzkC++MJ/8PcGN9 8EhlTkpI7ySq1TJlejvzwF83Q2xecuZLDA9+6Zdb/DuH+R9O93ZO8Ms3zH2X1LzytvDc kBJUt8dolfOuOp2gnbag1uiK7/KekQ6llP+M8= X-Google-DKIM-Signature: v=1; a=rsa-sha256; c=relaxed/relaxed; d=1e100.net; s=20230601; t=1759527968; x=1760132768; h=references:in-reply-to:cc:to:from:subject:message-id:date :x-gm-message-state:from:to:cc:subject:date:message-id:reply-to; bh=xy8vHOSsaoVXTH0egpBz8v1dYILMZ5isuBS4+h/APcg=; b=YhtO4uPk62Xj3zfIw7XzRcL75NAFBmK/iY4gclKMoaTQx2nb4Wh23qfUTN+6TxbAL8 sl2b28KBKP9hcpmgsQZGOpX2nmvQ75L2+ZK4OZpfWaMrqb2JmQq9N7B/bGIeSmdxdOdv NpWPCr0fhhTNk2qkr0h4wbXrg2Lmhdmv7CKT5chLqnngI54L+FPLTKWlPEk7N07kbC0X BxJlJiBpDBd+Vqne9sMr2M1/uw2x40tsabUelAsPRGkWCKHyjlVtiP0ReqcAEWzLxcSL L66JC3etiFT8iKhVORjnNb4nsG5BTnFbHaJHIz++KoHsLRDYK88MBqBMHJc07xkrdrJN UprA== X-Gm-Message-State: AOJu0YzRtTZUBrPE7VxgTTbjZu04xDk6HANPQam7NFrbKZoqRaKejLS4 AUBsDs80xAS4fXeXfzc2+RmyJub9u4IsvvEG/deJfI6MxpHBbcHcaZJ5W5iCGGsjyo/z2Pw7rCK qB0v2Q8lYcQY2OHLWjUUTj1K8pCbYlXesEwgJvSrobF8/HiLEzXXnmzGV95BS X-Gm-Gg: ASbGncuFkjWqmOWR/kQSgjk8BQqVIC7E/hQ2HeX0C617Hr4R9fNFZyGZ289BSK538jQ cfSpgDhUMjIBKvHvXJEjWbWIIUsOvIP3gjfE48TBxHvwsHwSkiUS6ilMAlp+HOJ4EDPLO+pABHS ksuZL7dXJDidEIst6Fh+CPK4aewWkY04ttXojHsB9fepthP4XDgpfMSm3e6TiW3CJjM9vF8scxz ppChTkgFR+3q/fTMHmw37GipXMdVM0qSD/I6RacqkrT2hOYKF4gZKxTqfOFTwNnKSnQyu8QNFbr Mny8SnD4AV4nC8DgIsSmsOA1F3/hyJXByYt8VdDBFDnAi0N5XriLvSI= X-Google-Smtp-Source: AGHT+IESUg5Awf52ye/E0/eR/3vfkFZFJHrrb5Y4iCJxxOFcse8yurNRiLCDtyD4l7aprI0gXRDM1O7kmkt7 X-Received: by 2002:a05:6e02:3784:b0:424:85b0:e1cb with SMTP id e9e14a558f8ab-42e7adb36cbmr57160155ab.31.1759527967903; Fri, 03 Oct 2025 14:46:07 -0700 (PDT) Received: from postal.iol.unh.edu (postal.iol.unh.edu. [2606:4100:3880:1234::84]) by smtp-relay.gmail.com with ESMTPS id 8926c6da1cb9f-57b5edd266asm416694173.47.2025.10.03.14.46.07 (version=TLS1_2 cipher=ECDHE-ECDSA-AES128-GCM-SHA256 bits=128/128); Fri, 03 Oct 2025 14:46:07 -0700 (PDT) X-Relaying-Domain: iol.unh.edu Date: Fri, 03 Oct 2025 14:46:07 -0700 (PDT) Message-ID: <68e0441f.050a0220.1a9098.8ef4SMTPIN_ADDED_MISSING@mx.google.com> Received: from [172.21.0.2] (unknown [172.18.0.240]) by postal.iol.unh.edu (Postfix) with ESMTP id 94C536050A61; Fri, 3 Oct 2025 17:46:07 -0400 (EDT) Subject: |SUCCESS| pw156994 [PATCH] [v2] app/testpmd: use table ID for jump t From: dpdklab@iol.unh.edu To: Test Report Cc: dpdk-test-reports@iol.unh.edu, Stephen Hemminger In-Reply-To: <20250926123045.3944957-1-akozyrev@nvidia.com> References: <20250926123045.3944957-1-akozyrev@nvidia.com> Content-Type: text/plain X-BeenThere: test-report@dpdk.org X-Mailman-Version: 2.1.29 Precedence: list List-Id: automatic DPDK test reports List-Unsubscribe: , List-Archive: List-Post: List-Help: List-Subscribe: , Errors-To: test-report-bounces@dpdk.org Test-Label: iol-compile-arm64-testing Test-Status: SUCCESS http://dpdk.org/patch/156994 _Testing PASS_ Submitter: Alexander Kozyrev Date: Friday, September 26 2025 12:30:33 DPDK git baseline: Repo:dpdk-next-net Branch: master CommitID:0b58c147385ecd20ebb4e678934536a597902c28 156994 --> testing pass Upstream job id: Generic-DPDK-Compile-Meson#430552 Test environment and result as below: +------------------------------+--------------------+ | Environment | dpdk_meson_compile | +==============================+====================+ | Ubuntu 20.04 | PASS | +------------------------------+--------------------+ | Fedora Linux 42 | PASS | +------------------------------+--------------------+ | CentOS Stream 9 | PASS | +------------------------------+--------------------+ | CentOS Stream 10 | PASS | +------------------------------+--------------------+ | Debian GNU/Linux 12 | PASS | +------------------------------+--------------------+ | Ubuntu 22.04 | PASS | +------------------------------+--------------------+ | Ubuntu 24.04 | PASS | +------------------------------+--------------------+ | Red Hat Enterprise Linux 9.5 | PASS | +------------------------------+--------------------+ Ubuntu 20.04 Kernel: 5.15 Compiler: aarch64-linux-gnu-gcc gcc (Ubuntu 9.4.0-1ubuntu1~20.04.2) 9.4.0 Fedora Linux 42 Kernel: 5.4 Compiler: clang gcc (GCC) 15.2.1 20250808 (Red Hat 15.2.1-1) CentOS Stream 9 Kernel: 5.4 Compiler: gcc gcc (GCC) 11.5.0 20240719 (Red Hat 11.5.0-11) CentOS Stream 10 Kernel: 5.4 Compiler: gcc gcc (GCC) 14.2.1 20250110 (Red Hat 14.2.1-8) Debian GNU/Linux 12 Kernel: 5.4 Compiler: gcc gcc (Debian 12.2.0-14+deb12u1) 12.2.0 Ubuntu 22.04 Kernel: 5.4 Compiler: gcc gcc (Ubuntu 11.4.0-1ubuntu1~22.04) 11.4.0 Ubuntu 24.04 Kernel: 5.4 Compiler: gcc gcc (Ubuntu 13.3.0-6ubuntu2~24.04) 13.3.0 Red Hat Enterprise Linux 9.5 Kernel: 5.4 Compiler: gcc gcc (GCC) 11.5.0 20240719 (Red Hat 11.5.0-2) To view detailed results, visit: https://lab.dpdk.org/results/dashboard/patchsets/34157/ UNH-IOL DPDK Community Lab To manage your email subscriptions, visit: https://lab.dpdk.org/results/dashboard/preferences/subscriptions/