From mboxrd@z Thu Jan 1 00:00:00 1970 Return-Path: Received: from mails.dpdk.org (mails.dpdk.org [217.70.189.124]) by inbox.dpdk.org (Postfix) with ESMTP id 16443488A3 for ; Fri, 3 Oct 2025 23:46:17 +0200 (CEST) Received: from mails.dpdk.org (localhost [127.0.0.1]) by mails.dpdk.org (Postfix) with ESMTP id 1012E4025D; Fri, 3 Oct 2025 23:46:17 +0200 (CEST) Received: from mail-pg1-f228.google.com (mail-pg1-f228.google.com [209.85.215.228]) by mails.dpdk.org (Postfix) with ESMTP id 608F84025D for ; Fri, 3 Oct 2025 23:46:16 +0200 (CEST) Received: by mail-pg1-f228.google.com with SMTP id 41be03b00d2f7-b6271ea3a6fso1277796a12.0 for ; Fri, 03 Oct 2025 14:46:16 -0700 (PDT) DKIM-Signature: v=1; a=rsa-sha256; c=relaxed/relaxed; d=iol.unh.edu; s=unh-iol; t=1759527975; x=1760132775; darn=dpdk.org; h=references:in-reply-to:cc:to:from:subject:message-id:date:from:to :cc:subject:date:message-id:reply-to; bh=1s6TSsaCcH99enZ1V6ibqiZTxBGdcdr2D9p7UV216ek=; b=KreQ7xh6heiylTk8ykELhyk20xjjDtlknFhD5nHfIPZHzOKnosro3W9tbY0hoJXvr8 KKLG9dbKnO02ydVom0t6kc+eTcT88k7o4ZvbuRCp15Jj6FUHYstB2gsyPc0mprV9OpGv IymmhLDYaoU/XiSYh4fWHk0r52Nh2VnaZCDYA= X-Google-DKIM-Signature: v=1; a=rsa-sha256; c=relaxed/relaxed; d=1e100.net; s=20230601; t=1759527975; x=1760132775; h=references:in-reply-to:cc:to:from:subject:message-id:date :x-gm-message-state:from:to:cc:subject:date:message-id:reply-to; bh=1s6TSsaCcH99enZ1V6ibqiZTxBGdcdr2D9p7UV216ek=; b=hwG0Ste7i4FZq/NbnwU05v+ihXpe5g5eZDM986/XnU/13vMWStn8xlELHuBRKUM687 A4D1Lhoox/FPMMOQMPPehcWkGpfHi9qw4lEfVVHsmXT7JaoPWWHx6e8wKXyHFQ+zJUUf qDu4kLGh9PGkO3gIYsZkTC/BDhiGtgmyf6e5UrH5B8ywscHXfPOVtJp8a8JDOyVTYh/u tSILT5AyFHWqgQF5vvVFLjXGUFQri226qJFyvhZfMH/igBZDo4XjAqNKeP3JwWL06kP+ LQ6wmBm7hueu/3dltlNt/uE5uQ4VfkKdFGczKXM0u31onYm5/0j4uQu3Qc+qrFAj6xou uolw== X-Gm-Message-State: AOJu0YzjlAMgW3LdSyM+vuW9HZ/RLXIHq6s3zgGCIHpWMp/Pf2WijkWC dYsCvJJ4PQbr4mnvo+qUWMjI86nE7yC1ZMP4lObojnstYI/zJb9GvfkFpWn+1J2rHhe0IJBOToe jBmp17fm/OGGTwzmacnMW/7MdWmrSibWzftEmwNcqioM/ X-Gm-Gg: ASbGncsPCxGgWN+FqKZUy6vIzNhJdr6lcuf80d9IxD+Jg4t7hW1LlXhS7nLXtt/cktf UruXnemqNJAs0j+7IHjKeFb4ycMMdkcicslCatVUpETHni5yuwxGns5yHLcsGkVXvLbnu110w6Y Qu3tXkHbCg8bfuJEIbfbCn1H3DUfBkNOjdMhmbgvHfqQeAE4HuQTiRy1JY89T6YQXqvBDRPjryd LTfRbpYYFz3V5GVtwQ9Jr+oM1RNiQ2La0LCaUu7wS4v9V9o/ajqrXtHHcYz3xazIOxR9SRJUm6T RAprSP4oCqF7r9tChvTI9dlRh5ngqCjjBKiFbq7MiVC1gxESeNkskhAp5JflQSNN5RndCSLLwcA dSA== X-Google-Smtp-Source: AGHT+IFEr2BUKR6KAAoRn+g6hzPzQHfFIFRElS466fjlG+aqappRpUW2p09a5BthDjhdChbQGU/TlE3qjzuN X-Received: by 2002:a17:902:b785:b0:28e:7e7e:fb6f with SMTP id d9443c01a7336-28e9a546377mr33848895ad.10.1759527975446; Fri, 03 Oct 2025 14:46:15 -0700 (PDT) Received: from postal.iol.unh.edu (postal.iol.unh.edu. [132.177.123.84]) by smtp-relay.gmail.com with ESMTPS id d9443c01a7336-28e8d10a785sm4261305ad.8.2025.10.03.14.46.15 (version=TLS1_2 cipher=ECDHE-ECDSA-AES128-GCM-SHA256 bits=128/128); Fri, 03 Oct 2025 14:46:15 -0700 (PDT) X-Relaying-Domain: iol.unh.edu Date: Fri, 03 Oct 2025 14:46:15 -0700 (PDT) Message-ID: <68e04427.170a0220.813c2.9f36SMTPIN_ADDED_MISSING@mx.google.com> Received: from [172.21.0.2] (unknown [172.18.0.240]) by postal.iol.unh.edu (Postfix) with ESMTP id E74ED6050A61; Fri, 3 Oct 2025 17:46:14 -0400 (EDT) Subject: |SUCCESS| pw157004-157005 [PATCH] [v2,2/2] crypto/ipsec-mb: use cons From: dpdklab@iol.unh.edu To: Test Report Cc: dpdk-test-reports@iol.unh.edu In-Reply-To: <20250926154905.54416-2-kai.ji@intel.com> References: <20250926154905.54416-2-kai.ji@intel.com> Content-Type: text/plain X-BeenThere: test-report@dpdk.org X-Mailman-Version: 2.1.29 Precedence: list List-Id: automatic DPDK test reports List-Unsubscribe: , List-Archive: List-Post: List-Help: List-Subscribe: , Errors-To: test-report-bounces@dpdk.org Test-Label: iol-compile-arm64-testing Test-Status: SUCCESS http://dpdk.org/patch/157005 _Testing PASS_ Submitter: Kai Ji Date: Friday, September 26 2025 15:49:05 DPDK git baseline: Repo:dpdk Branch: master CommitID:1d627ea13aeec2bcccf27246e6be2508370d171e 157004-157005 --> testing pass Upstream job id: Generic-DPDK-Compile-Meson#430540 Test environment and result as below: +------------------------------+--------------------+ | Environment | dpdk_meson_compile | +==============================+====================+ | Ubuntu 22.04 | PASS | +------------------------------+--------------------+ | Red Hat Enterprise Linux 9.5 | PASS | +------------------------------+--------------------+ | Ubuntu 20.04 | PASS | +------------------------------+--------------------+ | Debian GNU/Linux 12 | PASS | +------------------------------+--------------------+ | CentOS Stream 10 | PASS | +------------------------------+--------------------+ | Ubuntu 24.04 | PASS | +------------------------------+--------------------+ | CentOS Stream 9 | PASS | +------------------------------+--------------------+ | Fedora Linux 42 | PASS | +------------------------------+--------------------+ Ubuntu 22.04 Kernel: 5.4 Compiler: gcc gcc (Ubuntu 11.4.0-1ubuntu1~22.04) 11.4.0 Red Hat Enterprise Linux 9.5 Kernel: 5.4 Compiler: gcc gcc (GCC) 11.5.0 20240719 (Red Hat 11.5.0-2) Ubuntu 20.04 Kernel: 5.15 Compiler: aarch64-linux-gnu-gcc gcc (Ubuntu 9.4.0-1ubuntu1~20.04.2) 9.4.0 Debian GNU/Linux 12 Kernel: 5.4 Compiler: gcc gcc (Debian 12.2.0-14+deb12u1) 12.2.0 CentOS Stream 10 Kernel: 5.4 Compiler: gcc gcc (GCC) 14.2.1 20250110 (Red Hat 14.2.1-8) Ubuntu 24.04 Kernel: 5.4 Compiler: gcc gcc (Ubuntu 13.3.0-6ubuntu2~24.04) 13.3.0 CentOS Stream 9 Kernel: 5.4 Compiler: gcc gcc (GCC) 11.5.0 20240719 (Red Hat 11.5.0-11) Fedora Linux 42 Kernel: 5.4 Compiler: clang gcc (GCC) 15.2.1 20250808 (Red Hat 15.2.1-1) To view detailed results, visit: https://lab.dpdk.org/results/dashboard/patchsets/34159/ UNH-IOL DPDK Community Lab To manage your email subscriptions, visit: https://lab.dpdk.org/results/dashboard/preferences/subscriptions/