From mboxrd@z Thu Jan 1 00:00:00 1970 Return-Path: Received: from mails.dpdk.org (mails.dpdk.org [217.70.189.124]) by inbox.dpdk.org (Postfix) with ESMTP id 32E9C488A3 for ; Fri, 3 Oct 2025 23:46:40 +0200 (CEST) Received: from mails.dpdk.org (localhost [127.0.0.1]) by mails.dpdk.org (Postfix) with ESMTP id 29E4E4025D; Fri, 3 Oct 2025 23:46:40 +0200 (CEST) Received: from mail-il1-f227.google.com (mail-il1-f227.google.com [209.85.166.227]) by mails.dpdk.org (Postfix) with ESMTP id BB62B4025D for ; Fri, 3 Oct 2025 23:46:38 +0200 (CEST) Received: by mail-il1-f227.google.com with SMTP id e9e14a558f8ab-42e7b22e007so6458365ab.3 for ; Fri, 03 Oct 2025 14:46:38 -0700 (PDT) DKIM-Signature: v=1; a=rsa-sha256; c=relaxed/relaxed; d=iol.unh.edu; s=unh-iol; t=1759527998; x=1760132798; darn=dpdk.org; h=references:in-reply-to:cc:to:from:subject:message-id:date:from:to :cc:subject:date:message-id:reply-to; bh=2115bzCzz5A58jo73ioahgJA3De7WhTEgk2rRYdyMVg=; b=YfjnKJJi3YF4Cb3wG/nQWWrKOUFIPXW8d7ML7Mr4EaG8E+ht/8cUh9yyl7o9D3Dcjc XHJ/Iacj81t0sLyVYNDo+PY2uRXBSL+qyp4fHnySHrD44Ng4k+pw2dLJHdiXzD2+cwQG O1apKrHIfSRHvPhDufK4modSrnVyAfTpYosyc= X-Google-DKIM-Signature: v=1; a=rsa-sha256; c=relaxed/relaxed; d=1e100.net; s=20230601; t=1759527998; x=1760132798; h=references:in-reply-to:cc:to:from:subject:message-id:date :x-gm-message-state:from:to:cc:subject:date:message-id:reply-to; bh=2115bzCzz5A58jo73ioahgJA3De7WhTEgk2rRYdyMVg=; b=c3XFeOtHP3DY5aFp71QApj0obRTEF7/qzDbVZ/KT5JGaWUgecqyRlIvuSjv16G+4+3 +Cj8eDnbNIGNZhpScLyw1HOM+zu9qzE+m/EXvnuBqAtJCRaUNXlUbhbdn5epQlyfwnqc 0thyDWR25xS7UrN7r6XUs16lsmpH9BC0QaZDQ49tFi65XWYdxZMxDHMS+m2dOSbOoEv4 zu9swghml4DhARvmEMqnwI1wvjoTQTwu8xDeiga8StGj3MI8EfPtHk0exSKD9UzsjZrs XqfCYylb31F8qHRKKYRXDsYYFiJOT1V1Lp9GVpg5/4HTnDICerAJTLm4RWBAjU++vHRy 3OmA== X-Gm-Message-State: AOJu0YzWtOvFnTTC0UCiK40jTbXFRiU/ay/0TeszFlDhJJCP4Ujep/gh LVsAMuqjmqpXI5Hf0jsA7W2IvWoTjm+qc9MB4/c0Hyky9BoZuPleGWCHGnxEFUFhy2H9eCIuR59 0GZ2Nz3t3ZTnDAW89Y77ZuppsbDbDw90rUlI0SaDmwmJsMgeQbVgUkcOoqe9c X-Gm-Gg: ASbGncvJc+u/DSAU5SJ3GqGOcVYQcgb07Dcy8Q/UKBQ0elz4bnWb02ywRDmCFNBhUu7 44pT/n4J1dXjie6JkBiNUMGBb4BOGmB1tpQcKEfBo022g/UykCS1+JQWekxo0qwsdwWyO0WX24c Mx5pmMr/pu7sNEFeJXMi5Mjxp/3icg/jzmrZ9H3vbdpoKrnqR+uUmov/LtdtqlKMr8m/dcKs+4Z vtQR6u7zxx1zE8sDV9y0GrILllWCP0kFDbTZ9ytbwQx/LycfBa6wFa8JpjFN/J2u6URZ6uBr73c x8hwhic+vqIRrl/8W6nGs7yrHtItpUp5PsMF4ujoNSBvYIWeO5hwSwM= X-Google-Smtp-Source: AGHT+IF5dJrpuXT2IwsmV5mjizmH2MmAbuMglDuFGe7Tq3F+NdTUz0ARplLAkGC9AKTwPswaLtQYyJiWKsjJ X-Received: by 2002:a05:6e02:16c9:b0:42e:d95:b9e2 with SMTP id e9e14a558f8ab-42e7adadbd7mr57872765ab.25.1759527998121; Fri, 03 Oct 2025 14:46:38 -0700 (PDT) Received: from postal.iol.unh.edu (postal.iol.unh.edu. [2606:4100:3880:1234::84]) by smtp-relay.gmail.com with ESMTPS id 8926c6da1cb9f-57dc158016dsm84220173.21.2025.10.03.14.46.38 (version=TLS1_2 cipher=ECDHE-ECDSA-AES128-GCM-SHA256 bits=128/128); Fri, 03 Oct 2025 14:46:38 -0700 (PDT) X-Relaying-Domain: iol.unh.edu Date: Fri, 03 Oct 2025 14:46:38 -0700 (PDT) Message-ID: <68e0443e.050a0220.254de3.5071SMTPIN_ADDED_MISSING@mx.google.com> Received: from [172.21.0.2] (unknown [172.18.0.240]) by postal.iol.unh.edu (Postfix) with ESMTP id B22E16050A61; Fri, 3 Oct 2025 17:46:37 -0400 (EDT) Subject: |SUCCESS| pw157004-157005 [PATCH] [v2,2/2] crypto/ipsec-mb: use cons From: dpdklab@iol.unh.edu To: Test Report Cc: dpdk-test-reports@iol.unh.edu In-Reply-To: <20250926154905.54416-2-kai.ji@intel.com> References: <20250926154905.54416-2-kai.ji@intel.com> Content-Type: text/plain X-BeenThere: test-report@dpdk.org X-Mailman-Version: 2.1.29 Precedence: list List-Id: automatic DPDK test reports List-Unsubscribe: , List-Archive: List-Post: List-Help: List-Subscribe: , Errors-To: test-report-bounces@dpdk.org Test-Label: iol-compile-arm64-testing Test-Status: SUCCESS http://dpdk.org/patch/157005 _Testing PASS_ Submitter: Kai Ji Date: Friday, September 26 2025 15:49:05 DPDK git baseline: Repo:dpdk Branch: master CommitID:1d627ea13aeec2bcccf27246e6be2508370d171e 157004-157005 --> testing pass Upstream job id: Generic-DPDK-Compile-Meson#430539 Test environment and result as below: +------------------------------+--------------------+ | Environment | dpdk_meson_compile | +==============================+====================+ | Ubuntu 22.04 | PASS | +------------------------------+--------------------+ | Red Hat Enterprise Linux 9.5 | PASS | +------------------------------+--------------------+ | Ubuntu 20.04 | PASS | +------------------------------+--------------------+ | Debian GNU/Linux 12 | PASS | +------------------------------+--------------------+ | CentOS Stream 10 | PASS | +------------------------------+--------------------+ | Ubuntu 24.04 | PASS | +------------------------------+--------------------+ | CentOS Stream 9 | PASS | +------------------------------+--------------------+ | Fedora Linux 42 | PASS | +------------------------------+--------------------+ Ubuntu 22.04 Kernel: 5.4 Compiler: gcc gcc (Ubuntu 11.4.0-1ubuntu1~22.04) 11.4.0 Red Hat Enterprise Linux 9.5 Kernel: 5.4 Compiler: gcc gcc (GCC) 11.5.0 20240719 (Red Hat 11.5.0-2) Ubuntu 20.04 Kernel: 5.15 Compiler: aarch64-linux-gnu-gcc gcc (Ubuntu 9.4.0-1ubuntu1~20.04.2) 9.4.0 Debian GNU/Linux 12 Kernel: 5.4 Compiler: gcc gcc (Debian 12.2.0-14+deb12u1) 12.2.0 CentOS Stream 10 Kernel: 5.4 Compiler: gcc gcc (GCC) 14.2.1 20250110 (Red Hat 14.2.1-8) Ubuntu 24.04 Kernel: 5.4 Compiler: gcc gcc (Ubuntu 13.3.0-6ubuntu2~24.04) 13.3.0 CentOS Stream 9 Kernel: 5.4 Compiler: gcc gcc (GCC) 11.5.0 20240719 (Red Hat 11.5.0-11) Fedora Linux 42 Kernel: 5.4 Compiler: clang gcc (GCC) 15.2.1 20250808 (Red Hat 15.2.1-1) To view detailed results, visit: https://lab.dpdk.org/results/dashboard/patchsets/34159/ UNH-IOL DPDK Community Lab To manage your email subscriptions, visit: https://lab.dpdk.org/results/dashboard/preferences/subscriptions/