From mboxrd@z Thu Jan 1 00:00:00 1970 Return-Path: Received: from mails.dpdk.org (mails.dpdk.org [217.70.189.124]) by inbox.dpdk.org (Postfix) with ESMTP id 9CF3A488A3 for ; Fri, 3 Oct 2025 23:50:24 +0200 (CEST) Received: from mails.dpdk.org (localhost [127.0.0.1]) by mails.dpdk.org (Postfix) with ESMTP id 846894025D; Fri, 3 Oct 2025 23:50:24 +0200 (CEST) Received: from mail-il1-f225.google.com (mail-il1-f225.google.com [209.85.166.225]) by mails.dpdk.org (Postfix) with ESMTP id D56744025D for ; Fri, 3 Oct 2025 23:50:23 +0200 (CEST) Received: by mail-il1-f225.google.com with SMTP id e9e14a558f8ab-42b99565146so15923845ab.1 for ; Fri, 03 Oct 2025 14:50:23 -0700 (PDT) DKIM-Signature: v=1; a=rsa-sha256; c=relaxed/relaxed; d=iol.unh.edu; s=unh-iol; t=1759528223; x=1760133023; darn=dpdk.org; h=references:in-reply-to:cc:to:from:subject:message-id:date:from:to :cc:subject:date:message-id:reply-to; bh=PFjPBwk9LbyT8o8YG2k9hJorBj+nHmKyIBArEmESqUw=; b=ahJJ+Y5YW73GBbkGKX4ntTtR6RzoKIvT5je+BWvKZFl6WkoO6N/BWUOS2qLpT/Hu/W jEFyNP+AduwnySfW3VZdM8GzbRmyTuvCdQznjMW09coDwft8uY1txkQPqpwn3aVnjXzc lveVINbVRF/7AoNbrt81VXXeSYA7qyizqglLQ= X-Google-DKIM-Signature: v=1; a=rsa-sha256; c=relaxed/relaxed; d=1e100.net; s=20230601; t=1759528223; x=1760133023; h=references:in-reply-to:cc:to:from:subject:message-id:date :x-gm-message-state:from:to:cc:subject:date:message-id:reply-to; bh=PFjPBwk9LbyT8o8YG2k9hJorBj+nHmKyIBArEmESqUw=; b=sg76yL/sx+VGIQLV7eOJPDROuDhxQH9baRUPF9fNkEqGUyEMC85sOSWypqd7xNc05m 7boXmaSjBeS4Ukd7CLPgLIEwA0bsdX9CAytZ+Dw9MBiDEadvWTkJpW0+TkCkVb9JiY6T b/DxtbMrprTnCcvpJbiqpGQwashGvRy0kXqecvEhtVtgeXG+iG9YpVCQnAiCpq3wvVJi 1PznCW0w/SjT4T6lQXoEJ5Rg8UiG3oCHt7XAFKSENCjeohElkfpSCiWiE+8G7zzGFUIB r7A/ku74e1pxH83KBttH+PmVwH9yzmjvhyc4rprf4DjY+Olc7hJIYIENM4cGn2Nn1biK uMrA== X-Gm-Message-State: AOJu0YxQu82E8s+nvS4+AUPkpdFrOahhH0mSFasDEJ4SOLZ/0RmMwwzP L5BF3SmnVBEFQg7G3fRGXO43mmf1fhpV4FL2aqmMu26M5Tqi57tOEiLCBIpWgHxKIICrc8oi8PG aBI+2wassW4UEKGE8FUAv14G3qR+CVlLkZJxVRaBxz/gw1pSes4ZyYnIupzON X-Gm-Gg: ASbGncv2pT6rXSVwHZeYHS3Qh7dOcuHs1bNxo0ZUnotnohk7L5Q/NqhXiUwmC6Zg0tH 1lib5oOyY0RXY4F3qac5dORi+s1mT60xjg1Yiax1nnJx4SNfLXIjHl5xIV7dWz8sT9ud77roJ8B QorENMcuOBrDffEcOA9HLzi8GtTt7pJGL/ux7s0P8K0Nappr86jol8Mtp8XimX4FSrVJyf+yCnS 1zsKpooyzdhL4VpUx6GlZDqwurvJX+g9Z0jIiOhKEZDLLsVGHvt0hATX8ByOMnh9QXkzFxu2O+y f6k+V9xjCrLxQjS3uKfwb0xPOpOXAwebS0EGi+x3XF7f1XRqvgS8NA0= X-Google-Smtp-Source: AGHT+IG/FZaby14Q4KShS3JK3ZPQaYfuuaiQedYU/FCVR+4A31Zt65X06XMFnlzo85+qecVQbOMul3ST6Pzq X-Received: by 2002:a05:6e02:1d94:b0:42d:83cf:7eba with SMTP id e9e14a558f8ab-42e7b0be465mr55077515ab.0.1759528223181; Fri, 03 Oct 2025 14:50:23 -0700 (PDT) Received: from postal.iol.unh.edu (postal.iol.unh.edu. [2606:4100:3880:1234::84]) by smtp-relay.gmail.com with ESMTPS id e9e14a558f8ab-42d8b211183sm4636855ab.12.2025.10.03.14.50.23 (version=TLS1_2 cipher=ECDHE-ECDSA-AES128-GCM-SHA256 bits=128/128); Fri, 03 Oct 2025 14:50:23 -0700 (PDT) X-Relaying-Domain: iol.unh.edu Date: Fri, 03 Oct 2025 14:50:23 -0700 (PDT) Message-ID: <68e0451f.050a0220.3d7e48.ba24SMTPIN_ADDED_MISSING@mx.google.com> Received: from [172.21.0.4] (unknown [172.18.0.240]) by postal.iol.unh.edu (Postfix) with ESMTP id BEC6A6050A61; Fri, 3 Oct 2025 17:50:22 -0400 (EDT) Subject: |SUCCESS| pw157151-157155 [PATCH] [v3,5/5] usertools/mbuf: parse mbu From: dpdklab@iol.unh.edu To: Test Report Cc: dpdk-test-reports@iol.unh.edu In-Reply-To: <20250930233828.3999565-6-thomas@monjalon.net> References: <20250930233828.3999565-6-thomas@monjalon.net> Content-Type: text/plain X-BeenThere: test-report@dpdk.org X-Mailman-Version: 2.1.29 Precedence: list List-Id: automatic DPDK test reports List-Unsubscribe: , List-Archive: List-Post: List-Help: List-Subscribe: , Errors-To: test-report-bounces@dpdk.org Test-Label: iol-compile-arm64-testing Test-Status: SUCCESS http://dpdk.org/patch/157155 _Testing PASS_ Submitter: Thomas Monjalon Date: Tuesday, September 30 2025 23:25:06 DPDK git baseline: Repo:dpdk Branch: master CommitID:f3878b615e69a12087a6c5d212723478cfc79c31 157151-157155 --> testing pass Upstream job id: Generic-DPDK-Compile-Meson#430576 Test environment and result as below: +------------------------------+--------------------+ | Environment | dpdk_meson_compile | +==============================+====================+ | Red Hat Enterprise Linux 9.5 | PASS | +------------------------------+--------------------+ | Ubuntu 20.04 | PASS | +------------------------------+--------------------+ | Debian GNU/Linux 12 | PASS | +------------------------------+--------------------+ | Fedora Linux 42 | PASS | +------------------------------+--------------------+ | Ubuntu 22.04 | PASS | +------------------------------+--------------------+ | Ubuntu 24.04 | PASS | +------------------------------+--------------------+ | CentOS Stream 10 | PASS | +------------------------------+--------------------+ | CentOS Stream 9 | PASS | +------------------------------+--------------------+ Red Hat Enterprise Linux 9.5 Kernel: 5.4 Compiler: gcc gcc (GCC) 11.5.0 20240719 (Red Hat 11.5.0-2) Ubuntu 20.04 Kernel: 5.15 Compiler: aarch64-linux-gnu-gcc gcc (Ubuntu 9.4.0-1ubuntu1~20.04.2) 9.4.0 Debian GNU/Linux 12 Kernel: 5.4 Compiler: gcc gcc (Debian 12.2.0-14+deb12u1) 12.2.0 Fedora Linux 42 Kernel: 5.4 Compiler: gcc gcc (GCC) 15.2.1 20250808 (Red Hat 15.2.1-1) Ubuntu 22.04 Kernel: 5.4 Compiler: gcc gcc (Ubuntu 11.4.0-1ubuntu1~22.04) 11.4.0 Ubuntu 24.04 Kernel: 5.4 Compiler: gcc gcc (Ubuntu 13.3.0-6ubuntu2~24.04) 13.3.0 CentOS Stream 10 Kernel: 5.4 Compiler: gcc gcc (GCC) 14.2.1 20250110 (Red Hat 14.2.1-8) CentOS Stream 9 Kernel: 5.4 Compiler: gcc gcc (GCC) 11.5.0 20240719 (Red Hat 11.5.0-11) To view detailed results, visit: https://lab.dpdk.org/results/dashboard/patchsets/34187/ UNH-IOL DPDK Community Lab To manage your email subscriptions, visit: https://lab.dpdk.org/results/dashboard/preferences/subscriptions/