From mboxrd@z Thu Jan 1 00:00:00 1970 Return-Path: Received: from mails.dpdk.org (mails.dpdk.org [217.70.189.124]) by inbox.dpdk.org (Postfix) with ESMTP id 37F78488A3 for ; Fri, 3 Oct 2025 23:57:12 +0200 (CEST) Received: from mails.dpdk.org (localhost [127.0.0.1]) by mails.dpdk.org (Postfix) with ESMTP id 1A6F64025D; Fri, 3 Oct 2025 23:57:12 +0200 (CEST) Received: from mail-qv1-f97.google.com (mail-qv1-f97.google.com [209.85.219.97]) by mails.dpdk.org (Postfix) with ESMTP id 525944025D for ; Fri, 3 Oct 2025 23:57:11 +0200 (CEST) Received: by mail-qv1-f97.google.com with SMTP id 6a1803df08f44-7f7835f4478so20182756d6.1 for ; Fri, 03 Oct 2025 14:57:11 -0700 (PDT) DKIM-Signature: v=1; a=rsa-sha256; c=relaxed/relaxed; d=iol.unh.edu; s=unh-iol; t=1759528630; x=1760133430; darn=dpdk.org; h=cc:to:from:subject:message-id:date:from:to:cc:subject:date :message-id:reply-to; bh=qEq9YEIgtv8bZp5nIsqYGng/MDcYEMLD2li+keIEYkA=; b=QDXRWf8Ve0746pIRWW4P+M1Tja+ciqGlGWl5/6yDcU5JdL6ERRix8jgRuTg8Cwk6lc 38re5yxfN445st4ECGZ0kHhQB5O9+rm1flAijqbuTX/GDz5kcv6wZroaj5r1ZEJs4gZc WLV4a6lquDbvb13UlDd3A2QBZ8lC2FjYDeA1I= X-Google-DKIM-Signature: v=1; a=rsa-sha256; c=relaxed/relaxed; d=1e100.net; s=20230601; t=1759528630; x=1760133430; h=cc:to:from:subject:message-id:date:x-gm-message-state:from:to:cc :subject:date:message-id:reply-to; bh=qEq9YEIgtv8bZp5nIsqYGng/MDcYEMLD2li+keIEYkA=; b=TsJudsnVfMXD9MuhxnzwaNtdk0R0zte2V0RzuNRwmHNYtUaQxt3v+lUGmuz5H4q8OA dk2PHlQQAtOGwDY3pnPFysxVSjxdnJEbSCUuh2CTv1MKCvsLL7eAVA8sPzXpXlRuS9Gw /se5CUGa9YlQU8hSmnkygcy7Vmcp/t+hy27FH6WXNi6AmjDOZb+7POX5gijFnOeITfw5 8dGijNK/DAG0xW/2QZziP3PNkhqjpTNuwSqxRBP4VICp8hgP7t5Ay4RIp/ziTep8OIZ6 GCQlEySV7CBz+mHe3jDaMBaNtKyGh7nC2ksdzaD6xVE5r27f/HjLOEZLoLotFJfaXWE9 LVIA== X-Gm-Message-State: AOJu0YzVGeHhblACLMDGTOPmT1UZNJLWtcwI9rVhMYaF9WHwzFFXr+Ul T/kPuc7rxy+UaQPgI7yJ+favhT5H2Z7hDgrN9RSVbiEaIq0MIiqPXhVQqSjfGrqVTVBXu5KbAjg +jHEC06Z0xeppVfh+mvvE6Dd2Za/zb1XMBva4RJL+pJHcwPNe8fsxE48nOoGf X-Gm-Gg: ASbGncucUsdFTUG4pSjx1aJ9H0X4wQmhGorsvTiJziHfH0fgGPKsd672Yqxci1nBoTQ L8nUf8DsQecH+FO4W5xjj2w9mPb8HKQS1IGiYgvnIZaIfT23SL5QrRdWeKafsSBAyQVCfVRFnld LP6rM8M0eaF1cu2l5z18mqW5d/Ead4pVajzq8+8BXVxtcH9e5sFmKfN5c07zijvG1zOXn7FhnkE cDdz2xZITr2ade7Oeugc3AN559/dmJHXoPtysoCQXFvFRYJk2OBq4vKIctSsw9TpRIeRGTjVdmi nxzvs4jqaiYHNv60LSYwAm69efg/mHXPQ/ECXE8G8P0Gqtz/ES8eLxo= X-Google-Smtp-Source: AGHT+IEVYLkAKqvue1hMlzLD3pNRxK7fVF0l7w+PzKyQIdBq71jBgvHZ8hDx8rHMd73LbOhJdr8Nb9CG9w+M X-Received: by 2002:a05:6214:2466:b0:820:8fa6:130e with SMTP id 6a1803df08f44-879dc6aecb1mr59301886d6.0.1759528630472; Fri, 03 Oct 2025 14:57:10 -0700 (PDT) Received: from postal.iol.unh.edu (postal.iol.unh.edu. [2606:4100:3880:1234::84]) by smtp-relay.gmail.com with ESMTPS id 6a1803df08f44-878bda73819sm4472976d6.25.2025.10.03.14.57.10 (version=TLS1_2 cipher=ECDHE-ECDSA-AES128-GCM-SHA256 bits=128/128); Fri, 03 Oct 2025 14:57:10 -0700 (PDT) X-Relaying-Domain: iol.unh.edu Date: Fri, 03 Oct 2025 14:57:10 -0700 (PDT) Message-ID: <68e046b6.d40a0220.fe7ba.b0d5SMTPIN_ADDED_MISSING@mx.google.com> Received: from [172.21.0.2] (unknown [172.18.0.240]) by postal.iol.unh.edu (Postfix) with ESMTP id 0F4E5604D423; Fri, 3 Oct 2025 17:57:10 -0400 (EDT) Subject: |SUCCESS| [GIT MASTER] caa17cb4b057a31ee04067459fe543f7d7ae1079 From: dpdklab@iol.unh.edu To: Test Report Cc: dpdk-test-reports@iol.unh.edu, Akhil Goyal Content-Type: text/plain X-BeenThere: test-report@dpdk.org X-Mailman-Version: 2.1.29 Precedence: list List-Id: automatic DPDK test reports List-Unsubscribe: , List-Archive: List-Post: List-Help: List-Subscribe: , Errors-To: test-report-bounces@dpdk.org _Testing PASS_ Branch: dpdk-next-crypto caa17cb4b057a31ee04067459fe543f7d7ae1079 --> testing pass Upstream job id: Generic-DPDK-Compile-Meson#430668 Test environment and result as below: +---------------------+--------------------+-------------------------+-------------------+------------------+-------------------+----------------------+ | Environment | dpdk_meson_compile | dpdk_llvm_clang_compile | dpdk_msvc_compile | dpdk_compile_ovs | dpdk_compile_spdk | dpdk_mingw64_compile | +=====================+====================+=========================+===================+==================+===================+======================+ | Ubuntu 20.04 | PASS | SKIPPED | SKIPPED | SKIPPED | SKIPPED | SKIPPED | +---------------------+--------------------+-------------------------+-------------------+------------------+-------------------+----------------------+ | FreeBSD 14.2 | PASS | SKIPPED | SKIPPED | SKIPPED | SKIPPED | SKIPPED | +---------------------+--------------------+-------------------------+-------------------+------------------+-------------------+----------------------+ | Fedora Linux 42 | PASS | SKIPPED | SKIPPED | PASS | PASS | SKIPPED | +---------------------+--------------------+-------------------------+-------------------+------------------+-------------------+----------------------+ | CentOS Stream 10 | PASS | SKIPPED | SKIPPED | SKIPPED | SKIPPED | SKIPPED | +---------------------+--------------------+-------------------------+-------------------+------------------+-------------------+----------------------+ | Windows Server 2022 | SKIPPED | PASS | PASS | SKIPPED | SKIPPED | PASS | +---------------------+--------------------+-------------------------+-------------------+------------------+-------------------+----------------------+ Ubuntu 20.04 Kernel: 4.19 Compiler: gcc gcc (Ubuntu 9.4.0-1ubuntu1~20.04.2) 9.4.0 FreeBSD 14.2 Kernel: 14.2-RELEASE Compiler: clang 18.1.6 Fedora Linux 42 Kernel: 5.15 Compiler: gcc gcc (GCC) 15.2.1 20250808 (Red Hat 15.2.1-1) CentOS Stream 10 Kernel: 5.15 Compiler: gcc gcc (GCC) 14.2.1 20250110 (Red Hat 14.2.1-8) Windows Server 2022 Kernel: 10.0.20348.2031 Compiler: clang 15.0.7, gcc 14.1.0 (MinGW), and MSVC VS 19.39.33521 To view detailed results, visit: https://lab.dpdk.org/results/dashboard/tarballs/35079/ UNH-IOL DPDK Community Lab To manage your email subscriptions, visit: https://lab.dpdk.org/results/dashboard/preferences/subscriptions/