From mboxrd@z Thu Jan 1 00:00:00 1970 Return-Path: Received: from mails.dpdk.org (mails.dpdk.org [217.70.189.124]) by inbox.dpdk.org (Postfix) with ESMTP id 112A4488A3 for ; Sat, 4 Oct 2025 00:07:47 +0200 (CEST) Received: from mails.dpdk.org (localhost [127.0.0.1]) by mails.dpdk.org (Postfix) with ESMTP id DD6424025D; Sat, 4 Oct 2025 00:07:46 +0200 (CEST) Received: from mail-pg1-f227.google.com (mail-pg1-f227.google.com [209.85.215.227]) by mails.dpdk.org (Postfix) with ESMTP id F10BA4025D for ; Sat, 4 Oct 2025 00:07:45 +0200 (CEST) Received: by mail-pg1-f227.google.com with SMTP id 41be03b00d2f7-b57bffc0248so1991926a12.0 for ; Fri, 03 Oct 2025 15:07:45 -0700 (PDT) DKIM-Signature: v=1; a=rsa-sha256; c=relaxed/relaxed; d=iol.unh.edu; s=unh-iol; t=1759529265; x=1760134065; darn=dpdk.org; h=references:in-reply-to:cc:to:from:subject:message-id:date:from:to :cc:subject:date:message-id:reply-to; bh=fDhb0/Hw34S6z7HF4Y2y+MczUBlEBQKxx3iqcfUgJaQ=; b=bqYP0Z4w25NIMPJnjKeS+hAXgLlwTVZ5LFleQCv+GSgi96fUaY0lP5ALNkFH8uEh2e Lzd2CH6OGjfm3iEaE2PEqK770lMKyl6G9vQ2354Kgrn8nuFRcCMoD37Jc+NgdsBO7wU2 Oo9hFNYF3INEZBkysj4PRU4Eg6yaGBzfscxfg= X-Google-DKIM-Signature: v=1; a=rsa-sha256; c=relaxed/relaxed; d=1e100.net; s=20230601; t=1759529265; x=1760134065; h=references:in-reply-to:cc:to:from:subject:message-id:date :x-gm-message-state:from:to:cc:subject:date:message-id:reply-to; bh=fDhb0/Hw34S6z7HF4Y2y+MczUBlEBQKxx3iqcfUgJaQ=; b=KOl/I7Hazjl4cUXYPVl/6yy2vjr/QofdLdq/r+O+9peZDRBk13Rb73vb92yEEoU3wy 0+5XWs+4TiHc9ww3dUc/UkrDdYtfULh5LM9jHFXqUpYYvufBPUX2NXc+lK6f9r+0eekw Vt5PeYXPfSNoU9eER6fJxHAbs/lUEV5FMjWiu3zvw78iHW1opbFm24cjkCy6UBSFNj6T 9qeDF3ebuss12aAaZrt+NvTIGNchLaCbexbRqCY3B+GwECUJq7vjlz7GE4wy/4WXzvm4 N7NINfliAsTu5TFhp6xRRRMgYax5vemeR6cl7B7YOwZYhA4q4flxXJqOAghlYsR5wFOp NINg== X-Gm-Message-State: AOJu0YzDwa8orfjDHqU/5eYRekuSzaYftHwUSIQ8F6kywOoYlcrIpfXz 3FrqEm+RHeG+Ku0wEH3H/BnFuEebBGTocKDQptxd4zOmUB9+dLWEN18ycgW5b2KEipqv71rhU/P wGqzRJAXS0z0tdMfSz2aAZYgOL/aYwJuPuS1WV5AqH46A/9EFcHDDSjKoHnrL X-Gm-Gg: ASbGncvbBgwsD2gl9wBwmtHAKrTO2Q5ZSo0m9HjMdNe5G2tK4auCyP+UqRUungJlxhW OQWQRPFOdbJPX4kaPU/HKC4rxzr/YEHQfCJ6d/hKFSTTZeEIR/LgRMVW887VLSNsXrfWT/qLfLi gJRhzKQJAnMDCKaq3BWZ4U3T+DaZbtb3iU3rCN7jvQqcDiEe+A8AqTEQnKyGjZjlak8YDL0iL+X vsggtxMaiOqsJhp/8E5Wa8Ars+L1IB/wkwcx5XVH1Te7C9p/H2qbQCIqra9cPPPx4Y+OsDkqV8I nqTq0MReuUNUG3LGZe9lYiLzRMVxc7fdx6gbLNxDi/NVgpzqYqdmtL8= X-Google-Smtp-Source: AGHT+IHBKatrsbhMOxpaDwF/dkPUI28eIttArp/DlbMXc5YbiC7CurLz2kFIP55bBqRicoxsohLiBovm/c4Z X-Received: by 2002:a17:903:1a0d:b0:267:44e6:11d6 with SMTP id d9443c01a7336-28e99bab52emr55748295ad.6.1759529264919; Fri, 03 Oct 2025 15:07:44 -0700 (PDT) Received: from postal.iol.unh.edu (postal.iol.unh.edu. [2606:4100:3880:1234::84]) by smtp-relay.gmail.com with ESMTPS id d9443c01a7336-28e8d19bba0sm4457885ad.61.2025.10.03.15.07.44 (version=TLS1_2 cipher=ECDHE-ECDSA-AES128-GCM-SHA256 bits=128/128); Fri, 03 Oct 2025 15:07:44 -0700 (PDT) X-Relaying-Domain: iol.unh.edu Date: Fri, 03 Oct 2025 15:07:44 -0700 (PDT) Message-ID: <68e04930.170a0220.3a44b9.acffSMTPIN_ADDED_MISSING@mx.google.com> Received: from [172.21.0.2] (unknown [172.18.0.240]) by postal.iol.unh.edu (Postfix) with ESMTP id 61884604D420; Fri, 3 Oct 2025 18:07:44 -0400 (EDT) Subject: |SUCCESS| pw157272-157273 [PATCH] [v3,4/4] doc: add doc for dictiona From: dpdklab@iol.unh.edu To: Test Report Cc: dpdk-test-reports@iol.unh.edu, Akhil Goyal In-Reply-To: <20251003194901.3375364-4-svaze@qti.qualcomm.com> References: <20251003194901.3375364-4-svaze@qti.qualcomm.com> Content-Type: text/plain X-BeenThere: test-report@dpdk.org X-Mailman-Version: 2.1.29 Precedence: list List-Id: automatic DPDK test reports List-Unsubscribe: , List-Archive: List-Post: List-Help: List-Subscribe: , Errors-To: test-report-bounces@dpdk.org Test-Label: iol-compile-amd64-testing Test-Status: SUCCESS http://dpdk.org/patch/157273 _Testing PASS_ Submitter: Sameer Vaze Date: Friday, October 03 2025 19:49:01 DPDK git baseline: Repo:dpdk-next-crypto Branch: master CommitID:caa17cb4b057a31ee04067459fe543f7d7ae1079 157272-157273 --> testing pass Upstream job id: Generic-DPDK-Compile-Meson#430645 Test environment and result as below: +---------------------+--------------------+-------------------+-------------------------+----------------------+ | Environment | dpdk_meson_compile | dpdk_msvc_compile | dpdk_llvm_clang_compile | dpdk_mingw64_compile | +=====================+====================+===================+=========================+======================+ | Ubuntu 20.04 | PASS | SKIPPED | SKIPPED | SKIPPED | +---------------------+--------------------+-------------------+-------------------------+----------------------+ | FreeBSD 14.2 | PASS | SKIPPED | SKIPPED | SKIPPED | +---------------------+--------------------+-------------------+-------------------------+----------------------+ | Alpine Linux 3.22.0 | PASS | SKIPPED | SKIPPED | SKIPPED | +---------------------+--------------------+-------------------+-------------------------+----------------------+ | Windows Server 2022 | SKIPPED | PASS | PASS | PASS | +---------------------+--------------------+-------------------+-------------------------+----------------------+ Ubuntu 20.04 Kernel: 4.19 Compiler: gcc gcc (Ubuntu 9.4.0-1ubuntu1~20.04.2) 9.4.0 FreeBSD 14.2 Kernel: 14.2-RELEASE Compiler: clang 18.1.6 Alpine Linux 3.22.0 Kernel: 5.15 Compiler: gcc gcc (Alpine 14.2.0) 14.2.0 Windows Server 2022 Kernel: 10.0.20348.2031 Compiler: clang 15.0.7, gcc 14.1.0 (MinGW), and MSVC VS 19.39.33521 To view detailed results, visit: https://lab.dpdk.org/results/dashboard/patchsets/34214/ UNH-IOL DPDK Community Lab To manage your email subscriptions, visit: https://lab.dpdk.org/results/dashboard/preferences/subscriptions/