From mboxrd@z Thu Jan 1 00:00:00 1970 Return-Path: Received: from mails.dpdk.org (mails.dpdk.org [217.70.189.124]) by inbox.dpdk.org (Postfix) with ESMTP id 916BA488A3 for ; Sat, 4 Oct 2025 00:24:53 +0200 (CEST) Received: from mails.dpdk.org (localhost [127.0.0.1]) by mails.dpdk.org (Postfix) with ESMTP id 687334025D; Sat, 4 Oct 2025 00:24:53 +0200 (CEST) Received: from mail-io1-f97.google.com (mail-io1-f97.google.com [209.85.166.97]) by mails.dpdk.org (Postfix) with ESMTP id 62BDC4025D for ; Sat, 4 Oct 2025 00:24:52 +0200 (CEST) Received: by mail-io1-f97.google.com with SMTP id ca18e2360f4ac-9379a062ca8so94427539f.2 for ; Fri, 03 Oct 2025 15:24:52 -0700 (PDT) DKIM-Signature: v=1; a=rsa-sha256; c=relaxed/relaxed; d=iol.unh.edu; s=unh-iol; t=1759530291; x=1760135091; darn=dpdk.org; h=references:in-reply-to:cc:to:from:subject:message-id:date:from:to :cc:subject:date:message-id:reply-to; bh=hvJ2c8NSbUgvqeZSs75u1NeLlgafRFTTGXXcaM8ZXE4=; b=ZIaqcjw01jx5cVXIwk9HaYC7oByyOgD3lGGTQwL9bsomOn7w1NGioWxJmFXFEypLNg iwtwrjsORn/F4EnCYtb4pyFM5ML+KY/Rmkm/rhtObYBKdGfFE+I/nEb7yCuYPYMrl1tb AD5nQMlXn2zcwZv554tF+QFLh462umQydYOFk= X-Google-DKIM-Signature: v=1; a=rsa-sha256; c=relaxed/relaxed; d=1e100.net; s=20230601; t=1759530291; x=1760135091; h=references:in-reply-to:cc:to:from:subject:message-id:date :x-gm-message-state:from:to:cc:subject:date:message-id:reply-to; bh=hvJ2c8NSbUgvqeZSs75u1NeLlgafRFTTGXXcaM8ZXE4=; b=Vj9g6V5e2GKzbKIMTnS1c1qf6prRYgnNQis6S/Sx+QO3jgPSl+UsIBonydEKASBXxI 3fyR/driXNEUHaUJDxScQ6SbQYOOtw1gOfozLd/daxjKqsAXyNm6WiFkDG61nOmnLR+O Z7NNqi05eMYoM7E1LVlF/j2+AapallFbSF8jYw+d6XBbAc7vuGdlReH20rDLCC6c6uPa TQkc05XzIRi6Fa20Zd4RMyGZQ7lhZHLAdIlpbEeySY3XPhJMhl5mZAOf8HwTHEaQpYaT rJAiQgytaO7Z2aBqqUE+6eU0OvzUho/bPkUYSAb99sAS0vnYXV5FLcae90VxkRII1zj7 SYMw== X-Gm-Message-State: AOJu0YyRXbdu2lcSXjEu7Mj2byKDTT6Zqii4zr/FQ4Ik29NxNLuO/YFW d5jg520Qm8HTrddYp1NDlrfHnBd4srUsk/Sw9/7X5Abzq9+HLJQYPyhcgTxNA92OrwHXtActKVy Bv503HcXsP+xNzjwaT0W1eEn/NmwHpOs0o/EFnzxMOErb X-Gm-Gg: ASbGncs0VzdzsT/wU1Zf5/JfmKjZyigDsSqOQdwUC4f1n/f9dg5s9JPndM9a+bR3cW9 ludaVUMXSeOtthR7fIE4QihXuZ6cSiTGbM1G0dLB0GW3fAZ+8WxP5RhMMghX4TNJtF8Cso2LyPR Q7r52JwM1YL0QS1u7uaKKB7u3Z32r2fim9hQVvgU0E2EcqZNHWGzSC/9RNll4Isl7t+SFd0Nn9X hZQovAeGRCn+RtNJUWBaBUi2E1TJRQIi6/GdhxKh8IHqgiarH63t6WY2tTGRcu/gSZxogqixmPZ gg3D/grty0ebfOUfhhfAW+dxkWplWvz94w1WlFSkQG2JPQDQzW8y9Yj5+N5ZBEwlTXDP2NVskzf o+A== X-Google-Smtp-Source: AGHT+IFc/Lkx588TL6iJiTyiI201rq1im5N2cT7h7vUN+ZI1MJS8d5L20KYLNXpo0SWJwNyP9gDhcSQi03bs X-Received: by 2002:a05:6602:601c:b0:8e0:f662:69e6 with SMTP id ca18e2360f4ac-93b96aeb039mr597511239f.11.1759530291694; Fri, 03 Oct 2025 15:24:51 -0700 (PDT) Received: from postal.iol.unh.edu (postal.iol.unh.edu. [132.177.123.84]) by smtp-relay.gmail.com with ESMTPS id 8926c6da1cb9f-57b5eaa41f0sm435148173.9.2025.10.03.15.24.51 (version=TLS1_2 cipher=ECDHE-ECDSA-AES128-GCM-SHA256 bits=128/128); Fri, 03 Oct 2025 15:24:51 -0700 (PDT) X-Relaying-Domain: iol.unh.edu Date: Fri, 03 Oct 2025 15:24:51 -0700 (PDT) Message-ID: <68e04d33.050a0220.176315.a000SMTPIN_ADDED_MISSING@mx.google.com> Received: from [172.21.0.2] (unknown [172.18.0.240]) by postal.iol.unh.edu (Postfix) with ESMTP id 3A11C604D420; Fri, 3 Oct 2025 18:24:51 -0400 (EDT) Subject: |SUCCESS| pw157202-157204 [PATCH] [v4,3/3] dts: add performance test From: dpdklab@iol.unh.edu To: Test Report Cc: dpdk-test-reports@iol.unh.edu In-Reply-To: <20251001231659.2297751-4-probb@iol.unh.edu> References: <20251001231659.2297751-4-probb@iol.unh.edu> Content-Type: text/plain X-BeenThere: test-report@dpdk.org X-Mailman-Version: 2.1.29 Precedence: list List-Id: automatic DPDK test reports List-Unsubscribe: , List-Archive: List-Post: List-Help: List-Subscribe: , Errors-To: test-report-bounces@dpdk.org Test-Label: iol-compile-amd64-testing Test-Status: SUCCESS http://dpdk.org/patch/157204 _Testing PASS_ Submitter: Patrick Robb Date: Wednesday, October 01 2025 23:16:59 DPDK git baseline: Repo:dpdk-next-dts Branch: master CommitID:b71d7bdf2b663f9fedc1d344b81a8cf65518026c 157202-157204 --> testing pass Upstream job id: Generic-DPDK-Compile-Meson#430658 Test environment and result as below: +---------------------+--------------------+-------------------------+-------------------+----------------------+ | Environment | dpdk_meson_compile | dpdk_llvm_clang_compile | dpdk_msvc_compile | dpdk_mingw64_compile | +=====================+====================+=========================+===================+======================+ | Ubuntu 20.04 | PASS | SKIPPED | SKIPPED | SKIPPED | +---------------------+--------------------+-------------------------+-------------------+----------------------+ | FreeBSD 14.2 | PASS | SKIPPED | SKIPPED | SKIPPED | +---------------------+--------------------+-------------------------+-------------------+----------------------+ | Alpine Linux 3.22.0 | PASS | SKIPPED | SKIPPED | SKIPPED | +---------------------+--------------------+-------------------------+-------------------+----------------------+ | openSUSE Leap 15.6 | PASS | SKIPPED | SKIPPED | SKIPPED | +---------------------+--------------------+-------------------------+-------------------+----------------------+ | Windows Server 2022 | SKIPPED | PASS | PASS | PASS | +---------------------+--------------------+-------------------------+-------------------+----------------------+ Ubuntu 20.04 Kernel: 4.19 Compiler: gcc gcc (Ubuntu 9.4.0-1ubuntu1~20.04.2) 9.4.0 FreeBSD 14.2 Kernel: 14.2-RELEASE Compiler: clang 18.1.6 Alpine Linux 3.22.0 Kernel: 5.15 Compiler: gcc gcc (Alpine 14.2.0) 14.2.0 openSUSE Leap 15.6 Kernel: 5.15 Compiler: gcc gcc (SUSE Linux) 7.5.0 Windows Server 2022 Kernel: 10.0.20348.2031 Compiler: clang 15.0.7, gcc 14.1.0 (MinGW), and MSVC VS 19.39.33521 To view detailed results, visit: https://lab.dpdk.org/results/dashboard/patchsets/34197/ UNH-IOL DPDK Community Lab To manage your email subscriptions, visit: https://lab.dpdk.org/results/dashboard/preferences/subscriptions/