From mboxrd@z Thu Jan 1 00:00:00 1970 Return-Path: Received: from mails.dpdk.org (mails.dpdk.org [217.70.189.124]) by inbox.dpdk.org (Postfix) with ESMTP id B7F35488A3 for ; Sat, 4 Oct 2025 00:27:27 +0200 (CEST) Received: from mails.dpdk.org (localhost [127.0.0.1]) by mails.dpdk.org (Postfix) with ESMTP id B1C074025D; Sat, 4 Oct 2025 00:27:27 +0200 (CEST) Received: from mail-qk1-f225.google.com (mail-qk1-f225.google.com [209.85.222.225]) by mails.dpdk.org (Postfix) with ESMTP id C1D3E4025D for ; Sat, 4 Oct 2025 00:27:26 +0200 (CEST) Received: by mail-qk1-f225.google.com with SMTP id af79cd13be357-84827ef386aso207526285a.0 for ; Fri, 03 Oct 2025 15:27:26 -0700 (PDT) DKIM-Signature: v=1; a=rsa-sha256; c=relaxed/relaxed; d=iol.unh.edu; s=unh-iol; t=1759530446; x=1760135246; darn=dpdk.org; h=references:in-reply-to:cc:to:from:subject:message-id:date:from:to :cc:subject:date:message-id:reply-to; bh=l0ojqqLdqdoX1c+xy30S0bZmTZhQ4el9YItCHVBb01k=; b=f64HSwbTKPlcuVRaiFclOdDPsEOvLXxSWXfe4X3xNeWi5a7hAg5DMJqOpRqe0FvVO/ ZKHxQfY8KLrGNEYVxUL1UmzVcmyepmORNhJshpY8HtL440eqY35Cywu9b3i/IFGo0+/g b/E/l0lBaAUra9lobLt4lLnt7MVPT4+T5KSos= X-Google-DKIM-Signature: v=1; a=rsa-sha256; c=relaxed/relaxed; d=1e100.net; s=20230601; t=1759530446; x=1760135246; h=references:in-reply-to:cc:to:from:subject:message-id:date :x-gm-message-state:from:to:cc:subject:date:message-id:reply-to; bh=l0ojqqLdqdoX1c+xy30S0bZmTZhQ4el9YItCHVBb01k=; b=WU97oZGW+kbAUIoUoSgdnyME3VAsobCoFsazqKKHpHL/axd8X1BiXdjgMGxMpzaHCV izNG8wiga8fSKNvzyHeeUycCVIOnRdkinfZbyutOsJ/PDU2ng060BpvKwnur9mST6H/r AYlM2+vqaYcGyID9RTm984rO+2jgb+ZqWeSPtYiHE1i/coygbuNzRerS54PDmoEYwhYi zA16uxcSMTsH1ZdCQ40+v4RftUWX0K9JM+RhVyqUbqnCj/ote/ZYz/zSg5Zv2o0qjF7b sLyEXiNN/tpLRyonRXn4/YZ/DKSyCIU0YCv5Bq1Aceo4oLCw/lVdThq99RJCOcm2SOY+ DOyQ== X-Gm-Message-State: AOJu0YwnBrXCO/H/j2auY1FXjNb10+xXuPGlr/l9hUnLVlXdg8PEL27f +tWrh8uIVPqlz1OGBDBMkyTypJ3TQSFmsTUksjenpKmk3hts6UInlCTpM/e20hzC6aBJXmXoHDQ RUnyPaZkthmvMOhDYvlJPNqI5ZZKK/CdEZ0BIZSoIb7ly X-Gm-Gg: ASbGnct6bjYSnMqovAU7QCQkHZWVi4IrkCizxaeuHEGHReFTW5f1NuADx5FDz8oDksG ooQgS/rYu5mGqzrMXa3E1h1sM/6Sx2hi6mEyyhDloosAVYFgwV7/8GKleDl3exN6szEud3FfeRz 9CzATuycKUwKlitbvJi/fJ9lI1gEj8PuUXB5DWd/puWHw/KxH+8zDTwUOLs6fSNm73+G6aNElho A95cTwFAreX9iUUgwmeRd+IqvOZAiVdCaporAAcknfSdXcd1Cqj2Bb+bZVFnB96aWRFVcmqYNl0 CK/LB0V+vP7jjrwL7cNYCayyOH1Zg2U+J9KgiwhDOgp/trsBs5K4gPC/KRZ1ceD0Qb91penQ2We Msw== X-Google-Smtp-Source: AGHT+IE7qsWIr1zQpYPpMhhzG8RmXWsCd7b/b2N2oYkzgvP0M9XZaAaMs1rUqaetDtEfmuaJtICn1ITepiCX X-Received: by 2002:a05:620a:26a9:b0:86e:5d59:1d23 with SMTP id af79cd13be357-87a38759168mr594976685a.79.1759530446008; Fri, 03 Oct 2025 15:27:26 -0700 (PDT) Received: from postal.iol.unh.edu (postal.iol.unh.edu. [132.177.123.84]) by smtp-relay.gmail.com with ESMTPS id 6a1803df08f44-878bda73485sm4244676d6.20.2025.10.03.15.27.25 (version=TLS1_2 cipher=ECDHE-ECDSA-AES128-GCM-SHA256 bits=128/128); Fri, 03 Oct 2025 15:27:26 -0700 (PDT) X-Relaying-Domain: iol.unh.edu Date: Fri, 03 Oct 2025 15:27:26 -0700 (PDT) Message-ID: <68e04dce.050a0220.384592.9ef6SMTPIN_ADDED_MISSING@mx.google.com> Received: from [172.21.0.2] (unknown [172.18.0.240]) by postal.iol.unh.edu (Postfix) with ESMTP id BEFF26051830; Fri, 3 Oct 2025 18:27:25 -0400 (EDT) Subject: |SUCCESS| pw157156-157164 [PATCH] [v7,9/9] power: separate public an From: dpdklab@iol.unh.edu To: Test Report Cc: dpdk-test-reports@iol.unh.edu In-Reply-To: <20251001064512.2539269-10-david.marchand@redhat.com> References: <20251001064512.2539269-10-david.marchand@redhat.com> Content-Type: text/plain X-BeenThere: test-report@dpdk.org X-Mailman-Version: 2.1.29 Precedence: list List-Id: automatic DPDK test reports List-Unsubscribe: , List-Archive: List-Post: List-Help: List-Subscribe: , Errors-To: test-report-bounces@dpdk.org Test-Label: iol-compile-amd64-testing Test-Status: SUCCESS http://dpdk.org/patch/157164 _Testing PASS_ Submitter: David Marchand Date: Wednesday, October 01 2025 06:45:11 DPDK git baseline: Repo:dpdk Branch: master CommitID:f3878b615e69a12087a6c5d212723478cfc79c31 157156-157164 --> testing pass Upstream job id: Generic-DPDK-Compile-Meson#430652 Test environment and result as below: +-------------------------------+-------------------------+--------------------+-------------------+----------------------+-------------------+------------------+ | Environment | dpdk_llvm_clang_compile | dpdk_meson_compile | dpdk_msvc_compile | dpdk_mingw64_compile | dpdk_compile_spdk | dpdk_compile_ovs | +===============================+=========================+====================+===================+======================+===================+==================+ | Windows Server 2022 | PASS | SKIPPED | PASS | PASS | SKIPPED | SKIPPED | +-------------------------------+-------------------------+--------------------+-------------------+----------------------+-------------------+------------------+ | Ubuntu 20.04 | SKIPPED | PASS | SKIPPED | SKIPPED | SKIPPED | SKIPPED | +-------------------------------+-------------------------+--------------------+-------------------+----------------------+-------------------+------------------+ | FreeBSD 14.2 | SKIPPED | PASS | SKIPPED | SKIPPED | SKIPPED | SKIPPED | +-------------------------------+-------------------------+--------------------+-------------------+----------------------+-------------------+------------------+ | CentOS Stream 9 | SKIPPED | PASS | SKIPPED | SKIPPED | PASS | SKIPPED | +-------------------------------+-------------------------+--------------------+-------------------+----------------------+-------------------+------------------+ | CentOS Stream 10 | SKIPPED | PASS | SKIPPED | SKIPPED | SKIPPED | SKIPPED | +-------------------------------+-------------------------+--------------------+-------------------+----------------------+-------------------+------------------+ | Debian GNU/Linux 12 | SKIPPED | PASS | SKIPPED | SKIPPED | PASS | SKIPPED | +-------------------------------+-------------------------+--------------------+-------------------+----------------------+-------------------+------------------+ | Fedora Linux 42 | SKIPPED | PASS | SKIPPED | SKIPPED | PASS | PASS | +-------------------------------+-------------------------+--------------------+-------------------+----------------------+-------------------+------------------+ | openSUSE Leap 15.6 | SKIPPED | PASS | SKIPPED | SKIPPED | SKIPPED | SKIPPED | +-------------------------------+-------------------------+--------------------+-------------------+----------------------+-------------------+------------------+ | Red Hat Enterprise Linux 8.10 | SKIPPED | PASS | SKIPPED | SKIPPED | SKIPPED | SKIPPED | +-------------------------------+-------------------------+--------------------+-------------------+----------------------+-------------------+------------------+ | Red Hat Enterprise Linux 9.5 | SKIPPED | PASS | SKIPPED | SKIPPED | SKIPPED | SKIPPED | +-------------------------------+-------------------------+--------------------+-------------------+----------------------+-------------------+------------------+ | Ubuntu 22.04 | SKIPPED | PASS | SKIPPED | SKIPPED | PASS | SKIPPED | +-------------------------------+-------------------------+--------------------+-------------------+----------------------+-------------------+------------------+ | Ubuntu 24.04 | SKIPPED | PASS | SKIPPED | SKIPPED | PASS | PASS | +-------------------------------+-------------------------+--------------------+-------------------+----------------------+-------------------+------------------+ | Alpine Linux 3.22.0 | SKIPPED | PASS | SKIPPED | SKIPPED | SKIPPED | SKIPPED | +-------------------------------+-------------------------+--------------------+-------------------+----------------------+-------------------+------------------+ Windows Server 2022 Kernel: 10.0.20348.2031 Compiler: clang 15.0.7, gcc 14.1.0 (MinGW), and MSVC VS 19.39.33521 Ubuntu 20.04 Kernel: 4.19 Compiler: gcc gcc (Ubuntu 9.4.0-1ubuntu1~20.04.2) 9.4.0 FreeBSD 14.2 Kernel: 14.2-RELEASE Compiler: clang 18.1.6 CentOS Stream 9 Kernel: 5.15 Compiler: gcc gcc (GCC) 11.5.0 20240719 (Red Hat 11.5.0-11) CentOS Stream 10 Kernel: 5.15 Compiler: gcc gcc (GCC) 14.2.1 20250110 (Red Hat 14.2.1-8) Debian GNU/Linux 12 Kernel: 5.15 Compiler: gcc gcc (Debian 12.2.0-14+deb12u1) 12.2.0 Fedora Linux 42 Kernel: 5.15 Compiler: clang gcc (GCC) 15.2.1 20250808 (Red Hat 15.2.1-1) openSUSE Leap 15.6 Kernel: 5.15 Compiler: gcc gcc (SUSE Linux) 7.5.0 Red Hat Enterprise Linux 8.10 Kernel: 5.15 Compiler: gcc gcc (GCC) 8.5.0 20210514 (Red Hat 8.5.0-22) Red Hat Enterprise Linux 9.5 Kernel: 5.15 Compiler: gcc gcc (GCC) 11.5.0 20240719 (Red Hat 11.5.0-2) Ubuntu 22.04 Kernel: 5.15 Compiler: gcc gcc (Ubuntu 11.4.0-1ubuntu1~22.04) 11.4.0 Ubuntu 24.04 Kernel: 5.15 Compiler: gcc gcc (Ubuntu 13.3.0-6ubuntu2~24.04) 13.3.0 Alpine Linux 3.22.0 Kernel: 5.15 Compiler: gcc gcc (Alpine 14.2.0) 14.2.0 To view detailed results, visit: https://lab.dpdk.org/results/dashboard/patchsets/34188/ UNH-IOL DPDK Community Lab To manage your email subscriptions, visit: https://lab.dpdk.org/results/dashboard/preferences/subscriptions/