From mboxrd@z Thu Jan 1 00:00:00 1970 Return-Path: Received: from mails.dpdk.org (mails.dpdk.org [217.70.189.124]) by inbox.dpdk.org (Postfix) with ESMTP id 1F514488A3 for ; Sat, 4 Oct 2025 00:29:14 +0200 (CEST) Received: from mails.dpdk.org (localhost [127.0.0.1]) by mails.dpdk.org (Postfix) with ESMTP id E4BAB4025D; Sat, 4 Oct 2025 00:29:13 +0200 (CEST) Received: from mail-il1-f227.google.com (mail-il1-f227.google.com [209.85.166.227]) by mails.dpdk.org (Postfix) with ESMTP id 782C14025D for ; Sat, 4 Oct 2025 00:29:12 +0200 (CEST) Received: by mail-il1-f227.google.com with SMTP id e9e14a558f8ab-42e70fdfb8dso21505665ab.2 for ; Fri, 03 Oct 2025 15:29:12 -0700 (PDT) DKIM-Signature: v=1; a=rsa-sha256; c=relaxed/relaxed; d=iol.unh.edu; s=unh-iol; t=1759530552; x=1760135352; darn=dpdk.org; h=cc:to:from:subject:message-id:date:from:to:cc:subject:date :message-id:reply-to; bh=KOpfoMHpsmKTsS2VJON7NxOuYA+Qp2+PDtYgwA7ikN4=; b=iPMFV3MkVft7iPpd+UTfxxs9KSbToB/7GHevATzfQDdSlHoY0m8rziCEy4yxpvgsKx MN+o8RghzdzgAPIc87kctAVWXL72oaP1GuViB+xZCf4VtnU/VJpMoyO02rN4y7L8c2fe pnHvj/XPXn36mdU39TxkAbTvLrO9aZ0UGAi7A= X-Google-DKIM-Signature: v=1; a=rsa-sha256; c=relaxed/relaxed; d=1e100.net; s=20230601; t=1759530552; x=1760135352; h=cc:to:from:subject:message-id:date:x-gm-message-state:from:to:cc :subject:date:message-id:reply-to; bh=KOpfoMHpsmKTsS2VJON7NxOuYA+Qp2+PDtYgwA7ikN4=; b=WTFIpQ1ZLSXAdetOzWCfLNf0pw43YmfSgQjOAv7qvyrYEFD/PQdfqx4fN5jRbkvUjZ daOBnIRpZOmk6GUBaHByYpqXR4cusGMQ9gOSCdFqpjOVUAn9cnRvvfvZG8/0Zc2tqt8h Max0mmKby9IgZpCfgFRxmTMalyIewSYraAwysFCOsDRFFkqYDl1fcbQMIONLPrTmBdfJ NoQ7t13I9XFcdnv+S78uF4FLZEXyFXzTnL4dD+hujzIY8+nsNPjtfqu0/g+iE6YzL3iq 1Ioca60wv8CsFWgD0oBdDoJrFnIqsKkaAQq8LcU0jJ64MXGIr7f/M23iXNIiod3TjV2U gywg== X-Gm-Message-State: AOJu0YwX87taPzAEXdPH3gD0jWgEerOvwYFXordQwOzcH9FbrmcFfFAk sB6fxbk6tBishbBEWqkDbYA3tw+nTt8P/tkFQWGcKPvj2oJo5W2QAtQoPyVdKnTwNVSwn1bAqhf 8cfKbawRru4PRHSkqhv8oBCiYa9HQMO1fby3s X-Gm-Gg: ASbGnctVtLY/6qdPSuNqAEHvZhpfC6Y9vQLhsnojS3hEME5d+6sGyMZGTsAPqGDzFXi soTYt0AMjBf46kMMA1Aah9zve5+NuEFYOXtEzIrFeL0JSY0YeEUNtiT0rMVqjT6YJhCRBcV77Cj Gofp83clJ/OLnI5VdKSE39Rf9PvxajKpKx/CZeuXv8/OhjHkcj3aZHXMvnUW79Z3QjT+5SN/eXG ne+uPmcMKQPNRtDSFkRII0x0RIRx8MrUPoiqhjepvvH/95nDfPv/Mam4m4tscgxaT0N5HUU9gFt HDBcdK104UcMIGjRjfuV8kXFDQ6/9UESRpuCmDVzqyu73I4zDCMGjKZIJCANhqL2LyBQG3SIFQE dJA== X-Google-Smtp-Source: AGHT+IGU+oEHFsSgENuEGSr9eXGgPbA84oiYJgmO2MnGATdDsadChdmyDuyhj5rFS0SvIEUMs+vHz7pPyOp8 X-Received: by 2002:a05:6e02:198a:b0:424:8b1a:9326 with SMTP id e9e14a558f8ab-42e7ad97443mr71829665ab.21.1759530551748; Fri, 03 Oct 2025 15:29:11 -0700 (PDT) Received: from postal.iol.unh.edu (postal.iol.unh.edu. [132.177.123.84]) by smtp-relay.gmail.com with ESMTPS id e9e14a558f8ab-42d8b212143sm4458605ab.15.2025.10.03.15.29.11 (version=TLS1_2 cipher=ECDHE-ECDSA-AES128-GCM-SHA256 bits=128/128); Fri, 03 Oct 2025 15:29:11 -0700 (PDT) X-Relaying-Domain: iol.unh.edu Date: Fri, 03 Oct 2025 15:29:11 -0700 (PDT) Message-ID: <68e04e37.920a0220.30fce6.bdf0SMTPIN_ADDED_MISSING@mx.google.com> Received: from [172.21.0.2] (unknown [172.18.0.240]) by postal.iol.unh.edu (Postfix) with ESMTP id 470B26051830; Fri, 3 Oct 2025 18:29:11 -0400 (EDT) Subject: |SUCCESS| [GIT MASTER] b287e404643aeab5bb5db084c142789df187844e From: dpdklab@iol.unh.edu To: Test Report Cc: dpdk-test-reports@iol.unh.edu, Xueming Li , Christian Ehrhardt , Kevin Traynor , Luca Boccassi Content-Type: text/plain X-BeenThere: test-report@dpdk.org X-Mailman-Version: 2.1.29 Precedence: list List-Id: automatic DPDK test reports List-Unsubscribe: , List-Archive: List-Post: List-Help: List-Subscribe: , Errors-To: test-report-bounces@dpdk.org _Testing PASS_ Branch: tags/v24.11 b287e404643aeab5bb5db084c142789df187844e --> testing pass Upstream job id: Generic-DPDK-Compile-Meson#430646 Test environment and result as below: +-------------------------------+--------------------+-------------------+-------------------------+----------------------+------------------+-------------------+ | Environment | dpdk_meson_compile | dpdk_msvc_compile | dpdk_llvm_clang_compile | dpdk_mingw64_compile | dpdk_compile_ovs | dpdk_compile_spdk | +===============================+====================+===================+=========================+======================+==================+===================+ | Ubuntu 20.04 | PASS | SKIPPED | SKIPPED | SKIPPED | SKIPPED | SKIPPED | +-------------------------------+--------------------+-------------------+-------------------------+----------------------+------------------+-------------------+ | FreeBSD 14.2 | PASS | SKIPPED | SKIPPED | SKIPPED | SKIPPED | SKIPPED | +-------------------------------+--------------------+-------------------+-------------------------+----------------------+------------------+-------------------+ | CentOS Stream 10 | PASS | SKIPPED | SKIPPED | SKIPPED | SKIPPED | SKIPPED | +-------------------------------+--------------------+-------------------+-------------------------+----------------------+------------------+-------------------+ | Fedora Linux 42 | PASS | SKIPPED | SKIPPED | SKIPPED | PASS | PASS | +-------------------------------+--------------------+-------------------+-------------------------+----------------------+------------------+-------------------+ | Debian GNU/Linux 12 | PASS | SKIPPED | SKIPPED | SKIPPED | SKIPPED | PASS | +-------------------------------+--------------------+-------------------+-------------------------+----------------------+------------------+-------------------+ | CentOS Stream 9 | PASS | SKIPPED | SKIPPED | SKIPPED | SKIPPED | PASS | +-------------------------------+--------------------+-------------------+-------------------------+----------------------+------------------+-------------------+ | openSUSE Leap 15.6 | PASS | SKIPPED | SKIPPED | SKIPPED | SKIPPED | SKIPPED | +-------------------------------+--------------------+-------------------+-------------------------+----------------------+------------------+-------------------+ | Red Hat Enterprise Linux 8.10 | PASS | SKIPPED | SKIPPED | SKIPPED | SKIPPED | SKIPPED | +-------------------------------+--------------------+-------------------+-------------------------+----------------------+------------------+-------------------+ | Red Hat Enterprise Linux 9.5 | PASS | SKIPPED | SKIPPED | SKIPPED | SKIPPED | SKIPPED | +-------------------------------+--------------------+-------------------+-------------------------+----------------------+------------------+-------------------+ | Ubuntu 22.04 | PASS | SKIPPED | SKIPPED | SKIPPED | SKIPPED | PASS | +-------------------------------+--------------------+-------------------+-------------------------+----------------------+------------------+-------------------+ | Ubuntu 24.04 | PASS | SKIPPED | SKIPPED | SKIPPED | PASS | PASS | +-------------------------------+--------------------+-------------------+-------------------------+----------------------+------------------+-------------------+ | Alpine Linux 3.22.0 | PASS | SKIPPED | SKIPPED | SKIPPED | SKIPPED | SKIPPED | +-------------------------------+--------------------+-------------------+-------------------------+----------------------+------------------+-------------------+ | Windows Server 2022 | SKIPPED | PASS | PASS | PASS | SKIPPED | SKIPPED | +-------------------------------+--------------------+-------------------+-------------------------+----------------------+------------------+-------------------+ Ubuntu 20.04 Kernel: 4.19 Compiler: gcc gcc (Ubuntu 9.4.0-1ubuntu1~20.04.2) 9.4.0 FreeBSD 14.2 Kernel: 14.2-RELEASE Compiler: clang 18.1.6 CentOS Stream 10 Kernel: 5.15 Compiler: gcc gcc (GCC) 14.2.1 20250110 (Red Hat 14.2.1-8) Fedora Linux 42 Kernel: 5.15 Compiler: clang gcc (GCC) 15.2.1 20250808 (Red Hat 15.2.1-1) Debian GNU/Linux 12 Kernel: 5.15 Compiler: gcc gcc (Debian 12.2.0-14+deb12u1) 12.2.0 CentOS Stream 9 Kernel: 5.15 Compiler: gcc gcc (GCC) 11.5.0 20240719 (Red Hat 11.5.0-11) openSUSE Leap 15.6 Kernel: 5.15 Compiler: gcc gcc (SUSE Linux) 7.5.0 Red Hat Enterprise Linux 8.10 Kernel: 5.15 Compiler: gcc gcc (GCC) 8.5.0 20210514 (Red Hat 8.5.0-22) Red Hat Enterprise Linux 9.5 Kernel: 5.15 Compiler: gcc gcc (GCC) 11.5.0 20240719 (Red Hat 11.5.0-2) Ubuntu 22.04 Kernel: 5.15 Compiler: gcc gcc (Ubuntu 11.4.0-1ubuntu1~22.04) 11.4.0 Ubuntu 24.04 Kernel: 5.15 Compiler: gcc gcc (Ubuntu 13.3.0-6ubuntu2~24.04) 13.3.0 Alpine Linux 3.22.0 Kernel: 5.15 Compiler: gcc gcc (Alpine 14.2.0) 14.2.0 Windows Server 2022 Kernel: 10.0.20348.2031 Compiler: clang 15.0.7, gcc 14.1.0 (MinGW), and MSVC VS 19.39.33521 To view detailed results, visit: https://lab.dpdk.org/results/dashboard/tarballs/35069/ UNH-IOL DPDK Community Lab To manage your email subscriptions, visit: https://lab.dpdk.org/results/dashboard/preferences/subscriptions/